{"text_format":"1","workbook":"xlsx","n_sheets":8,"sheets":["Vrsta_analize","POCETAK","UNOS_PODATAKA","REZIME","GODINA","Program kontrole","Laboratorije","Vrijeme"],"not_rendered":{"charts":0,"images":0,"macros":1,"external_links":0,"defined_names":14,"comments":0,"pivot_tables":0},"unopened":[],"bounds":{"document_bytes":16777216,"sheet_cells":100000,"rows_first":2000,"rows_last":500,"rows_between":2000,"halvings":0,"cell_chars":16384,"cell_head_chars":4096},"cells_cut":0,"cells_raw":0,"read":"whole","date_system":"1900"}

{"sheet":"Vrsta_analize","index":0,"n_rows":3,"n_cols":2,"rows_kept":3,"cut":false,"hidden":true,"merged":[]}
[]
[null,"Fizičko-hemijske analize"]
[null,"Mikrobiološke analize"]

{"sheet":"POCETAK","index":1,"n_rows":6,"n_cols":2,"rows_kept":6,"cut":false,"hidden":false,"merged":[]}
[null,"Vrsta analiza"]
[null,"Godina Izvještavanja"]
[null,"Vrsta uzorka"]
[null,"Laboratorija"]
[null,"Vrsta izvještaja"]
[null,"Izvještajni period"]

{"sheet":"UNOS_PODATAKA","index":2,"n_rows":1161,"n_cols":36,"rows_kept":1161,"cut":false,"hidden":false,"merged":[]}
[null,null,"UKUPNO ",null,"Listeria monocytogenes",null,"Salmonella spp.",null,"Escherichia coli ",null,"Aerobne mezofilne bakterije",null,"Enterobacteriaceae",null,"Sulfitreducirajuće klostridije",null,"Koagulaza pozitivni stafilokoki\n",null,"Kvasci i plijesni",null,"Campylobacter spp.",null,"Cronobacter spp. (Enterobacter sakazaki)",null,"Bacillus cereus",null,"Enterococcus spp.",null,"Histamin",null,"Stafilokokni enterotoksini",null,"Virusi",null,"Ostalo"]
["BROJ","KATEGORIJE HRANE","Broj pregledanih uzoraka","Broj uzoraka sa nezadovoljavajućim rezultatima","Ukupno","Neodgovara","Ukupno","Neodgovara","Ukupno","Neodgovara","Ukupno","Neodgovara","Ukupno","Neodgovara","Ukupno","Neodgovara","Ukupno","Neodgovara","Ukupno","Neodgovara","Ukupno","Neodgovara","Ukupno","Neodgovara","Ukupno","Neodgovara","Ukupno","Neodgovara","Ukupno","Neodgovara","Ukupno","Neodgovara","Ukupno","Neodgovara","Ukupno","Neodgovara"]
["1","ŽITARICE I NJIHOVI PRIMARNI PROIZVODI                                                   ",{"$f":"C4+C17","v":0},{"$f":"D4+D17","v":0},0,0,0,0,{"$f":"I4+I17","v":0},0,0,0,0,0,0,0,0,0,0,0,0,0,0,0,0,0,0,0,{"$f":"AC4+AC17","v":0},{"$f":"AD4+AD17","v":0},{"$f":"AE4+AE17","v":0},{"$f":"AF4+AF17","v":0},0,0,0,0]
["1.1","Žitarice u zrnu",{"$f":"C5+C6+C7+C8+C9+C10+C11+C12+C13+C14+C15+C16","v":0},{"$f":"D5+D6+D7+D8+D9+D10+D11+D12+D13+D14+D15+D16","v":0},0,0,0,0,{"$f":"I5+I6+I7+I8+I9+I10+I11+I12+I13+I14+I15+I16","v":0},0,0,0,0,0,0,0,0,0,0,0,0,0,0,0,0,0,0,0,{"$f":"AC5+AC6+AC7+AC8+AC9+AC10+AC11+AC12+AC13+AC14+AC15+AC16","v":0},{"$f":"AD5+AD6+AD7+AD8+AD9+AD10+AD11+AD12+AD13+AD14+AD15+AD16","v":0},{"$f":"AE5+AE6+AE7+AE8+AE9+AE10+AE11+AE12+AE13+AE14+AE15+AE16","v":0},{"$f":"AF5+AF6+AF7+AF8+AF9+AF10+AF11+AF12+AF13+AF14+AF15+AF16","v":0},0,0,0,0]
["1.1.1","Mješavina žitarica"]
["1.1.2","Ječam "]
["1.1.3","Heljda"]
["1.1.4","Kukuruz"]
["1.1.5","Proso"]
["1.1.6","Raž"]
["1.1.7","Zob"]
["1.1.8","Riža"]
["1.1.9","Sirak"]
["1.1.10","Pšenica"]
["1.1.11","Tritikale "]
["1.1.12","Ostale žitarice"]
["1.2","Proizvodi od žitarica",{"$f":"C18+C24+C27","v":0},{"$f":"D18+D24+D27","v":0},0,0,0,0,{"$f":"I18+I24+I27","v":0},0,0,0,0,0,0,0,0,0,0,0,0,0,0,0,0,0,0,0,{"$f":"AC18+AC24+AC27","v":0},{"$f":"AD18+AD24+AD27","v":0},{"$f":"AE18+AE24+AE27","v":0},{"$f":"AF18+AF24+AF27","v":0},0,0,0,0]
["1.2.1","Mlinski proizvodi",{"$f":"C23+C22+C21+C20+C19","v":0},{"$f":"D23+D22+D21+D20+D19","v":0},0,0,0,0,{"$f":"I23+I22+I21+I20+I19","v":0},0,0,0,0,0,0,0,0,0,0,0,0,0,0,0,0,0,0,0,{"$f":"AC23+AC22+AC21+AC20+AC19","v":0},{"$f":"AD23+AD22+AD21+AD20+AD19","v":0},{"$f":"AE23+AE22+AE21+AE20+AE19","v":0},{"$f":"AF23+AF22+AF21+AF20+AF19","v":0},0,0,0,0]
["1.2.1.1","Prekrupa"]
["1.2.1.2","Griz"]
["1.2.1.3","Brašno"]
["1.2.1.4","Mekinje za ljudsku ishranu"]
["1.2.1.5","Prekrupa i brašno iz cjelog zrna"]
["1.2.2","Oljuštene žitarice",{"$f":"C25+C26","v":0},{"$f":"D25+D26","v":0},0,0,0,0,{"$f":"I25+I26","v":0},0,0,0,0,0,0,0,0,0,0,0,0,0,0,0,0,0,0,0,{"$f":"AC25+AC26","v":0},{"$f":"AD25+AD26","v":0},{"$f":"AE25+AE26","v":0},{"$f":"AF25+AF26","v":0},0,0,0,0]
["1.2.2.1","Oljuštena riža"]
["1.2.2.2","Druge oljuštene žitarice"]
["1.2.3","Gotovi proizvodi od žitarica",{"$f":"C28+C29+C30+C31+C32","v":0},{"$f":"D28+D29+D30+D31+D32","v":0},0,0,0,0,{"$f":"I28+I29+I30+I31+I32","v":0},0,0,0,0,0,0,0,0,0,0,0,0,0,0,0,0,0,0,0,{"$f":"AC28+AC29+AC30+AC31+AC32","v":0},{"$f":"AD28+AD29+AD30+AD31+AD32","v":0},{"$f":"AE28+AE29+AE30+AE31+AE32","v":0},{"$f":"AF28+AF29+AF30+AF31+AF32","v":0},0,0,0,0]
["1.2.3.1","Instant oljuštene žitarice (žitne kaše)"]
["1.2.3.2","Instant mlinski proizvodi"]
["1.2.3.3","Žitne pahuljice"]
["1.2.3.4","Musli proizvodi"]
["1.2.3.5","Estrudirani i ekspandirani proizvodi osim flipsa i snek proizvoda"]
[2,"TJESTO ŽITARICA I PROIZVODI NA NJEGOVOJ BAZI",{"$f":"C34+C38+C51","v":0},0,0,0,0,0,{"$f":"I34+I38+I51","v":0},0,0,0,0,0,0,0,0,0,0,0,0,0,0,0,0,0,0,0,{"$f":"AC34+AC38+AC51","v":0},{"$f":"AD34+AD38+AD51","v":0},{"$f":"AE34+AE38+AE51","v":0},{"$f":"AF34+AF38+AF51","v":0},0,0,0,0]
["2.1","Tjestenine i slični proizvodi",{"$f":"C35+C36+C37","v":0},{"$f":"D35+D36+D37","v":0},0,0,0,0,{"$f":"I35+I36+I37","v":0},0,0,0,0,0,0,0,0,0,0,0,0,0,0,0,0,0,0,0,{"$f":"AC35+AC36+AC37","v":0},{"$f":"AD35+AD36+AD37","v":0},{"$f":"AE35+AE36+AE37","v":0},{"$f":"AF35+AF36+AF37","v":0},0,0,0,0]
["2.1.1","Tjesetenina, obična (ne punjena)"]
["2.1.2","Punjena (nadjevena) tjestenina"]
["2.1.3","Proizvodi slični tjestenini"]
["2.2","Tjesta i slični proizvodi",{"$f":"C39","v":0},{"$f":"D39","v":0},0,0,0,0,{"$f":"I39","v":0},0,0,0,0,0,0,0,0,0,0,0,0,0,0,0,0,0,0,0,{"$f":"AC39","v":0},{"$f":"AD39","v":0},{"$f":"AE39","v":0},{"$f":"AF39","v":0},0,0,0,0]
["2.2.1","Sirovo tjesto i smjese",{"$f":"C40+C41+C42+C43+C44+C45+C46+C47+C48+C49+C50","v":0},{"$f":"D40+D41+D42+D43+D44+D45+D46+D47+D48+D49+D50","v":0},0,0,0,0,{"$f":"I40+I41+I42+I43+I44+I45+I46+I47+I48+I49+I50","v":0},0,0,0,0,0,0,0,0,0,0,0,0,0,0,0,0,0,0,0,{"$f":"AC40+AC41+AC42+AC43+AC44+AC45+AC46+AC47+AC48+AC49+AC50","v":0},{"$f":"AD40+AD41+AD42+AD43+AD44+AD45+AD46+AD47+AD48+AD49+AD50","v":0},{"$f":"AE40+AE41+AE42+AE43+AE44+AE45+AE46+AE47+AE48+AE49+AE50","v":0},{"$f":"AF40+AF41+AF42+AF43+AF44+AF45+AF46+AF47+AF48+AF49+AF50","v":0},0,0,0,0]
["2.2.1.1","Kvasno tjesto za hljeb"]
["2.2.1.2","Kvasno slatko tjesto "]
["2.2.1.3","Hemijski dizano tjesto"]
["2.2.1.4","Nekvasno tjesto (vafle)"]
["2.2.1.5","Prhko tjesto"]
["2.2.1.6","Prhko tjesto za slatka peciva"]
["2.2.1.7","Choux pastry tjesto"]
["2.2.1.8","Smjesa za kolače "]
["2.2.1.9","Laminirano tjesto (lisnato tjesto)"]
["2.2.1.10","Vučeno tjesto (\"jufke\")"]
["2.2.1.11","Ostale vrste tjesta"]
["2.3","Pekarski proizvodi",{"$f":"C52+C59","v":0},{"$f":"D52+D59","v":0},0,0,0,0,{"$f":"I52+I59","v":0},0,0,0,0,0,0,0,0,0,0,0,0,0,0,0,0,0,0,0,{"$f":"AC52+AC59","v":0},{"$f":"AD52+AD59","v":0},{"$f":"AE52+AE59","v":0},{"$f":"AF52+AF59","v":0},0,0,0,0]
["2.3.1","Hljeb i peciva",{"$f":"C53+C54+C55+C56+C57+C58","v":0},{"$f":"D53+D54+D55+D56+D57+D58","v":0},0,0,0,0,{"$f":"I53+I54+I55+I56+I57+I58","v":0},0,0,0,0,0,0,0,0,0,0,0,0,0,0,0,0,0,0,0,{"$f":"AC53+AC54+AC55+AC56+AC57+AC58","v":0},{"$f":"AD53+AD54+AD55+AD56+AD57+AD58","v":0},{"$f":"AE53+AE54+AE55+AE56+AE57+AE58","v":0},{"$f":"AF53+AF54+AF55+AF56+AF57+AF58","v":0},0,0,0,0]
["2.3.1.1","Pšenični hljeb"]
["2.3.1.2","Raženi hljeb"]
["2.3.1.3","Hljeb od drugih žitarica"]
["2.3.1.4","Mješani hljeb"]
["2.3.1.5","Hljeb posebnih vrsta"]
["2.3.1.6","Pecivo"]
["2.3.2","Fini pekarski proizvodi ",{"$f":"C60+C61+C64+C67+C68+C73","v":0},{"$f":"D60+D61+D64+D67+D68+D73","v":0},0,0,0,0,0,0,0,0,0,0,0,0,0,0,0,0,0,0,0,0,0,0,0,0,0,0,0,0,0,0,0,0]
["2.3.2.1","Pite"]
["2.3.2.2","Keksi",{"$f":"C62+C63","v":0},{"$f":"D62+D63","v":0},0,0,0,0,{"$f":"I62+I63","v":0},0,0,0,0,0,0,0,0,0,0,0,0,0,0,0,0,0,0,0,{"$f":"AC62+AC63","v":0},{"$f":"AD62+AD63","v":0},{"$f":"AE62+AE63","v":0},{"$f":"AF62+AF63","v":0},0,0,0,0]
["2.3.2.2.1","Keksi"]
["2.3.2.2.2","Vafli"]
["2.3.2.3","Kolači",{"$f":"C65+C66","v":0},{"$f":"D65+D66","v":0},0,0,0,0,{"$f":"I65+I66","v":0},0,0,0,0,0,0,0,0,0,0,0,0,0,0,0,0,0,0,0,{"$f":"AC65+AC66","v":0},{"$f":"AD65+AD66","v":0},{"$f":"AE65+AE66","v":0},{"$f":"AF65+AF66","v":0},0,0,0,0]
["2.3.2.3.1","Kolač"]
["2.3.2.3.2","Kolač sa prelivom"]
["2.3.2.4","Krofne i kroasani"]
["2.3.2.5","Proizvodi od lisantog tjesta ",{"$f":"C69+C70+C71+C72","v":0},{"$f":"D69+D70+D71+D72","v":0},0,0,0,0,{"$f":"I69+I70+I71+I72","v":0},0,0,0,0,0,0,0,0,0,0,0,0,0,0,0,0,0,0,0,{"$f":"AC69+AC70+AC71+AC72","v":0},{"$f":"AD69+AD70+AD71+AD72","v":0},{"$f":"AE69+AE70+AE71+AE72","v":0},{"$f":"AF69+AF70+AF71+AF72","v":0},0,0,0,0]
["2.3.2.5.1","Baklava"]
["2.3.2.5.2","Štrudla"]
["2.3.2.5.3","Kroasan od lisnatog tjesta"]
["2.3.2.5.4","Ostalo"]
["2.3.2.6","Ostali fini pekarski proizvodi"]
[3,"POVRĆE I NJEGOVI PRIMARNI PROIZVODI",{"$f":"C75+C98+C109+C113+C116+C127+C133+C137+C156+C169+C172+C173","v":0},{"$f":"D75+D98+D109+D113+D116+D127+D133+D137+D156+D169+D172+D173","v":0},0,0,0,0,{"$f":"I75+I98+I109+I113+I116+I127+I133+I137+I156+I169+I172+I173","v":0},0,0,0,0,0,0,0,0,0,0,0,0,0,0,0,0,0,0,0,{"$f":"AC75+AC98+AC109+AC113+AC116+AC127+AC133+AC137+AC156+AC169+AC172+AC173","v":0},{"$f":"AD75+AD98+AD109+AD113+AD116+AD127+AD133+AD137+AD156+AD169+AD172+AD173","v":0},{"$f":"AE75+AE98+AE109+AE113+AE116+AE127+AE133+AE137+AE156+AE169+AE172+AE173","v":0},{"$f":"AF75+AF98+AF109+AF113+AF116+AF127+AF133+AF137+AF156+AF169+AF172+AF173","v":0},0,0,0,0]
["3.1","Lisnato povrće",{"$f":"C76+C77+C78+C79+C80+C81+C82+C83+C84+C85+C90+C91+C92+C93+C96+C97","v":0},{"$f":"D76+D77+D78+D79+D80+D81+D82+D83+D84+D85+D90+D91+D92+D93+D96+D97","v":0},0,0,0,0,{"$f":"I76+I77+I78+I79+I80+I81+I82+I83+I84+I85+I90+I91+I92+I93+I96+I97","v":0},0,0,0,0,0,0,0,0,0,0,0,0,0,0,0,0,0,0,0,{"$f":"AC76+AC77+AC78+AC79+AC80+AC81+AC82+AC83+AC84+AC85+AC90+AC91+AC92+AC93+AC96+AC97","v":0},{"$f":"AD76+AD77+AD78+AD79+AD80+AD81+AD82+AD83+AD84+AD85+AD90+AD91+AD92+AD93+AD96+AD97","v":0},{"$f":"AE76+AE77+AE78+AE79+AE80+AE81+AE82+AE83+AE84+AE85+AE90+AE91+AE92+AE93+AE96+AE97","v":0},{"$f":"AF76+AF77+AF78+AF79+AF80+AF81+AF82+AF83+AF84+AF85+AF90+AF91+AF92+AF93+AF96+AF97","v":0},0,0,0,0]
["3.1.1","Matovilac (Valerianella eriocarpa)"]
["3.1.2","Salata (Salata glavatica ili glavičasta salata, lollo rosso (lisnata salata), ledenka ili ledena salata, rimska salata (marula))"]
["3.1.3","Širokolisna endivija (Divlja cikorija, crvenolisna cikorija, radič, kudrava endivija, listovi maslačka) "]
["3.1.4","Vrtna grbica (kres salata) (Klice graha mungo, klice alfalfe)"]
["3.1.5","Barica"]
["3.1.6","Rikola (rukola, riga) (Divlja rikola (Diplotaxis spp.))"]
["3.1.7","Crvena gorušica"]
["3.1.8","Lišće i stabljike kupusnjača, uključujući listove repe (Japanska gorušica, lišće graška i rotkvice i mlado lišće drugih biljaka uključujući biljke iz roda kupusnjača (berba do faze osmog pravog lista) listovi korabice)"]
["3.1.9","Ostale biljke slične salati"]
["3.1.10","Spanak i srodne biljke (listovi)",{"$f":"C86+C87+C88+C89","v":0},{"$f":"D86+D87+D88+D89","v":0},0,0,0,0,{"$f":"I86+I87+I88+I89","v":0},0,0,0,0,0,0,0,0,0,0,0,0,0,0,0,0,0,0,0,{"$f":"AC86+AC87+AC88+AC89","v":0},{"$f":"AD86+AD87+AD88+AD89","v":0},{"$f":"AE86+AE87+AE88+AE89","v":0},{"$f":"AF86+AF87+AF88+AF89","v":0},0,0,0,0]
["3.1.10.1","Spanak (Novozelandski spanak, kineski spanak (pak-khom, tampara), karipsko zelje (Xanthosoma sagittifolium), bitterblad/bitawiri)"]
["3.1.10.2","Tušt (portulak) (Zimski tušt (Claytonia perfoliata), tušak širokolisni (Portulaca oleracea var. sativa), obični portulak, kiselica (Rumex sp.), caklenjača (Salicornia europea), sodna solnjača (Salsola soda))"]
["3.1.10.3","Blitva (Listovi cikle)"]
["3.1.10.4","Ostalo"]
["3.1.11","Lišće vinove loze (Indijski špinat (Basella alba), listovi banane,\nAcacia pennata)"]
["3.1.12","Potočarka (Vodeni ili kineski špinat (Ipomea aquatica), vodena djetelina (Marsilea crenata), vodena mimoza (Neptunia oleracea))"]
["3.1.13","Cikorija, vrtni radič"]
["3.1.14","Glavate kupusnjače",{"$f":"C94+C95","v":0},{"$f":"D94+D95","v":0},0,0,0,0,{"$f":"I94+I95","v":0},0,0,0,0,0,0,0,0,0,0,0,0,0,0,0,0,0,0,0,{"$f":"AC94+AC95","v":0},{"$f":"AD94+AD95","v":0},{"$f":"AE94+AE95","v":0},{"$f":"AF94+AF95","v":0},0,0,0,0]
["3.1.14.1","Kelj pupčar "]
["3.1.14.2","Glavati kupus (Kupus šiljatih glavica, crveni kupus, kelj, bijeli kupus)"]
["3.1.15","Lisnate kupusnjače"]
["3.1.16","Ostalo lisnato povrće"]
["3.2","Klice, izbojci i slično",{"$f":"C99+C100+C101+C102+C103+C104+C105+C106+C107+C108","v":0},{"$f":"D99+D100+D101+D102+D103+D104+D105+D106+D107+D108","v":0},0,0,0,0,{"$f":"I99+I100+I101+I102+I103+I104+I105+I106+I107+I108","v":0},0,0,0,0,0,0,0,0,0,0,0,0,0,0,0,0,0,0,0,{"$f":"AC99+AC100+AC101+AC102+AC103+AC104+AC105+AC106+AC107+AC108","v":0},{"$f":"AD99+AD100+AD101+AD102+AD103+AD104+AD105+AD106+AD107+AD108","v":0},{"$f":"AE99+AE100+AE101+AE102+AE103+AE104+AE105+AE106+AE107+AE108","v":0},{"$f":"AF99+AF100+AF101+AF102+AF103+AF104+AF105+AF106+AF107+AF108","v":0},0,0,0,0]
["3.2.1","Klice kres salate"]
["3.2.2","Klice alfalfe"]
["3.2.3","Klica kineskog vlasca"]
["3.2.4","Klice brokolija"]
["3.2.5","Klice bijele rotkve"]
["3.2.6","Đumbirove klice"]
["3.2.7","Sojine klice"]
["3.2.8","Suncokretove klice"]
["3.2.9","Izdanci i klice graška"]
["3.2.10","Izdanci pšenice"]
["3.3","Cvjetne kupusnjače",{"$f":"C110+C111+C112","v":0},{"$f":"D110+D111+D112","v":0},0,0,0,0,{"$f":"I110+I111+I112","v":0},0,0,0,0,0,0,0,0,0,0,0,0,0,0,0,0,0,0,0,{"$f":"AC110+AC111+AC112","v":0},{"$f":"AD110+AD111+AD112","v":0},{"$f":"AE110+AE111+AE112","v":0},{"$f":"AF110+AF111+AF112","v":0},0,0,0,0]
["3.3.1","Brokula (Talijanska brokula (Calabrese), Brassica rapa var. cymosa, kineska brokula)"]
["3.3.2","Karfiol"]
["3.3.3","Ostale cvjetne kupusnjače"]
["3.4","Jestivo cvijeće",{"$f":"C114+C115","v":0},{"$f":"D114+D115","v":0},0,0,0,0,{"$f":"I114+I115","v":0},0,0,0,0,0,0,0,0,0,0,0,0,0,0,0,0,0,0,0,{"$f":"AC114+AC115","v":0},{"$f":"AD114+AD115","v":0},{"$f":"AE114+AE115","v":0},{"$f":"AF114+AF115","v":0},0,0,0,0]
["3.4.1","Talijanska tikvica, bučica (Jestivo cvijeće)"]
["3.4.2","Ostalo jestivo cvijeće"]
["3.5","Stabljikasto povrće (svježe) ",{"$f":"C117+C118+C119+C120+C121+C122+C123+C124+C125+C126","v":0},{"$f":"D117+D118+D119+D120+D121+D122+D123+D124+D125+D126","v":0},0,0,0,0,{"$f":"I117+I118+I119+I120+I121+I122+I123+I124+I125+I126","v":0},0,0,0,0,0,0,0,0,0,0,0,0,0,0,0,0,0,0,0,{"$f":"AC117+AC118+AC119+AC120+AC121+AC122+AC123+AC124+AC125+AC126","v":0},{"$f":"AD117+AD118+AD119+AD120+AD121+AD122+AD123+AD124+AD125+AD126","v":0},{"$f":"AE117+AE118+AE119+AE120+AE121+AE122+AE123+AE124+AE125+AE126","v":0},{"$f":"AF117+AF118+AF119+AF120+AF121+AF122+AF123+AF124+AF125+AF126","v":0},0,0,0,0]
["3.5.1","Šparoga"]
["3.5.2","Karda (španska artičoka) (Stabljike borača) "]
["3.5.3","Celer"]
["3.5.4","Komorač"]
["3.5.5","Artičoka (Cvijet banane) "]
["3.5.6","Poriluk"]
["3.5.7","Rabarbara"]
["3.5.8","Mladice bambusa"]
["3.5.9","Palmina srčika "]
["3.5.10","Ostalo stabljikasto povrće"]
["3.6","Lukovičasto povrće",{"$f":"C128+C129+C130+C131+C132","v":0},{"$f":"D128+D129+D130+D131+D132","v":0},0,0,0,0,{"$f":"I128+I129+I130+I131+I132","v":0},0,0,0,0,0,0,0,0,0,0,0,0,0,0,0,0,0,0,0,{"$f":"AC128+AC129+AC130+AC131+AC132","v":0},{"$f":"AD128+AD129+AD130+AD131+AD132","v":0},{"$f":"AE128+AE129+AE130+AE131+AE132","v":0},{"$f":"AF128+AF129+AF130+AF131+AF132","v":0},0,0,0,0]
["3.6.1","Bijeli luk i slično"]
["3.6.2","Luk (crveni luk) (Ostale vrste luka, srebrenac) "]
["3.6.3","Ljutika"]
["3.6.4","Mladi luk i zimski crvenac (Ostale vrste mladog luka i srodne sorte)"]
["3.6.5","Ostalo lukovičasto povrće"]
["3.7","Mahunarke (s mahunama)",{"$f":"C134+C135+C136","v":0},0,0,0,0,0,{"$f":"I134+I135+I136","v":0},0,0,0,0,0,0,0,0,0,0,0,0,0,0,0,0,0,0,0,{"$f":"AC134+AC135+AC136","v":0},{"$f":"AD134+AD135+AD136","v":0},{"$f":"AE134+AE135+AE136","v":0},{"$f":"AF134+AF135+AF136","v":0},0,0,0,0]
["3.7.1","Grah (s mahunama) (Mahuna, grah mnogocvjetni (Phaseolus coccineus), pločasti grah, grah metraš (Vigna unguiculata sesquipedalis), guar, soja"]
["3.7.2","Grašak (s mahunama) (Mahunasti grašak ili grašak šećerac)"]
["3.7.3","Leća"]
["3.8","Plodovito povrće",{"$f":"C138+C144+C149+C154+C155","v":0},{"$f":"D138+D144+D149+D154+D155","v":0},0,0,0,0,{"$f":"I138+I144+I149+I154+I155","v":0},0,0,0,0,0,0,0,0,0,0,0,0,0,0,0,0,0,0,0,{"$f":"AC138+AC144+AC149+AC154+AC155","v":0},{"$f":"AD138+AD144+AD149+AD154+AD155","v":0},{"$f":"AE138+AE144+AE149+AE154+AE155","v":0},{"$f":"AF138+AF144+AF149+AF154+AF155","v":0},0,0,0,0]
["3.8.1","Solanacea (pomoćnice)",{"$f":"C139+C140+C141+C142+C143","v":0},{"$f":"D139+D140+D141+D142+D143","v":0},0,0,0,0,{"$f":"I139+I140+I141+I142+I143","v":0},0,0,0,0,0,0,0,0,0,0,0,0,0,0,0,0,0,0,0,{"$f":"AC139+AC140+AC141+AC142+AC143","v":0},{"$f":"AD139+AD140+AD141+AD142+AD143","v":0},{"$f":"AE139+AE140+AE141+AE142+AE143","v":0},{"$f":"AF139+AF140+AF141+AF142+AF143","v":0},0,0,0,0]
["3.8.1.1","Paradajz (Cherry paradajz, biljke iz roda Physalis, goji bobice (Lycium barbarum i L. chinense), drvenasti paradajz)"]
["3.8.1.2","Paprika (Feferoni) "]
["3.8.1.3","Patlidžan (Pepino, afrički patlidžan (S. macrocarpon)) "]
["3.8.1.4","Bamija "]
["3.8.1.5","Ostalo povrće iz porodice Solonacea"]
["3.8.2","Tikvenjače — s jestivom korom",{"$f":"C145+C146+C147+C148","v":0},{"$f":"D145+D146+D147+D148","v":0},0,0,0,0,{"$f":"I145+I146+I147+I148","v":0},0,0,0,0,0,0,0,0,0,0,0,0,0,0,0,0,0,0,0,{"$f":"AC145+AC146+AC147+AC148","v":0},{"$f":"AD145+AD146+AD147+AD148","v":0},{"$f":"AE145+AE146+AE147+AE148","v":0},{"$f":"AF145+AF146+AF147+AF148","v":0},0,0,0,0]
["3.8.2.1","Krastavac"]
["3.8.2.2","Mali krastavac za kiseljenje "]
["3.8.2.3","Talijanska tikvica, bučica (Tikvice, buče (patišon), kruškolika tikva (Lagenaria siceraria), čajota, gorka dinja (Mor­ modica charantia)"]
["3.8.2.4","Ostalo"]
["3.8.3","Tikvenjače – s nejestivom korom ",{"$f":"C150+C151+C152+C153","v":0},{"$f":"D150+D151+D152+D153","v":0},0,0,0,0,{"$f":"I150+I151+I152+I153","v":0},0,0,0,0,0,0,0,0,0,0,0,0,0,0,0,0,0,0,0,{"$f":"AC150+AC151+AC152+AC153","v":0},{"$f":"AD150+AD151+AD152+AD153","v":0},{"$f":"AE150+AE151+AE152+AE153","v":0},{"$f":"AF150+AF151+AF152+AF153","v":0},0,0,0,0]
["3.8.3.1","Dinja (Kivano) "]
["3.8.3.2","Bundeva (Zimska bundeva, buča (kasna sorta))"]
["3.8.3.3","Lubenica"]
["3.8.3.4","Ostalo"]
["3.8.4","Slatki kukuruz (Mladi kukuruz) "]
["3.8.5","Ostalo plodovito povrće "]
["3.9","Ostalo korjenasto i gomoljasto povrće osim šećerne repe i skrobnog povrća",{"$f":"C157+C158+C159+C160+C161+C162+C163+C164+C165+C166+C167+C168","v":0},{"$f":"D157+D158+D159+D160+D161+D162+D163+D164+D165+D166+D167+D168","v":0},0,0,0,0,{"$f":"I157+I158+I159+I160+I161+I162+I163+I164+I165+I166+I167+I168","v":0},0,0,0,0,0,0,0,0,0,0,0,0,0,0,0,0,0,0,0,{"$f":"AC157+AC158+AC159+AC160+AC161+AC162+AC163+AC164+AC165+AC166+AC167+AC168","v":0},{"$f":"AD157+AD158+AD159+AD160+AD161+AD162+AD163+AD164+AD165+AD166+AD167+AD168","v":0},{"$f":"AE157+AE158+AE159+AE160+AE161+AE162+AE163+AE164+AE165+AE166+AE167+AE168","v":0},{"$f":"AF157+AF158+AF159+AF160+AF161+AF162+AF163+AF164+AF165+AF166+AF167+AF168","v":0},0,0,0,0]
["3.9.1","Cvekla"]
["3.9.2","Mrkva"]
["3.9.3","Celer korjenaš"]
["3.9.4","Hren (Korijen anđelike, korijen ljupčaca, korijen biljaka iz roda Gentiana)"]
["3.9.5","Čičoka (Kineska artičoka (Stachys affinis))"]
["3.9.6","Paštrnjak"]
["3.9.7","Korijen peršuna"]
["3.9.8","Rotkvica (Crna rotkva ili povrt­ nica (Raphanus niger), japanska rotkva (Raphanus sativus longi­ pinnatus), mala rotkvica i srodne sorte, Cyperus esculentus)"]
["3.9.9","Bijeli korijen (Zmijak, crni korijen (španjolski zmijak, zmijina trava), čičak)"]
["3.9.10","Stočna koraba"]
["3.9.11","Repa"]
["3.9.12","Ostalo"]
["3.10","Gljive",{"$f":"C170+C171","v":0},{"$f":"D170+D171","v":0},0,0,0,0,{"$f":"I170+I171","v":0},0,0,0,0,0,0,0,0,0,0,0,0,0,0,0,0,0,0,0,{"$f":"AC170+AC171","v":0},{"$f":"AD170+AD171","v":0},{"$f":"AE170+AE171","v":0},{"$f":"AF170+AF171","v":0},0,0,0,0]
["3.10.1","Uzgajane gljive (Plemenita pečurka ili šampinjon, bukovača, shitake, micelij gljiva (vegetativni dijelovi))"]
["3.10.2","Divlje gljive (Lisičarka, tartuf, smrčak, vrganj)"]
["3.11","Alge i lišajevi"]
["3.12","Tehnološki obrađeno povrće  ",{"$f":"C174+C175+C176+C177+C178+C179+C180+C181+C182","v":0},{"$f":"D174+D175+D176+D177+D178+D179+D180+D181+D182","v":0},0,0,0,0,{"$f":"I174+I175+I176+I177+I178+I179+I180+I181+I182","v":0},0,0,0,0,0,0,0,0,0,0,0,0,0,0,0,0,0,0,0,{"$f":"AC174+AC175+AC176+AC177+AC178+AC179+AC180+AC181+AC182","v":0},{"$f":"AD174+AD175+AD176+AD177+AD178+AD179+AD180+AD181+AD182","v":0},{"$f":"AE174+AE175+AE176+AE177+AE178+AE179+AE180+AE181+AE182","v":0},{"$f":"AF174+AF175+AF176+AF177+AF178+AF179+AF180+AF181+AF182","v":0},0,0,0,0]
["3.12.1","Prerađeni proizvodi od paradajza"]
["3.12.2","Smrznuto povrće"]
["3.12.3","Pasterizovano povrće"]
["3.12.4","Fermentisano povrće"]
["3.12.5","Povrtni pire ili pasta"]
["3.12.6","Povrće u salamuri"]
["3.12.7","Povrće konzervirano šećerom"]
["3.12.8","Sušeno povrće (sušene gljive)"]
["3.12.9","Povrće u konzervi",{"$f":"C183+C184+C185","v":0},{"$f":"D183+D184+D185","v":0},0,0,0,0,{"$f":"I183+I184+I185","v":0},0,0,0,0,0,0,0,0,0,0,0,0,0,0,0,0,0,0,0,{"$f":"AC183+AC184+AC185","v":0},{"$f":"AD183+AD184+AD185","v":0},{"$f":"AE183+AE184+AE185","v":0},{"$f":"AF183+AF184+AF185","v":0},0,0,0,0]
["3.12.9.1","Slatki kukuruz u konzervi"]
["3.12.9.2","Gljive u konzervi"]
["3.12.9.3","Ostalo povrće u konzervi"]
[4,"SJEME MAHUNARKI I NJIHOVI PRIMARNI PROIZVODI",{"$f":"C187+C191","v":0},{"$f":"D187+D191","v":0},0,0,0,0,{"$f":"I187+I191","v":0},0,0,0,0,0,0,0,0,0,0,0,0,0,0,0,0,0,0,0,{"$f":"AC187+AC191","v":0},{"$f":"AD187+AD191","v":0},{"$f":"AE187+AE191","v":0},{"$f":"AF187+AF191","v":0},0,0,0,0]
["4.1","Mahunarke (svježe sjeme)",{"$f":"C188+C189+C190","v":0},{"$f":"D188+D189+D190","v":0},0,0,0,0,{"$f":"I188+I189+I190","v":0},0,0,0,0,0,0,0,0,0,0,0,0,0,0,0,0,0,0,0,{"$f":"AC188+AC189+AC190","v":0},{"$f":"AD188+AD189+AD190","v":0},{"$f":"AE188+AE189+AE190","v":0},{"$f":"AF188+AF189+AF190","v":0},0,0,0,0]
["4.1.1","Grah (bez mahuna) (Bob, rod Canavalia, flageolat grupa, lima grah)"]
["4.1.2","Grašak (bez mahuna) (Vrtni grašak, zeleni grašak, slanutak)"]
["4.1.3","Svježe sjeme ostalih mahunarki bez mahuna"]
["4.2","Konzervirane i prerađene mahunarke",{"$f":"C192+C198","v":0},{"$f":"D192+D198","v":0},0,0,0,0,{"$f":"I192+I198","v":0},0,0,0,0,0,0,0,0,0,0,0,0,0,0,0,0,0,0,0,{"$f":"AC192+AC198","v":0},{"$f":"AD192+AD198","v":0},{"$f":"AE192+AE198","v":0},{"$f":"AF192+AF198","v":0},0,0,0,0]
["4.2.1","Sjemenke mahunarki suve",{"$f":"C193+C194+C195+C196+C197","v":0},{"$f":"D193+D194+D195+D196+D197","v":0},0,0,0,0,{"$f":"I193+I194+I195+I196+I197","v":0},0,0,0,0,0,0,0,0,0,0,0,0,0,0,0,0,0,0,0,{"$f":"AC193+AC194+AC195+AC196+AC197","v":0},{"$f":"AD193+AD194+AD195+AD196+AD197","v":0},{"$f":"AE193+AE194+AE195+AE196+AE197","v":0},{"$f":"AF193+AF194+AF195+AF196+AF197","v":0},0,0,0,0]
["4.2.1.1","Grah (Bob, mornarski grah, flageolat grupa, rod Canavalia, lima grah, poljski grah)"]
["4.2.1.2","Leća"]
["4.2.1.3","Grašak (Slanutak, stočni grašak, grah poljak (kukavčica, graholika, sjekirica - lat. Lathyrus sativus))"]
["4.2.1.4","Lupine"]
["4.2.1.5","Ostalo"]
["4.2.2","Mahunarke u konzervama",{"$f":"C199+C200+C201+C202","v":0},0,0,0,0,0,{"$f":"I199+I200+I201+I202","v":0},0,0,0,0,0,0,0,0,0,0,0,0,0,0,0,0,0,0,0,{"$f":"AC199+AC200+AC201+AC202","v":0},{"$f":"AD199+AD200+AD201+AD202","v":0},{"$f":"AE199+AE200+AE201+AE202","v":0},{"$f":"AF199+AF200+AF201+AF202","v":0},0,0,0,0]
["4.2.2.1","Grah u konzervi"]
["4.2.2.2","Grašak u konzervi"]
["4.2.2.3","Leća u konzervi"]
["4.2.2.4","Slanutak u konzervi"]
[5,"VOĆE I NJEGOVI PRIMARNI PROIZVODI",{"$f":"C204+C273","v":0},{"$f":"D204+D273","v":0},0,0,0,0,{"$f":"I204+I273","v":0},0,0,0,0,0,0,0,0,0,0,0,0,0,0,0,0,0,0,0,{"$f":"AC204+AC273","v":0},{"$f":"AD204+AD273","v":0},{"$f":"AE204+AE273","v":0},{"$f":"AF204+AF273","v":0},0,0,0,0]
["5.1","Voće koje se koristi kao svježe",{"$f":"C205+C212+C219+C225+C232+C241+C272","v":0},{"$f":"D205+D212+D219+D225+D232+D241+D272","v":0},0,0,0,0,{"$f":"I205+I212+I219+I225+I232+I241+I272","v":0},0,0,0,0,0,0,0,0,0,0,0,0,0,0,0,0,0,0,0,{"$f":"AC205+AC212+AC219+AC225+AC232+AC241+AC272","v":0},{"$f":"AD205+AD212+AD219+AD225+AD232+AD241+AD272","v":0},{"$f":"AE205+AE212+AE219+AE225+AE232+AE241+AE272","v":0},{"$f":"AF205+AF212+AF219+AF225+AF232+AF241+AF272","v":0},0,0,0,0]
["5.1.1","Citrusi",{"$f":"C206+C207+C208+C209+C210+C211","v":0},{"$f":"D206+D207+D208+D209+D210+D211","v":0},0,0,0,0,{"$f":"I206+I207+I208+I209+I210+I211","v":0},0,0,0,0,0,0,0,0,0,0,0,0,0,0,0,0,0,0,0,{"$f":"AC206+AC207+AC208+AC209+AC210+AC211","v":0},{"$f":"AD206+AD207+AD208+AD209+AD210+AD211","v":0},{"$f":"AE206+AE207+AE208+AE209+AE210+AE211","v":0},{"$f":"AF206+AF207+AF208+AF209+AF210+AF211","v":0},0,0,0,0]
["5.1.1.1","Grejp (Pomelo, Citrus grandis (sweetie), tanđelo (osim mineole), ugli i ostali hibridi)"]
["5.1.1.2","Naranča (Bergamot, gorka naranča, chinotto (Citrus myrtifolia) i ostali hibridi)"]
["5.1.1.3","Limun (Četrun, limun, Budina ruka (Citrus medica var. sarcodactylis))"]
["5.1.1.4","Limeta"]
["5.1.1.5","Mandarina (Klementina, tanđerina, mineola i ostali hibridi, tangor (Citrus reticulata x sinensis))"]
["5.1.1.6","Ostalo citrusno voće"]
["5.1.2","Jabučasto voće",{"$f":"C213+C214+C215+C216+C217+C218","v":0},{"$f":"D213+D214+D215+D216+D217+D218","v":0},0,0,0,0,{"$f":"I213+I214+I215+I216+I217+I218","v":0},0,0,0,0,0,0,0,0,0,0,0,0,0,0,0,0,0,0,0,{"$f":"AC213+AC214+AC215+AC216+AC217+AC218","v":0},{"$f":"AD213+AD214+AD215+AD216+AD217+AD218","v":0},{"$f":"AE213+AE214+AE215+AE216+AE217+AE218","v":0},{"$f":"AF213+AF214+AF215+AF216+AF217+AF218","v":0},0,0,0,0]
["5.1.2.1","Jabuka"]
["5.1.2.2","Kruška"]
["5.1.2.3","Dunja"]
["5.1.2.4","Mušmula"]
["5.1.2.5","Japanska mušmula"]
["5.1.2.6","Ostalo"]
["5.1.3","Koštuničavo voće",{"$f":"C220+C221+C222+C223+C224","v":0},{"$f":"D220+D221+D222+D223+D224","v":0},0,0,0,0,{"$f":"I220+I221+I222+I223+I224","v":0},0,0,0,0,0,0,0,0,0,0,0,0,0,0,0,0,0,0,0,{"$f":"AC220+AC221+AC222+AC223+AC224","v":0},{"$f":"AD220+AD221+AD222+AD223+AD224","v":0},{"$f":"AE220+AE221+AE222+AE223+AE224","v":0},{"$f":"AF220+AF221+AF222+AF223+AF224","v":0},0,0,0,0]
["5.1.3.1","Kajsija"]
["5.1.3.2","Trešnja"]
["5.1.3.3","Breskva"]
["5.1.3.4","Šljiva"]
["5.1.3.5","Ostalo koštuničavo voće"]
["5.1.4","Bobičasto i sitno voće",{"$f":"C226+C229+C230+C231","v":0},{"$f":"D226+D229+D230+D231","v":0},0,0,0,0,{"$f":"I226+I229+I230+I231","v":0},0,0,0,0,0,0,0,0,0,0,0,0,0,0,0,0,0,0,0,{"$f":"AC226+AC229+AC230+AC231","v":0},{"$f":"AD226+AD229+AD230+AD231","v":0},{"$f":"AE226+AE229+AE230+AE231","v":0},{"$f":"AF226+AF229+AF230+AF231","v":0},0,0,0,0]
["5.1.4.1","Grožđe",{"$f":"C227+C228","v":0},{"$f":"D227+D228","v":0},0,0,0,0,{"$f":"I227+I228","v":0},0,0,0,0,0,0,0,0,0,0,0,0,0,0,0,0,0,0,0,{"$f":"AC227+AC228","v":0},{"$f":"AD227+AD228","v":0},{"$f":"AE227+AE228","v":0},{"$f":"AF227+AF228","v":0},0,0,0,0]
["5.1.4.1.1","Stono grožđe"]
["5.1.4.1.2","Vinsko grožđe"]
["5.1.4.4","Jagoda"]
["5.1.4.5","Kupina "]
["5.1.4.6","Malina"]
["5.1.5","Drugo sitno i bobičasto voće",{"$f":"C233+C234+C235+C236+C237+C238+C239+C240","v":0},{"$f":"D233+D234+D235+D236+D237+D238+D239+D240","v":0},0,0,0,0,{"$f":"I233+I234+I235+I236+I237+I238+I239+I240","v":0},0,0,0,0,0,0,0,0,0,0,0,0,0,0,0,0,0,0,0,{"$f":"AC233+AC234+AC235+AC236+AC237+AC238+AC239+AC240","v":0},{"$f":"AD233+AD234+AD235+AD236+AD237+AD238+AD239+AD240","v":0},{"$f":"AE233+AE234+AE235+AE236+AE237+AE238+AE239+AE240","v":0},{"$f":"AF233+AF234+AF235+AF236+AF237+AF238+AF239+AF240","v":0},0,0,0,0]
["5.1.5.1","Borovnica"]
["5.1.5.2","Brusnica"]
["5.1.5.3","Ribizla"]
["5.1.5.4","Ogrozd"]
["5.1.5.5","Šipurak"]
["5.1.5.6","Dud"]
["5.1.5.7","Azarola"]
["5.1.5.8","Bazgine bobice"]
["5.1.6","Ostale voćne vrste",{"$f":"C242+C243+C244+C245+C246+C247+C248+C249+C250+C251+C252+C253+C254+C255+C256+C257+C258+C259+C260+C261+C262+C263+C265+C264+C266+C267+C268+C269+C270+C271","v":0},{"$f":"D242+D243+D244+D245+D246+D247+D248+D249+D250+D251+D252+D253+D254+D255+D256+D257+D258+D259+D260+D261+D262+D263+D265+D264+D266+D267+D268+D269+D270+D271","v":0},0,0,0,0,{"$f":"I242+I243+I244+I245+I246+I247+I248+I249+I250+I251+I252+I253+I254+I255+I256+I257+I258+I259+I260+I261+I262+I263+I265+I264+I266+I267+I268+I269+I270+I271","v":0},0,0,0,0,0,0,0,0,0,0,0,0,0,0,0,0,0,0,0,{"$f":"AC242+AC243+AC244+AC245+AC246+AC247+AC248+AC249+AC250+AC251+AC252+AC253+AC254+AC255+AC256+AC257+AC258+AC259+AC260+AC261+AC262+AC263+AC265+AC264+AC266+AC267+AC268+AC269+AC270+AC271","v":0},{"$f":"AD242+AD243+AD244+AD245+AD246+AD247+AD248+AD249+AD250+AD251+AD252+AD253+AD254+AD255+AD256+AD257+AD258+AD259+AD260+AD261+AD262+AD263+AD265+AD264+AD266+AD267+AD268+AD269+AD270+AD271","v":0},{"$f":"AE242+AE243+AE244+AE245+AE246+AE247+AE248+AE249+AE250+AE251+AE252+AE253+AE254+AE255+AE256+AE257+AE258+AE259+AE260+AE261+AE262+AE263+AE265+AE264+AE266+AE267+AE268+AE269+AE270+AE271","v":0},{"$f":"AF242+AF243+AF244+AF245+AF246+AF247+AF248+AF249+AF250+AF251+AF252+AF253+AF254+AF255+AF256+AF257+AF258+AF259+AF260+AF261+AF262+AF263+AF265+AF264+AF266+AF267+AF268+AF269+AF270+AF271","v":0},0,0,0,0]
["5.1.6.1","Ostalo voće sa jestivom korom"]
["5.1.6.2","Datulje"]
["5.1.6.3","Smokve"]
["5.1.6.4","Stone masline"]
["5.1.6.5","Kumkvat "]
["5.1.6.6","Karambola"]
["5.1.6.7","Kaki jabuka"]
["5.1.6.8","Jamun"]
["5.1.6.9","Ostalo"]
["5.1.6.10","Nejestiva kora, manja"]
["5.1.6.11","Kivi"]
["5.1.6.12","Liči"]
["5.1.6.13","Marakuja"]
["5.1.6.14","Kaktus smokva (plod kaktusa)"]
["5.1.6.15","Zvjezdasta jabuka"]
["5.1.6.16","Virginijski dragun "]
["5.1.6.17","Ostalo"]
["5.1.6.18","Nejestiva kora, veća"]
["5.1.6.19","Avokado"]
["5.1.6.20","Banane"]
["5.1.6.21","Mango"]
["5.1.6.22","Papaja"]
["5.1.6.23","Nar (Šipak)"]
["5.1.6.24","Tropska jabuka (čerimoja)"]
["5.1.6.25","Guava (Crvena pitaja (Hylocereus undatus))"]
["5.1.6.26","Ananas"]
["5.1.6.27","Kruhovac (Artocarpus heterophyllus)"]
["5.1.6.28","Durijan"]
["5.1.6.29","Bodljikava anona (guanabana)"]
["5.1.6.30","Ostalo"]
["5.1.7","Kora od citrusnog voća"]
["5.2","Tehnološki obrađeno i konzervirano voće  ",{"$f":"C274+C276+C283+C296+C297+C298","v":0},{"$f":"D274+D276+D283+D296+D297+D298","v":0},0,0,0,0,{"$f":"I274+I276+I283+I296+I297+I298","v":0},0,0,0,0,0,0,0,0,0,0,0,0,0,0,0,0,0,0,0,{"$f":"AC274+AC276+AC283+AC296+AC297+AC298","v":0},{"$f":"AD274+AD276+AD283+AD296+AD297+AD298","v":0},{"$f":"AE274+AE276+AE283+AE296+AE297+AE298","v":0},{"$f":"AF274+AF276+AF283+AF296+AF297+AF298","v":0},0,0,0,0]
["5.2.1","Fermentisani voćni proizvodi",{"$f":"C275","v":0},0,0,0,0,0,{"$f":"I275","v":0},0,0,0,0,0,0,0,0,0,0,0,0,0,0,0,0,0,0,0,{"$f":"AC275","v":0},{"$f":"AD275","v":0},{"$f":"AE275","v":0},{"$f":"AF275","v":0},0,0,0,0]
["5.2.1.1","Konzervirane masline"]
["5.2.2","Kandirano voće  ",{"$f":"C277+C278+C279+C280+C281+C282","v":0},{"$f":"D277+D278+D279+D280+D281+D282","v":0},0,0,0,0,{"$f":"I277+I278+I279+I280+I281+I282","v":0},0,0,0,0,0,0,0,0,0,0,0,0,0,0,0,0,0,0,0,{"$f":"AC277+AC278+AC279+AC280+AC281+AC282","v":0},{"$f":"AD277+AD278+AD279+AD280+AD281+AD282","v":0},{"$f":"AE277+AE278+AE279+AE280+AE281+AE282","v":0},{"$f":"AF277+AF278+AF279+AF280+AF281+AF282","v":0},0,0,0,0]
["5.2.2.1","Kandirano voće, jabuka  "]
["5.2.2.2","Kandirano voće, banana  "]
["5.2.2.3","Kandirano voće, višnja  "]
["5.2.2.4","Kandirano voće, grožđe  "]
["5.2.2.5","Kandirana voće, kruška"]
["5.2.2.6","Kandirano voće, mješavina"]
["5.2.3","Sušeno voće  ",{"$f":"C284+C285+C286+C287+C288+C289+C290+C291+C292+C293+C294+C295","v":0},{"$f":"D284+D285+D286+D287+D288+D289+D290+D291+D292+D293+D294+D295","v":0},0,0,0,0,{"$f":"I284+I285+I286+I287+I288+I289+I290+I291+I292+I293+I294+I295","v":0},0,0,0,0,0,0,0,0,0,0,0,0,0,0,0,0,0,0,0,{"$f":"AC284+AC285+AC286+AC287+AC288+AC289+AC290+AC291+AC292+AC293+AC294+AC295","v":0},{"$f":"AD284+AD285+AD286+AD287+AD288+AD289+AD290+AD291+AD292+AD293+AD294+AD295","v":0},{"$f":"AE284+AE285+AE286+AE287+AE288+AE289+AE290+AE291+AE292+AE293+AE294+AE295","v":0},{"$f":"AF284+AF285+AF286+AF287+AF288+AF289+AF290+AF291+AF292+AF293+AF294+AF295","v":0},0,0,0,0]
["5.2.3.1","Mješavina sušenog voća"]
["5.2.3.2","Voćni čips"]
["5.2.3.3","Suho voće obloženo čokoladom"]
["5.2.3.4","Suhe šljive"]
["5.2.3.5","Suhe jabuke"]
["5.2.3.6","Suhe kajsije"]
["5.2.3.7","Suhe grožđice"]
["5.2.3.8","Suhe datule"]
["5.2.3.9","Suhe smokve"]
["5.2.3.10","Suha kruška"]
["5.2.3.11","Suhe banane"]
["5.2.3.12","Suhi mango"]
["5.2.4","Voće u konzervama"]
["5.2.5","Voće u sirćetu, ulju ili salamuri  "]
["5.2.6","Voće u konzervama"]
[6,"ORAŠASTI PLODOVI I PRIMARNI PROIZVODI DOBIJENI OD NJIH",{"$f":"C300+C313","v":0},{"$f":"D300+D313","v":0},0,0,0,0,{"$f":"I300+I313","v":0},0,0,0,0,0,0,0,0,0,0,0,0,0,0,0,0,0,0,0,{"$f":"AC300+AC313","v":0},{"$f":"AD300+AD313","v":0},{"$f":"AE300+AE313","v":0},{"$f":"AF300+AF313","v":0},0,0,0,0]
["6.1","Orašati plodovi",{"$f":"C301+C302+C303+C304+C305+C306+C307+C308+C309+C310+C311+C312","v":0},{"$f":"D301+D302+D303+D304+D305+D306+D307+D308+D309+D310+D311+D312","v":0},0,0,0,0,{"$f":"I301+I302+I303+I304+I305+I306+I307+I308+I309+I310+I311+I312","v":0},0,0,0,0,0,0,0,0,0,0,0,0,0,0,0,0,0,0,0,{"$f":"AC301+AC302+AC303+AC304+AC305+AC306+AC307+AC308+AC309+AC310+AC311+AC312","v":0},{"$f":"AD301+AD302+AD303+AD304+AD305+AD306+AD307+AD308+AD309+AD310+AD311+AD312","v":0},{"$f":"AE301+AE302+AE303+AE304+AE305+AE306+AE307+AE308+AE309+AE310+AE311+AE312","v":0},{"$f":"AF301+AF302+AF303+AF304+AF305+AF306+AF307+AF308+AF309+AF310+AF311+AF312","v":0},0,0,0,0]
["6.1.1","Bademi"]
["6.1.2","Brazilski orasi"]
["6.1.3","Indijski orasi"]
["6.1.4","Kesten"]
["6.1.5","Kokosov orah"]
["6.1.6","Lješnjaci (Pitomi lješnjak)"]
["6.1.7","Australski orasi (macadamia)"]
["6.1.8","Pekan orasi"]
["6.1.9","Pinjoli"]
["6.1.10","Pistacije"]
["6.1.11","Orasi"]
["6.1.12","Ostali orašasti plodovi"]
["6.2","Primarni proizvodi od orašastih plodova",{"$f":"C314+C315+C316","v":0},{"$f":"D314+D315+D316","v":0},0,0,0,0,{"$f":"I314+I315+I316","v":0},0,0,0,0,0,0,0,0,0,0,0,0,0,0,0,0,0,0,0,{"$f":"AC314+AC315+AC316","v":0},{"$f":"AD314+AD315+AD316","v":0},{"$f":"AE314+AE315+AE316","v":0},{"$f":"AF314+AF315+AF316","v":0},0,0,0,0]
["6.2.1","Kandirani ili šećerom konzervirani orašasti proizvodi"]
["6.2.2","Sušeni orašasti proizvodi slični brašnu ili prašku"]
["6.2.3","Paste, namazi i slični proizvodi od orašastih plodova",{"$f":"C317+C318+C319","v":0},{"$f":"D317+D318+D319","v":0},0,0,0,0,{"$f":"I317+I318+I319","v":0},0,0,0,0,0,0,0,0,0,0,0,0,0,0,0,0,0,0,0,{"$f":"AC317+AC318+AC319","v":0},{"$f":"AD317+AD318+AD319","v":0},{"$f":"AE317+AE318+AE319","v":0},{"$f":"AF317+AF318+AF319","v":0},0,0,0,0]
["6.2.3.1","Zaslađeni kesten pire"]
["6.2.3.2","Sezamova pasta (tahini)"]
["6.2.3.3","Maslac od kikirikija"]
[7,"ULJARICE – SJEME I PLODOVI ",{"$f":"C321+C341","v":0},{"$f":"D321+D341","v":0},0,0,0,0,{"$f":"I321+I341","v":0},0,0,0,0,0,0,0,0,0,0,0,0,0,0,0,0,0,0,0,{"$f":"AC321+AC341","v":0},{"$f":"AD321+AD341","v":0},{"$f":"AE321+AE341","v":0},{"$f":"AF321+AF341","v":0},0,0,0,0]
["7.1","Sjeme uljarica",{"$f":"C322+C323+C324+C325+C326+C327+C331+C332+C333+C334+C335+C336+C337+C338+C339+C340","v":0},{"$f":"D322+D323+D324+D325+D326+D327+D331+D332+D333+D334+D335+D336+D337+D338+D339+D340","v":0},0,0,0,0,{"$f":"I322+I323+I324+I325+I326+I327+I331+I332+I333+I334+I335+I336+I337+I338+I339+I340","v":0},0,0,0,0,0,0,0,0,0,0,0,0,0,0,0,0,0,0,0,{"$f":"AC322+AC323+AC324+AC325+AC326+AC327+AC331+AC332+AC333+AC334+AC335+AC336+AC337+AC338+AC339+AC340","v":0},{"$f":"AD322+AD323+AD324+AD325+AD326+AD327+AD331+AD332+AD333+AD334+AD335+AD336+AD337+AD338+AD339+AD340","v":0},{"$f":"AE322+AE323+AE324+AE325+AE326+AE327+AE331+AE332+AE333+AE334+AE335+AE336+AE337+AE338+AE339+AE340","v":0},{"$f":"AF322+AF323+AF324+AF325+AF326+AF327+AF331+AF332+AF333+AF334+AF335+AF336+AF337+AF338+AF339+AF340","v":0},0,0,0,0]
["7.1.1","Sjemenke lana"]
["7.1.2","Kikiriki"]
["7.1.3","Sjemenke maka"]
["7.1.4","Sjemenke sezama"]
["7.1.5","Sjemenke suncokreta"]
["7.1.6","Sjeme repice i slično",{"$f":"C328+C329+C330","v":0},{"$f":"D328+D329+D330","v":0},0,0,0,0,{"$f":"I328+I329+I330","v":0},0,0,0,0,0,0,0,0,0,0,0,0,0,0,0,0,0,0,0,{"$f":"AC328+AC329+AC330","v":0},{"$f":"AD328+AD329+AD330","v":0},{"$f":"AE328+AE329+AE330","v":0},{"$f":"AF328+AF329+AF330","v":0},0,0,0,0]
["7.1.6.1","Uljana repica"]
["7.1.6.2","Postrna repa"]
["7.1.6.3","Bijela repa"]
["7.1.7","Soja"]
["7.1.8","Sjeme gorušice"]
["7.1.9","Sjeme pamuka"]
["7.1.10","Bučine sjemenke (Ostalo sjeme iz porodice tikvenjača)"]
["7.1.11","Šafranika"]
["7.1.12","Borač (Echium plantagineum), bijela biserka (Buglossoides arvensis)"]
["7.1.13","Podlanak"]
["7.1.14","Sjeme konoplje"]
["7.1.15","Ricinus"]
["7.1.16","Ostale sjemenke uljarice"]
["7.2","Plodovi uljarica",{"$f":"C342+C343+C344+C345+C346","v":0},{"$f":"D342+D343+D344+D345+D346","v":0},0,0,0,0,{"$f":"I342+I343+I344+I345+I346","v":0},0,0,0,0,0,0,0,0,0,0,0,0,0,0,0,0,0,0,0,{"$f":"AC342+AC343+AC344+AC345+AC346","v":0},{"$f":"AD342+AD343+AD344+AD345+AD346","v":0},{"$f":"AE342+AE343+AE344+AE345+AE346","v":0},{"$f":"AF342+AF343+AF344+AF345+AF346","v":0},0,0,0,0]
["7.2.1","Masline za proizvodnju ulja"]
["7.2.2","Palmin orah (koštice uljne palme)"]
["7.2.3","Plodovi palme"]
["7.2.4","Kapok"]
["7.2.5","Ostali plodovi uljarica"]
["8","BILJKE BOGATE ŠEĆEROM",{"$f":"C348+C351","v":0},{"$f":"D348+D351","v":0},0,0,0,0,{"$f":"I348+I351","v":0},0,0,0,0,0,0,0,0,0,0,0,0,0,0,0,0,0,0,0,{"$f":"AC348+AC351","v":0},{"$f":"AD348+AD351","v":0},{"$f":"AE348+AE351","v":0},{"$f":"AF348+AF351","v":0},0,0,0,0]
["8.1","Korijenje kao izvor šećera",{"$f":"C349+C350","v":0},{"$f":"D349+D350","v":0},0,0,0,0,{"$f":"I349+I350","v":0},0,0,0,0,0,0,0,0,0,0,0,0,0,0,0,0,0,0,0,{"$f":"AC349+AC350","v":0},{"$f":"AD349+AD350","v":0},{"$f":"AE349+AE350","v":0},{"$f":"AF349+AF350","v":0},0,0,0,0]
["8.1.1","Šećerna repa (korijen)"]
["8.1.2","Korijen cikorije"]
["8.2","Ostali djelovi biljke kao izvor šećera",{"$f":"C352+C353","v":0},{"$f":"D352+D353","v":0},0,0,0,0,{"$f":"I352+I353","v":0},0,0,0,0,0,0,0,0,0,0,0,0,0,0,0,0,0,0,0,{"$f":"AC352+AC353","v":0},{"$f":"AD352+AD353","v":0},{"$f":"AE352+AE353","v":0},{"$f":"AF352+AF353","v":0},0,0,0,0]
["8.2.1","Šećerna trska"]
["8.2.2","Ostale biljke za proizvodnju šećera"]
["9","SKROBNO KORIJENJE I GOMOLJI",{"$f":"C355+C356+C362","v":0},{"$f":"D355+D356+D362","v":0},0,0,0,{"$f":"H355+H356+H362","v":0},{"$f":"I355+I356+I362","v":0},0,0,0,0,0,0,0,0,0,0,0,0,0,0,0,0,0,0,0,{"$f":"AC355+AC356+AC362","v":0},{"$f":"AD355+AD356+AD362","v":0},{"$f":"AE355+AE356+AE362","v":0},{"$f":"AF355+AF356+AF362","v":0},0,0,0,0]
["9.1","Krompir"]
["9.2","Tropsko korjenasto i gomoljasto povrće",{"$f":"C357+C358+C359+C360+C361","v":0},{"$f":"D357+D358+D359+D360+D361","v":0},0,0,0,0,{"$f":"I357+I358+I359+I360+I361","v":0},0,0,0,0,0,0,0,0,0,0,0,0,0,0,0,0,0,0,0,{"$f":"AC357+AC358+AC359+AC360+AC361","v":0},{"$f":"AD357+AD358+AD359+AD360+AD361","v":0},{"$f":"AE357+AE358+AE359+AE360+AE361","v":0},{"$f":"AF357+AF358+AF359+AF360+AF361","v":0},0,0,0,0]
["9.2.1","Kasava (manioka), karipsko zelje (Xanthosoma sagittifolium))"]
["9.2.2","Slatki krompir"]
["9.2.3","Jam (Jam (Pachyrhizus tuberosus), Pachyrhizus erosus)"]
["9.2.4","Maranta (arorut)"]
["9.2.5","Ostalo"]
["9.3","Sušeni proizvodi od krompira",{"$f":"C363+C364+C365","v":0},{"$f":"D363+D364+D365","v":0},0,0,0,0,{"$f":"I363+I364+I365","v":0},0,0,0,0,0,0,0,0,0,0,0,0,0,0,0,0,0,0,0,{"$f":"AC363+AC364+AC365","v":0},{"$f":"AD363+AD364+AD365","v":0},{"$f":"AE363+AE364+AE365","v":0},{"$f":"AF363+AF364+AF365","v":0},0,0,0,0]
["9.3.1","Kašasti krompir prah"]
["9.3.2","Brašno od krompira"]
["9.3.3","Pahuljice od krompira"]
["10","AROMATIČNO BILJE, ZAČINI I SLIČNO  ",{"$f":"C367+C380+C384+C386+C397+C401+C404+C407+C413+C423","v":0},{"$f":"D367+D380+D384+D386+D397+D401+D404+D407+D413+D423","v":0},0,0,0,0,{"$f":"I367+I380+I384+I386+I397+I401+I404+I407+I413+I423","v":0},0,0,0,0,0,0,0,0,0,0,0,0,0,0,0,0,0,0,0,{"$f":"AC367+AC380+AC384+AC386+AC397+AC401+AC404+AC407+AC413+AC423","v":0},{"$f":"AD367+AD380+AD384+AD386+AD397+AD401+AD404+AD407+AD413+AD423","v":0},{"$f":"AE367+AE380+AE384+AE386+AE397+AE401+AE404+AE407+AE413+AE423","v":0},{"$f":"AF367+AF380+AF384+AF386+AF397+AF401+AF404+AF407+AF413+AF423","v":0},0,0,0,0]
["10.1","Aromatično bilje",{"$f":"C368+C369+C370+C371+C372+C373+C374+C375+C376+C377+C378+C379","v":0},{"$f":"D368+D369+D370+D371+D372+D373+D374+D375+D376+D377+D378+D379","v":0},0,0,0,0,{"$f":"I368+I369+I370+I371+I372+I373+I374+I375+I376+I377+I378+I379","v":0},0,0,0,0,0,0,0,0,0,0,0,0,0,0,0,0,0,0,0,{"$f":"AC368+AC369+AC370+AC371+AC372+AC373+AC374+AC375+AC376+AC377+AC378+AC379","v":0},{"$f":"AD368+AD369+AD370+AD371+AD372+AD373+AD374+AD375+AD376+AD377+AD378+AD379","v":0},{"$f":"AE368+AE369+AE370+AE371+AE372+AE373+AE374+AE375+AE376+AE377+AE378+AE379","v":0},{"$f":"AF368+AF369+AF370+AF371+AF372+AF373+AF374+AF375+AF376+AF377+AF378+AF379","v":0},0,0,0,0]
["10.1.1","Vrtna krasuljica"]
["10.1.2","Luk vlasac"]
["10.1.3","Lišće celera (Listovi komorača, listovi korijandera, listovi kopra, listovi kima, ljupčac, anđelika, mirisna čehulja i ostale biljke iz porodice štitarki, meksički korijandar) "]
["10.1.4","Peršun (Listovi peršina korjenaša)"]
["10.1.5","Kadulja (Primorski vrijesak ili čubar, vrtni čubar, listovi borača)"]
["10.1.6","Ružmarin"]
["10.1.7","Timijan (Mažuran, origano)"]
["10.1.8","Bosiljak (Listovi matičnjaka, metvica, paprena metvica, sveti bosiljak, slatki bosiljak, limunski bosiljak, jestivo cvijeće (neven i drugi cvjetovi), Centella asiatica, list biljke Piper sarmentosum, listovi curryja)"]
["10.1.9","Lišće lovora (Limunska trava)"]
["10.1.10","Estragon (Miloduh (isop))"]
["10.1.11","Bijeli đumbir"]
["10.1.12","Ostalo"]
["10.2","Aromatični cvjeće",{"$f":"C381+C382+C383","v":0},{"$f":"D381+D382+D383","v":0},0,0,0,0,{"$f":"I381+I382+I383","v":0},0,0,0,0,0,0,0,0,0,0,0,0,0,0,0,0,0,0,0,{"$f":"AC381+AC382+AC383","v":0},{"$f":"AD381+AD382+AD383","v":0},{"$f":"AE381+AE382+AE383","v":0},{"$f":"AF381+AF382+AF383","v":0},0,0,0,0]
["10.2.1","Neven"]
["10.2.2","Neven, jestivo cvjeće"]
["10.2.3","Ostalo "]
["10.3","Cvjeće ili djelovi cvjeće koji se koriste kao začini ili slično",{"$f":"C385","v":0},0,0,0,0,0,{"$f":"I385","v":0},0,0,0,0,0,0,0,0,0,0,0,0,0,0,0,0,0,0,0,{"$f":"AC385","v":0},{"$f":"AD385","v":0},{"$f":"AE385","v":0},{"$f":"AF385","v":0},0,0,0,0]
["10.3.1","Hmelj"]
["10.4","Sjemenke kao začini",{"$f":"C387+C388+C389+C390+C391+C392+C393+C394+C395+C396","v":0},{"$f":"D387+D388+D389+D390+D391+D392+D393+D394+D395+D396","v":0},0,0,0,0,{"$f":"I387+I388+I389+I390+I391+I392+I393+I394+I395+I396","v":0},0,0,0,0,0,0,0,0,0,0,0,0,0,0,0,0,0,0,0,{"$f":"AC387+AC388+AC389+AC390+AC391+AC392+AC393+AC394+AC395+AC396","v":0},{"$f":"AD387+AD388+AD389+AD390+AD391+AD392+AD393+AD394+AD395+AD396","v":0},{"$f":"AE387+AE388+AE389+AE390+AE391+AE392+AE393+AE394+AE395+AE396","v":0},{"$f":"AF387+AF388+AF389+AF390+AF391+AF392+AF393+AF394+AF395+AF396","v":0},0,0,0,0]
["10.4.1","Anis"]
["10.4.2","Crni kim"]
["10.4.3","Sjeme celera i slično"]
["10.4.4","Sjeme korijandera"]
["10.4.5","Sjeme kumina"]
["10.4.6","Sjeme kopra"]
["10.4.7","Sjeme komorača"]
["10.4.8","Piskavica (grčka djetelina)"]
["10.4.9","Muškatni oraščić"]
["10.4.10","Ostale sjemenke koje se koriste kao začini"]
["10.5","Pupoljci kao začini",{"$f":"C398+C399+C400","v":0},{"$f":"D398+D399+D400","v":0},0,0,0,0,{"$f":"I398+I399+I400","v":0},0,0,0,0,0,0,0,0,0,0,0,0,0,0,0,0,0,0,0,{"$f":"AC398+AC399+AC400","v":0},{"$f":"AD398+AD399+AD400","v":0},{"$f":"AE398+AE399+AE400","v":0},{"$f":"AF398+AF399+AF400","v":0},0,0,0,0]
["10.5.1","Klinčić"]
["10.5.2","Kapari"]
["10.5.3","Ostalo"]
["10.6","Ovojnica ploda kao začin",{"$f":"C402+C403","v":0},{"$f":"D402+D403","v":0},0,0,0,0,{"$f":"I402+I403","v":0},0,0,0,0,0,0,0,0,0,0,0,0,0,0,0,0,0,0,0,{"$f":"AC402+AC403","v":0},{"$f":"AD402+AD403","v":0},{"$f":"AE402+AE403","v":0},{"$f":"AF402+AF403","v":0},0,0,0,0]
["10.6.1","Muškatni cvijet (macis)"]
["10.6.2","Ostalo"]
["10.7","Kora kao začin",{"$f":"C405+C406","v":0},{"$f":"D405+D406","v":0},0,0,0,0,{"$f":"I405+I406","v":0},0,0,0,0,0,0,0,0,0,0,0,0,0,0,0,0,0,0,0,{"$f":"AC405+AC406","v":0},{"$f":"AD405+AD406","v":0},{"$f":"AE405+AE406","v":0},{"$f":"AF405+AF406","v":0},0,0,0,0]
["10.7.1","Cimet (Kineski cimet (kasija))"]
["10.7.2","Ostala kora kao začin"]
["10.8","Korijen ili rizom kao začin",{"$f":"C408+C409+C410+C411+C412","v":0},{"$f":"D408+D409+D410+D411+D412","v":0},0,0,0,0,{"$f":"I408+I409+I410+I411+I412","v":0},0,0,0,0,0,0,0,0,0,0,0,0,0,0,0,0,0,0,0,{"$f":"AC408+AC409+AC410+AC411+AC412","v":0},{"$f":"AD408+AD409+AD410+AD411+AD412","v":0},{"$f":"AE408+AE409+AE410+AE411+AE412","v":0},{"$f":"AF408+AF409+AF410+AF411+AF412","v":0},0,0,0,0]
["10.8.1","Slatki korijen"]
["10.8.2","Đumbir"]
["10.8.3","Kurkuma"]
["10.8.4","Hren"]
["10.8.5","Ostalo"]
["10.9","Voće kao začini",{"$f":"C414+C415+C416+C417+C418+C419+C420+C421+C422","v":0},{"$f":"D414+D415+D416+D417+D418+D419+D420+D421+D422","v":0},0,0,0,0,{"$f":"I414+I415+I416+I417+I418+I419+I420+I421+I422","v":0},0,0,0,0,0,0,0,0,0,0,0,0,0,0,0,0,0,0,0,{"$f":"AC414+AC415+AC416+AC417+AC418+AC419+AC420+AC421+AC422","v":0},{"$f":"AD414+AD415+AD416+AD417+AD418+AD419+AD420+AD421+AD422","v":0},{"$f":"AE414+AE415+AE416+AE417+AE418+AE419+AE420+AE421+AE422","v":0},{"$f":"AF414+AF415+AF416+AF417+AF418+AF419+AF420+AF421+AF422","v":0},0,0,0,0]
["10.9.1","Piment"]
["10.9.2","Anispapar (japanski papar"]
["10.9.3","Kim"]
["10.9.4","Kardamom"]
["10.9.5","Bobice kleke (borovice)"]
["10.9.6","Biber, crni, zeleni i bijeli (Pipal, ružičasti papar)"]
["10.9.7","Mahune vanilije"]
["10.9.8","Tamarind (indijska datulja)"]
["10.9.9","Ostalo"]
["10.10","Tehnološki obrađeno i konzervirano začinsko bilje i začini",{"$f":"C424","v":0},0,0,0,0,0,{"$f":"I424","v":0},0,0,0,0,0,0,0,0,0,0,0,0,0,0,0,0,0,0,0,{"$f":"AC424","v":0},{"$f":"AD424","v":0},{"$f":"AE424","v":0},{"$f":"AF424","v":0},0,0,0,0]
["10.10.1","Suvi začini",{"$f":"C425+C426+C427+C428+C429+C430+C431+C432+C433+C434+C435+C436+C437+C438","v":0},{"$f":"D425+D426+D427+D428+D429+D430+D431+D432+D433+D434+D435+D436+D437+D438","v":0},0,0,0,0,{"$f":"I425+I426+I427+I428+I429+I430+I431+I432+I433+I434+I435+I436+I437+I438","v":0},0,0,0,0,0,0,0,0,0,0,0,0,0,0,0,0,0,0,0,{"$f":"AC425+AC426+AC427+AC428+AC429+AC430+AC431+AC432+AC433+AC434+AC435+AC436+AC437+AC438","v":0},{"$f":"AD425+AD426+AD427+AD428+AD429+AD430+AD431+AD432+AD433+AD434+AD435+AD436+AD437+AD438","v":0},{"$f":"AE425+AE426+AE427+AE428+AE429+AE430+AE431+AE432+AE433+AE434+AE435+AE436+AE437+AE438","v":0},{"$f":"AF425+AF426+AF427+AF428+AF429+AF430+AF431+AF432+AF433+AF434+AF435+AF436+AF437+AF438","v":0},0,0,0,0]
["10.10.1.1","Anđelika, suva"]
["10.10.1.2","Listovi matičnjaka, suvi"]
["10.10.1.3","Bosiljak, suvi"]
["10.10.1.4","Borač, suvi"]
["10.10.1.5","Lišće celera, suvo"]
["10.10.1.6","Komorač, suvi"]
["10.10.1.7","Miloduh, suvi"]
["10.10.1.8","ljupčac, suvi"]
["10.10.1.9","Ružmarin, suvi"]
["10.10.1.10","Mažuran, suvi"]
["10.10.1.11","Nana, suva"]
["10.10.1.12","Kadulja, suva"]
["10.10.1.13","Vrijesak, suvi"]
["10.10.1.14","Timijan, suvi"]
["11","VOĆNI/ POVRTNI I BILJNI SOKOVI, NAMAZI I SLIČNI PROIZVODI",{"$f":"C440+C493+C496+C499+C511","v":0},0,0,0,0,0,{"$f":"I440+I493+I496+I499+I511","v":0},0,0,0,0,0,0,0,0,0,0,0,0,0,0,0,0,0,0,0,{"$f":"AC440+AC493+AC496+AC499+AC511","v":0},{"$f":"AD440+AD493+AD496+AD499+AD511","v":0},{"$f":"AE440+AE493+AE496+AE499+AE511","v":0},{"$f":"AF440+AF493+AF496+AF499+AF511","v":0},0,0,0,0]
["11.1","Voćni i povrtni sokovi i nektari",{"$f":"C441+C466+C477+C487+C490","v":0},{"$f":"D441+D466+D477+D487+C490","v":0},{"$f":"E441+E466+E477+E487+E490","v":0},0,0,0,{"$f":"I441+I466+I477+I487+I490","v":0},0,0,0,0,0,0,0,0,0,0,0,0,0,0,0,0,0,0,0,{"$f":"AC441+AC466+AC477+AC487+AC490","v":0},{"$f":"AD441+AD466+AD477+AD487+AD490","v":0},{"$f":"AE441+AE466+AE477+AE487+AE490","v":0},{"$f":"AF441+AF466+AF477+AF487+AF490","v":0},0,0,0,0]
["11.1.1","Voćni sokovi (100 % voće)",{"$f":"C442+C443+C444+C445+C446+C447+C448+C449+C450+C451+C452+C453+C454+C455+C456+C457+C458+C459+C460+C461+C462+C463+C464+C465","v":0},{"$f":"D442+D443+D444+D445+D446+D447+D448+D449+D450+D451+D452+D453+D454+D455+D456+D457+D458+D459+D460+D461+D462+D463+D464+D465","v":0},0,0,0,0,{"$f":"I442+I443+I444+I445+I446+I447+I448+I449+I450+I451+I452+I453+I454+I455+I456+I457+I458+I459+I460+I461+I462+I463+I464+I465","v":0},0,0,0,0,0,0,0,0,0,0,0,0,0,0,0,0,0,0,0,{"$f":"AC442+AC443+AC444+AC445+AC446+AC447+AC448+AC449+AC450+AC451+AC452+AC453+AC454+AC455+AC456+AC457+AC458+AC459+AC460+AC461+AC462+AC463+AC464+AC465","v":0},{"$f":"AD442+AD443+AD444+AD445+AD446+AD447+AD448+AD449+AD450+AD451+AD452+AD453+AD454+AD455+AD456+AD457+AD458+AD459+AD460+AD461+AD462+AD463+AD464+AD465","v":0},{"$f":"AE442+AE443+AE444+AE445+AE446+AE447+AE448+AE449+AE450+AE451+AE452+AE453+AE454+AE455+AE456+AE457+AE458+AE459+AE460+AE461+AE462+AE463+AE464+AE465","v":0},{"$f":"AF442+AF443+AF444+AF445+AF446+AF447+AF448+AF449+AF450+AF451+AF452+AF453+AF454+AF455+AF456+AF457+AF458+AF459+AF460+AF461+AF462+AF463+AF464+AF465","v":0},0,0,0,0]
["11.1.1.1","Mješani voćni sok"]
["11.1.1.2","Voćni sok, jabuka"]
["11.1.1.3","Voćni sok, kajsija"]
["11.1.1.4","Voćni sok, crna ribizla"]
["11.1.1.5","Voćni sok, borovnica"]
["11.1.1.6","Voćni sok, citrusne "]
["11.1.1.7","Voćni sok, brusnica"]
["11.1.1.8","Voćni sok, zova/bazga"]
["11.1.1.9","Voćni sok, grožđe"]
["11.1.1.10","Voćni sok, grejp"]
["11.1.1.11","Voćni sok, limeta"]
["11.1.1.12","Voćni sok, mango"]
["11.1.1.13","Voćni sok, nektarina"]
["11.1.1.14","Voćni sok, marakuje"]
["11.1.1.15","Voćni sok, breskva"]
["11.1.1.16","Voćni sok, kruška"]
["11.1.1.17","Voćni sok, ananas"]
["11.1.1.18","Voćni sok, nar"]
["11.1.1.19","Voćni sok, šljiva"]
["11.1.1.20","Voćni sok, crveni ribiz"]
["11.1.1.21","Voćni sok, višnja"]
["11.1.1.22","Voćni sok, malina"]
["11.1.1.23","Voćni sok, jagoda"]
["11.1.1.24","Voćni sok, ostale vrste voća"]
["11.1.2","Voćni nektari",{"$f":"C467+C468+C469+C470+C471+C472+C473+C474+C475+C476","v":0},{"$f":"D467+D468+D469+D470+D471+D472+D473+D474+D475+D476","v":0},0,0,0,0,{"$f":"I467+I468+I469+I470+I471+I472+I473+I474+I475+I476","v":0},0,0,0,0,0,0,0,0,0,0,0,0,0,0,0,0,0,0,0,{"$f":"AC467+AC468+AC469+AC470+AC471+AC472+AC473+AC474+AC475+AC476","v":0},{"$f":"AD467+AD468+AD469+AD470+AD471+AD472+AD473+AD474+AD475+AD476","v":0},{"$f":"AE467+AE468+AE469+AE470+AE471+AE472+AE473+AE474+AE475+AE476","v":0},{"$f":"AF467+AF468+AF469+AF470+AF471+AF472+AF473+AF474+AF475+AF476","v":0},0,0,0,0]
["11.1.2.1","Voćni nektar, kajsija"]
["11.1.2.2","Voćni nektar, jabuka"]
["11.1.2.3","Voćni nektar, banana"]
["11.1.2.4","Voćni nektar, mango"]
["11.1.2.5","Voćni nektar, narandža"]
["11.1.2.6","Voćni nektar, breskva"]
["11.1.2.7","Voćni nektar, kruška"]
["11.1.2.8","Voćni nektar, ananas"]
["11.1.2.9","Voćni nektar, mješani"]
["11.1.2.10","Voćni nektar, ostalo voće"]
["11.1.3","Povrtni sok",{"$f":"C478+C479+C480+C481+C482+C483+C484+C485+C486","v":0},{"$f":"D478+D479+D480+D481+D482+D483+D484+D485+D486","v":0},0,0,0,0,{"$f":"I478+I479+I480+I481+I482+I483+I484+I485+I486","v":0},0,0,0,0,0,0,0,0,0,0,0,0,0,0,0,0,0,0,0,{"$f":"AC478+AC479+AC480+AC481+AC482+AC483+AC484+AC485+AC486","v":0},{"$f":"AD478+AD479+AD480+AD481+AD482+AD483+AD484+AD485+AD486","v":0},{"$f":"AE478+AE479+AE480+AE481+AE482+AE483+AE484+AE485+AE486","v":0},{"$f":"AF478+AF479+AF480+AF481+AF482+AF483+AF484+AF485+AF486","v":0},0,0,0,0]
["11.1.3.1","Povrtni sok, mješani"]
["11.1.3.2","Povrtni sok, mrkva"]
["11.1.3.3","Povrtni sok, celer"]
["11.1.3.4","Povrtni sok, paradajz"]
["11.1.3.5","Povrtni sok, krastavac"]
["11.1.3.6","Povrtni sok, repa"]
["11.1.3.7","Povrtni sok, cvekla"]
["11.1.3.8","Povrtni sok, krompir"]
["11.1.3.9","Povrtni sok, ostalo"]
["11.1.4","Mješani voćni i povrtni sokovi",{"$f":"C488+C489","v":0},0,0,0,0,0,{"$f":"I488+I489","v":0},0,0,0,0,0,0,0,0,0,0,0,0,0,0,0,0,0,0,0,{"$f":"AC488+AC489","v":0},{"$f":"AD488+AD489","v":0},{"$f":"AE488+AE489","v":0},{"$f":"AF488+AF489","v":0},0,0,0,0]
["11.1.4.1","Voćni sok, jabuka-mrkva"]
["11.1.4.2","voćni sok, mješano voće mrkva"]
["11.1.5","Mješani sokovi sa dodanim sastojcima (npr. multivitamin)",{"$f":"C491+C492","v":0},{"$f":"D491+D492","v":0},0,0,0,0,{"$f":"I491+I492","v":0},0,0,0,0,0,0,0,0,0,0,0,0,0,0,0,0,0,0,0,{"$f":"AC491+AC492","v":0},{"$f":"AD491+AD492","v":0},{"$f":"AE491+AE492","v":0},{"$f":"AF491+AF492","v":0},0,0,0,0]
["11.1.5.1","Voćni smoothie"]
["11.1.5.2","Multivitaminski sokovi"]
["11.2","Voćni i povrtni koncentrovani sokovi",{"$f":"C494+C495","v":0},0,0,0,0,0,{"$f":"I494+I495","v":0},0,0,0,0,0,0,0,0,0,0,0,0,0,0,0,0,0,0,0,{"$f":"AC494+AC495","v":0},{"$f":"AD494+AD495","v":0},{"$f":"AE494+AE495","v":0},{"$f":"AF494+AF495","v":0},0,0,0,0]
["11.2.1","Koncentrovani voćni sok"]
["11.2.2","Koncentrovani povrtni sok"]
["11.3","Voćni i povrtni sokovi u prahu",{"$f":"C497+C498","v":0},{"$f":"D497+D498","v":0},0,0,0,0,{"$f":"I497+I498","v":0},0,0,0,0,0,0,0,0,0,0,0,0,0,0,0,0,0,0,0,{"$f":"AC497+AC498","v":0},{"$f":"AD497+AD498","v":0},{"$f":"AE497+AE498","v":0},{"$f":"AF497+AF498","v":0},0,0,0,0]
["11.3.1","Dehidregovani/praškasti voćni sok"]
["11.3.2","Dehidregovani/praškasti povrtni sok"]
["11.4","Voćni i povrtni namazi",{"$f":"C500+C501+C502+C503+C504+C505+C506+C507+C508+C509+C510","v":0},{"$f":"D500+D501+D502+D503+D504+D505+D506+D507+D508+D509+D510","v":0},0,0,0,0,{"$f":"I500+I501+I502+I503+I504+I505+I506+I507+I508+I509+I510","v":0},0,0,0,0,0,0,0,0,0,0,0,0,0,0,0,0,0,0,0,{"$f":"AC500+AC501+AC502+AC503+AC504+AC505+AC506+AC507+AC508+AC509+AC510","v":0},{"$f":"AD500+AD501+AD502+AD503+AD504+AD505+AD506+AD507+AD508+AD509+AD510","v":0},{"$f":"AE500+AE501+AE502+AE503+AE504+AE505+AE506+AE507+AE508+AE509+AE510","v":0},{"$f":"AF500+AF501+AF502+AF503+AF504+AF505+AF506+AF507+AF508+AF509+AF510","v":0},0,0,0,0]
["11.4.1","Džem"]
["11.4.2","Ekstra džem"]
["11.4.3","Žele"]
["11.4.4","Ekstra žele"]
["11.4.5","Marmelada"]
["11.4.6","Žele marmelada"]
["11.4.7","Domaća marmelada"]
["11.4.8","Ekstra domaća marmelada"]
["11.4.9","Pekmez"]
["11.4.10","Voćni i povrtni kompot"]
["11.4.11","Voćni i voćno-povrtni pire"]
["11.5","Ekstarakti biljnog porijekla (npr. prah od kokosovog oraha, mlijeko kokosovog oraha) ",{"$f":"C512+C514","v":0},0,0,0,0,0,{"$f":"I512+I514","v":0},0,0,0,0,0,0,0,0,0,0,0,0,0,0,0,0,0,0,0,{"$f":"AC512+AC514","v":0},{"$f":"AD512+AD514","v":0},{"$f":"AE512+AE514","v":0},{"$f":"AF512+AF514","v":0},0,0,0,0]
["11.5.1","Tečni ekstrakt biljnog porijekla",{"$f":"C513","v":0},0,0,0,0,0,{"$f":"I513","v":0},0,0,0,0,0,0,0,0,0,0,0,0,0,0,0,0,0,0,0,{"$f":"AC513","v":0},{"$f":"AD513","v":0},{"$f":"AE513","v":0},{"$f":"AF513","v":0},0,0,0,0]
["11.5.1.1","Kokosovo mlijeko"]
["11.5.2","Prah ekstrakta biljnog porijekla",{"$f":"C515","v":0},0,0,0,0,0,{"$f":"I515","v":0},0,0,0,0,0,0,0,0,0,0,0,0,0,0,0,0,0,0,0,{"$f":"AC515","v":0},{"$f":"AD515","v":0},{"$f":"AE515","v":0},{"$f":"AF515","v":0},0,0,0,0]
["11.5.2.1","Prah od kokosovog mlijeka"]
["12","MESO I PROIZVODI OD MESA STOKE, PERADI I DIVLJAČI  ",{"$f":"C517+C537+C548+C563+C572+C582","v":0},{"$f":"D517+D537+D548+D563+D572+D582","v":0},{"$f":"E517+E537+E548+E563+E572+E582","v":0},0,0,0,{"$f":"I517+I537+I548+I563+I572+I582","v":0},0,0,0,0,0,0,0,0,0,0,0,0,0,0,0,0,0,0,0,{"$f":"AC517+AC537+AC548+AC563+AC572+AC582","v":0},{"$f":"AD517+AD537+AD548+AD563+AD572+AD582","v":0},{"$f":"AE517+AE537+AE548+AE563+AE572+AE582","v":0},{"$f":"AF517+AF537+AF548+AF563+AF572+AF582","v":0},0,0,0,0]
["12.1","Životinjski trupovi",{"$f":"+C518+C519+C520+C521+C522+C523+C524+C525","v":0},{"$f":"+D518+D519+D520+D521+D522+D523+D524+D525","v":0},{"$f":"+E518+E519+E520+E521+E522+E523+E524+E525","v":0},0,0,0,{"$f":"+I518+I519+I520+I521+I522+I523+I524+I525","v":0},0,0,0,0,0,0,0,0,0,0,0,0,0,0,0,0,0,0,0,{"$f":"+AC518+AC519+AC520+AC521+AC522+AC523+AC524+AC525","v":0},{"$f":"+AD518+AD519+AD520+AD521+AD522+AD523+AD524+AD525","v":0},{"$f":"+AE518+AE519+AE520+AE521+AE522+AE523+AE524+AE525","v":0},{"$f":"+AF518+AF519+AF520+AF521+AF522+AF523+AF524+AF525","v":0},0,0,0,0]
["12.1.1","Trupovi goveda"]
["12.1.2","Trupovi svinja"]
["12.1.3","Trupovi ovaca"]
["12.1.4","Trupovi koza"]
["12.1.5","Trupovi domaće kokoši"]
["12.1.6","Trupovi ostalih ptica"]
["12.1.7","Ostali trupovi"]
["12.1.8","Djelovi trupa",{"$f":"C526+C530","v":0},{"$f":"D526+D530","v":0},0,0,0,0,{"$f":"I526+I530","v":0},0,0,0,0,0,0,0,0,0,0,0,0,0,0,0,0,0,0,0,{"$f":"AC526+AC530","v":0},{"$f":"AD526+AD530","v":0},{"$f":"AE526+AE530","v":0},{"$f":"AF526+AF530","v":0},0,0,0,0]
["12.1.8.1","Perad",{"$f":"C527+C528+C529","v":0},{"$f":"D527+D528+D529","v":0},0,0,0,0,{"$f":"I527+I528+I529","v":0},0,0,0,0,0,0,0,0,0,0,0,0,0,0,0,0,0,0,0,{"$f":"AC527+AC528+AC529","v":0},{"$f":"AD527+AD528+AD529","v":0},{"$f":"AE527+AE528+AE529","v":0},{"$f":"AF527+AF528+AF529","v":0},0,0,0,0]
["12.1.8.1.1","File"]
["12.1.8.1.2","Bataci"]
["12.1.8.1.3","Krila"]
["12.1.8.2","Sisari",{"$f":"C531+C532+C533+C534+C535+C536","v":0},{"$f":"D531+D532+D533+D534+D535+D536","v":0},0,0,0,0,{"$f":"I531+I532+I533+I534+I535+I536","v":0},0,0,0,0,0,0,0,0,0,0,0,0,0,0,0,0,0,0,0,{"$f":"AC531+AC532+AC533+AC534+AC535+AC536","v":0},{"$f":"AD531+AD532+AD533+AD534+AD535+AD536","v":0},{"$f":"AE531+AE532+AE533+AE534+AE535+AE536","v":0},{"$f":"AF531+AF532+AF533+AF534+AF535+AF536","v":0},0,0,0,0]
["12.1.8.2.1","Rebra"]
["12.1.8.2.2","Plećka"]
["12.1.8.2.3","But"]
["12.1.8.2.4","Kičmeni dio"]
["12.1.8.2.5","File"]
["12.1.8.2.6","Vrat"]
["12.2","Proizvodi od svježeg mesa",{"$f":"C538+C539+C540+C545","v":0},{"$f":"D538+D539+D540+D545","v":0},0,0,0,0,{"$f":"I538+I539+I540+I545","v":0},0,0,0,0,0,0,0,0,0,0,0,0,0,0,0,0,0,0,0,{"$f":"AC538+AC539+AC540+AC545","v":0},{"$f":"AD538+AD539+AD540+AD545","v":0},{"$f":"AE538+AE539+AE540+AE545","v":0},{"$f":"AF538+AF539+AF540+AF545","v":0},0,0,0,0]
["12.2.1","Mljeveno meso"]
["12.2.2","Usitnjeno meso pripremljeno za oblikovanje"]
["12.2.3","Usitnjeno oblikovano meso",{"$f":"C541+C542+C543+C544","v":0},{"$f":"D541+D542+D543+D544","v":0},0,0,0,0,{"$f":"I541+I542+I543+I544","v":0},0,0,0,0,0,0,0,0,0,0,0,0,0,0,0,0,0,0,0,{"$f":"AC541+AC542+AC543+AC544","v":0},{"$f":"AD541+AD542+AD543+AD544","v":0},{"$f":"AE541+AE542+AE543+AE544","v":0},{"$f":"AF541+AF542+AF543+AF544","v":0},0,0,0,0]
["12.2.3.1","Ćevap"]
["12.2.3.2","Pljeskavica"]
["12.2.3.3","Hamburger"]
["12.2.3.4","Druge vrste srodnih proizvoda"]
["12.2.4","Drugi proizvodi za dalju obradu",{"$f":"C546+C547","v":0},{"$f":"D546+D547","v":0},0,0,0,0,{"$f":"I546+I547","v":0},0,0,0,0,0,0,0,0,0,0,0,0,0,0,0,0,0,0,0,{"$f":"AC546+AC547","v":0},{"$f":"AD546+AD547","v":0},{"$f":"AE546+AE547","v":0},{"$f":"AF546+AF547","v":0},0,0,0,0]
["12.2.4.1","Marinirano meso"]
["12.2.4.2","Panirano meso"]
["12.3","Životinjsko svježe masno tkivo",{"$f":"C549+C550+C557","v":0},{"$f":"D549+D550+D557","v":0},0,0,0,0,{"$f":"I549+I550+I557","v":0},0,0,0,0,0,0,0,0,0,0,0,0,0,0,0,0,0,0,0,{"$f":"AC549+AC550+AC557","v":0},{"$f":"AD549+AD550+AD557","v":0},{"$f":"AE549+AE550+AE557","v":0},{"$f":"AF549+AF550+AF557","v":0},0,0,0,0]
["12.3.1","Mješano svježe masno tkivo"]
["12.3.2","Masno tkivo sisara",{"$f":"C551+C552+C553+C554+C555+C556","v":0},{"$f":"D551+D552+D553+D554+D555+D556","v":0},0,0,0,0,{"$f":"I551+I552+I553+I554+I555+I556","v":0},0,0,0,0,0,0,0,0,0,0,0,0,0,0,0,0,0,0,0,{"$f":"AC551+AC552+AC553+AC554+AC555+AC556","v":0},{"$f":"AD551+AD552+AD553+AD554+AD555+AD556","v":0},{"$f":"AE551+AE552+AE553+AE554+AE555+AE556","v":0},{"$f":"AF551+AF552+AF553+AF554+AF555+AF556","v":0},0,0,0,0]
["12.3.2.1","Masno tkivo svinja i goveda"]
["12.3.2.2","Masno tkivo svinja"]
["12.3.2.3","masno tkivo goveda"]
["12.3.2.4","masno tkivo ovaca"]
["12.3.2.5","Masno tkivo koza"]
["12.3.2.6","Masno tkivo ostalih sisara "]
["12.3.3","Masno tkivo ptica",{"$f":"C558+C559+C560+C561+C562","v":0},{"$f":"D558+D559+D560+D561+D562","v":0},0,0,0,0,{"$f":"I558+I559+I560+I561+I562","v":0},0,0,0,0,0,0,0,0,0,0,0,0,0,0,0,0,0,0,0,{"$f":"AC558+AC559+AC560+AC561+AC562","v":0},{"$f":"AD558+AD559+AD560+AD561+AD562","v":0},{"$f":"AE558+AE559+AE560+AE561+AE562","v":0},{"$f":"AF558+AF559+AF560+AF561+AF562","v":0},0,0,0,0]
["12.3.3.1","Masno tkivo živine"]
["12.3.3.2","Masno tkivo domaće kokoši"]
["12.3.3.3","Masno tkivo patke"]
["12.3.3.4","Masno tkivo ćurke"]
["12.3.3.5","Masno tkivo guske"]
["12.4","Iznutrice i ostali klaonički proizvodi",{"$f":"C564+C567+C570+C571","v":0},{"$f":"D564+D567+D570+D571","v":0},0,0,0,0,{"$f":"I564+I567+I570+I571","v":0},0,0,0,0,0,0,0,0,0,0,0,0,0,0,0,0,0,0,0,{"$f":"AC564+AC567+AC570+AC571","v":0},{"$f":"AD564+AD567+AD570+AD571","v":0},{"$f":"AE564+AE567+AE570+AE571","v":0},{"$f":"AF564+AF567+AF570+AF571","v":0},0,0,0,0]
["12.4.1","Jetra",{"$f":"C565+C566","v":0},{"$f":"D565+D566","v":0},0,0,0,0,{"$f":"I565+I566","v":0},0,0,0,0,0,0,0,0,0,0,0,0,0,0,0,0,0,0,0,{"$f":"AC565+AC566","v":0},{"$f":"AD565+AD566","v":0},{"$f":"AE565+AE566","v":0},{"$f":"AF565+AF566","v":0},0,0,0,0]
["12.4.1.1","Jetra sisara"]
["12.4.1.2","Jetra živine"]
["12.4.2","Bubrezi",{"$f":"C568+C569","v":0},{"$f":"D568+D569","v":0},0,0,0,0,{"$f":"I568+I569","v":0},0,0,0,0,0,0,0,0,0,0,0,0,0,0,0,0,0,0,0,{"$f":"AC568+AC569","v":0},{"$f":"AD568+AD569","v":0},{"$f":"AE568+AE569","v":0},{"$f":"AF568+AF569","v":0},0,0,0,0]
["12.4.2.1","Bubrezi sisara"]
["12.4.2.2","Bubrezi živine"]
["12.4.3","Ostale iznutrice"]
["12.4.4","Krv i proizvodi od životinjske krvi"]
["12.5","Mašinski okošteno meso životinja (MOM)",{"$f":"C573+C579","v":0},{"$f":"D573+D579","v":0},0,0,0,0,{"$f":"I573+I579","v":0},0,0,0,0,0,0,0,0,0,0,0,0,0,0,0,0,0,0,0,{"$f":"AC573+AC579","v":0},{"$f":"AD573+AD579","v":0},{"$f":"AE573+AE579","v":0},{"$f":"AF573+AF579","v":0},0,0,0,0]
["12.5.1","Mašinski otkošteno meso (MOM) sisara",{"$f":"C574+C575+C576+C577+C578","v":0},{"$f":"D574+D575+D576+D577+D578","v":0},0,0,0,0,{"$f":"I574+I575+I576+I577+I578","v":0},0,0,0,0,0,0,0,0,0,0,0,0,0,0,0,0,0,0,0,{"$f":"AC574+AC575+AC576+AC577+AC578","v":0},{"$f":"AD574+AD575+AD576+AD577+AD578","v":0},{"$f":"AE574+AE575+AE576+AE577+AE578","v":0},{"$f":"AF574+AF575+AF576+AF577+AF578","v":0},0,0,0,0]
["12.5.1.1","Mašinski otkošteno meso goveda"]
["12.5.1.2","Mašinski otkošteno meso svinja"]
["12.5.1.3","Mašinski otkošteno meso ovaca"]
["12.5.1.4","Mašinski otkošteno meso koza"]
["12.5.1.5","Mašinski otkošteno meso konja"]
["12.5.2","Mašinski otkošteno meso peradi",{"$f":"C580+C581","v":0},0,null,null,0,0,{"$f":"I580+I581","v":0},0,0,0,0,0,0,0,0,0,0,0,0,0,0,0,0,0,0,0,{"$f":"AC580+AC581","v":0},{"$f":"AD580+AD581","v":0},{"$f":"AE580+AE581","v":0},{"$f":"AF580+AF581","v":0},0,0,0,0]
["12.5.2.1","Mašinski otkošteno meso domaće kokoši"]
["12.5.2.2","Mašinski otkošteno meso ostale peradi"]
["12.6","Prerađeno i konzervirano meso",{"$f":"C583+C621+C643+C654+C675","v":0},{"$f":"D583+D621+D643+D654+D675","v":0},0,0,0,0,{"$f":"I583+I621+I643+I654+I675","v":0},0,0,0,0,0,0,0,0,0,0,0,0,0,0,0,0,0,0,0,{"$f":"AC583+AC621+AC643+AC654+AC675","v":0},{"$f":"AD583+AD621+AD643+AD654+AD675","v":0},{"$f":"AE583+AE621+AE643+AE654+AE675","v":0},{"$f":"AF583+AF621+AF643+AF654+AF675","v":0},0,0,0,0]
["12.6.1","Kobasice",{"$f":"C584+C592+C595+C601+C608+C611+C612+C618+C619+C620","v":0},{"$f":"D584+D592+D595+D601+D608+D611+D612+D618+D619+D620","v":0},0,0,0,0,{"$f":"I584+I592+I595+I601+I608+I611+I612+I618+I619+I620","v":0},0,0,0,0,0,0,0,0,0,0,0,0,0,0,0,0,0,0,0,{"$f":"AC584+AC592+AC595+AC601+AC608+AC611+AC612+AC618+AC619+AC620","v":0},{"$f":"AD584+AD592+AD595+AD601+AD608+AD611+AD612+AD618+AD619+AD620","v":0},{"$f":"AE584+AE592+AE595+AE601+AE608+AE611+AE612+AE618+AE619+AE620","v":0},{"$f":"AF584+AF592+AF595+AF601+AF608+AF611+AF612+AF618+AF619+AF620","v":0},0,0,0,0]
["12.6.1.1","Fermentisane kobasice",{"$f":"C585+C586+C587+C588+C589+C590+C591","v":0},{"$f":"D585+D586+D587+D588+D589+D590+D591","v":0},0,0,0,0,{"$f":"I585+I586+I587+I588+I589+I590+I591","v":0},0,0,0,0,0,0,0,0,0,0,0,0,0,0,0,0,0,0,0,{"$f":"AC585+AC586+AC587+AC588+AC589+AC590+AC591","v":0},{"$f":"AD585+AD586+AD587+AD588+AD589+AD590+AD591","v":0},{"$f":"AE585+AE586+AE587+AE588+AE589+AE590+AE591","v":0},{"$f":"AF585+AF586+AF587+AF588+AF589+AF590+AF591","v":0},0,0,0,0]
["12.6.1.1.1","Fermetisane suhe trajne kobasice"]
["12.6.1.1.2","Kulen"]
["12.6.1.1.3","Zimska salama"]
["12.6.1.1.4","Sremska kobasica"]
["12.6.1.1.5","Sudžuk"]
["12.6.1.1.6","Čajna"]
["12.6.1.1.7","Srodni proizvodi"]
["12.6.1.2","Fermetisane kobasice za mazanje",{"$f":"C593+C594","v":0},{"$f":"D593+D594","v":0},0,0,0,0,{"$f":"I593+I594","v":0},0,0,0,0,0,0,0,0,0,0,0,0,0,0,0,0,0,0,0,{"$f":"AC593+AC594","v":0},{"$f":"AD593+AD594","v":0},{"$f":"AE593+AE594","v":0},{"$f":"AF593+AF594","v":0},0,0,0,0]
["12.6.1.2.1","Čajni namaz"]
["12.6.1.2.2","Srodni proizvodi"]
["12.6.1.3","Toplotno obrađene kobasice",{"$f":"C596+C597+C598+C599+C600","v":0},{"$f":"D596+D597+D598+D599+D600","v":0},0,0,0,0,{"$f":"I596+I597+I598+I599+I600","v":0},0,0,0,0,0,0,0,0,0,0,0,0,0,0,0,0,0,0,0,{"$f":"AC596+AC597+AC598+AC599+AC600","v":0},{"$f":"AD596+AD597+AD598+AD599+AD600","v":0},{"$f":"AE596+AE597+AE598+AE599+AE600","v":0},{"$f":"AF596+AF597+AF598+AF599+AF600","v":0},0,0,0,0]
["12.6.1.3.1","Fino usitnjene barene kobasice"]
["12.6.1.3.2","Hrenovke"]
["12.6.1.3.3","Pariška kobasica, ekstra ili posebna kobasica"]
["12.6.1.3.4","Bijela kobasica"]
["12.6.1.3.5","Srodni proizvodi"]
["12.6.1.4","Grubo usitnjene barene kobasice – polutrajne kobasice",{"$f":"C602+C603+C604+C605+C606+C607","v":0},{"$f":"D602+D603+D604+D605+D606+D607","v":0},0,0,0,0,{"$f":"I602+I603+I604+I605+I606+I607","v":0},0,0,0,0,0,0,0,0,0,0,0,0,0,0,0,0,0,0,0,{"$f":"AC602+AC603+AC604+AC605+AC606+AC607","v":0},{"$f":"AD602+AD603+AD604+AD605+AD606+AD607","v":0},{"$f":"AE602+AE603+AE604+AE605+AE606+AE607","v":0},{"$f":"AF602+AF603+AF604+AF605+AF606+AF607","v":0},0,0,0,0]
["12.6.1.4.1","Kranjska kobasica"]
["12.6.1.4.2","Tirolska kobasica"]
["12.6.1.4.3","Roštiljska kobasica"]
["12.6.1.4.4","Mortadela"]
["12.6.1.4.5","Šunkarica"]
["12.6.1.4.6","Srodni proizvodi"]
["12.6.1.5","Kobasice od mesa u komadima",{"$f":"C609+C610","v":0},{"$f":"D609+D610","v":0},0,0,0,0,{"$f":"I609+I610","v":0},0,0,0,0,0,0,0,0,0,0,0,0,0,0,0,0,0,0,0,{"$f":"AC609+AC610","v":0},{"$f":"AD609+AD610","v":0},{"$f":"AE609+AE610","v":0},{"$f":"AF609+AF610","v":0},0,0,0,0]
["12.6.1.5.1","Šunka u omotu/kuhana šunka"]
["12.6.1.5.2","Srodni proizvodi"]
["12.6.1.6","Mesni hljebovi/mesni sirevi"]
["12.6.1.7","Kuhane kobasice",{"$f":"C613+C614+C615+C616+C617","v":0},0,0,0,0,0,{"$f":"I613+I614+I615+I616+I617","v":0},0,0,0,0,0,0,0,0,0,0,0,0,0,0,0,0,0,0,0,{"$f":"AC613+AC614+AC615+AC616+AC617","v":0},{"$f":"AD613+AD614+AD615+AD616+AD617","v":0},{"$f":"AE613+AE614+AE615+AE616+AE617","v":0},{"$f":"AF613+AF614+AF615+AF616+AF617","v":0},0,0,0,0]
["12.6.1.7.1","Jetrena kobasica i pašteta"]
["12.6.1.7.2","Jetrena kobasica/jetrenjača"]
["12.6.1.7.3","Jetena pašteta"]
["12.6.1.7.4","Mesna pašteta"]
["12.6.1.7.5","Srodni proizvodi"]
["12.6.1.8","Krvavice"]
["12.6.1.9","Ostale toplotno obrađene kobasice"]
["12.6.1.10","Svježe kobasice"]
["12.6.2","Suhomesnati proizvodi",{"$f":"C622+C630+C639","v":0},{"$f":"D622+D630+D639","v":0},0,0,0,0,{"$f":"I622+I630+I639","v":0},0,0,0,0,0,0,0,0,0,0,0,0,0,0,0,0,0,0,0,{"$f":"AC622+AC630+AC639","v":0},{"$f":"AD622+AD630+AD639","v":0},{"$f":"AE622+AE630+AE639","v":0},{"$f":"AF622+AF630+AF639","v":0},0,0,0,0]
["12.6.2.1","Dimljeni proizvodi (polutrajni suhomesnati proizvodi)",{"$f":"C623+C624+C625+C626+C627+C628+C629","v":0},0,0,0,0,0,{"$f":"I623+I624+I625+I626+I627+I628+I629","v":0},0,0,0,0,0,0,0,0,0,0,0,0,0,0,0,0,0,0,0,{"$f":"AC623+AC624+AC625+AC626+AC627+AC628+AC629","v":0},{"$f":"AD623+AD624+AD625+AD626+AD627+AD628+AD629","v":0},{"$f":"AE623+AE624+AE625+AE626+AE627+AE628+AE629","v":0},{"$f":"AF623+AF624+AF625+AF626+AF627+AF628+AF629","v":0},0,0,0,0]
["12.7.2.1.1","Dimljena šunka"]
["12.7.2.1.2","Dimljena plećka/lopatica"]
["12.7.2.1.3","Dimljena pečenica/kare i dimljeni vrat"]
["12.7.2.1.4","Dimljeno goveđe meso"]
["12.7.2.1.5","Dimljeno bijelo meso/file"]
["12.7.2.1.6","Dimljeni batak/karabatak"]
["12.7.2.1.7","Srodni proizvodi"]
["12.6.2.2","Suhomesnati proizvodi (trajni suhomesnati proizvodi)",{"$f":"C631+C632+C633+C634+C635+C636+C637+C638","v":0},0,0,0,0,0,{"$f":"I631+I632+I633+I634+I635+I636+I637+I638","v":0},0,0,0,0,0,0,0,0,0,0,0,0,0,0,0,0,0,0,0,{"$f":"AC631+AC632+AC633+AC634+AC635+AC636+AC637+AC638","v":0},{"$f":"AD631+AD632+AD633+AD634+AD635+AD636+AD637+AD638","v":0},{"$f":"AE631+AE632+AE633+AE634+AE635+AE636+AE637+AE638","v":0},{"$f":"AF631+AF632+AF633+AF634+AF635+AF636+AF637+AF638","v":0},0,0,0,0]
["12.6.2.2.1","Suha šunka i suha šunka bez kosti"]
["12.6.2.2.2","Pršut"]
["12.6.2.2.3","Suha plećka"]
["12.6.2.2.4","Suhi vrat i buđola"]
["12.6.2.2.5","Suha svinjska pečenica"]
["12.6.2.2.6","Goveđi pršut"]
["12.6.2.2.7","Ovčija/kozija stelja i pastrma - suho ovčije i kozije meso"]
["12.6.2.2.8","Srodni proizvodi"]
["12.6.2.3","Slanina",{"$f":"C640+C641+C642","v":0},{"$f":"D640+D641+D642","v":0},0,0,0,0,{"$f":"I640+I641+I642","v":0},0,0,0,0,0,0,0,0,0,0,0,0,0,0,0,0,0,0,0,{"$f":"AC640+AC641+AC642","v":0},{"$f":"AD640+AD641+AD642","v":0},{"$f":"AE640+AE641+AE642","v":0},{"$f":"AF640+AF641+AF642","v":0},0,0,0,0]
["12.6.2.3.1","Sirova/svježa slanina"]
["12.6.2.3.2","Polutrajna i trajna slanina"]
["12.6.2.3.3","Srodni proizvodi"]
["12.6.3","Jela od mesa",{"$f":"C644+C647","v":0},{"$f":"D644+D647","v":0},0,0,0,0,{"$f":"I644+I647","v":0},0,0,0,0,0,0,0,0,0,0,0,0,0,0,0,0,0,0,0,{"$f":"AC644+AC647","v":0},{"$f":"AD644+AD647","v":0},{"$f":"AE644+AE647","v":0},{"$f":"AF644+AF647","v":0},0,0,0,0]
["12.6.3.1","Polugotova jela",{"$f":"C645+C646","v":0},{"$f":"D645+D646","v":0},0,0,0,0,{"$f":"I645+I646","v":0},0,0,0,0,0,0,0,0,0,0,0,0,0,0,0,0,0,0,0,{"$f":"AC645+AC646","v":0},{"$f":"AD645+AD646","v":0},{"$f":"AE645+AE646","v":0},{"$f":"AF645+AF646","v":0},0,0,0,0]
["12.6.3.1.1","Polugotova sirova jela"]
["12.6.3.1.2","Polugotova djelimično toplotom obrađena jela"]
["12.6.3.2","Pripremljena gotova jela",{"$f":"C648+C649+C650+C653","v":0},{"$f":"D648+D649+D650+D653","v":0},0,0,0,0,{"$f":"I648+I649+I650+I653","v":0},0,0,0,0,0,0,0,0,0,0,0,0,0,0,0,0,0,0,0,{"$f":"AC648+AC649+AC650+AC653","v":0},{"$f":"AD648+AD649+AD650+AD653","v":0},{"$f":"AE648+AE649+AE650+AE653","v":0},{"$f":"AF648+AF649+AF650+AF653","v":0},0,0,0,0]
["12.6.3.2.1","Pečenja"]
["12.6.3.2.2","Gotova topla jela"]
["12.6.3.2.3","Gotova hladna jela",{"$f":"C651+C652","v":0},{"$f":"D651+D652","v":0},0,0,0,0,{"$f":"I651+I652","v":0},0,0,0,0,0,0,0,0,0,0,0,0,0,0,0,0,0,0,0,{"$f":"AC651+AC652","v":0},{"$f":"AD651+AD652","v":0},{"$f":"AE651+AE652","v":0},{"$f":"AF651+AF652","v":0},0,0,0,0]
["12.6.3.2.3.1","Jela u želeu"]
["12.6.3.2.3.2","Mesne salate"]
["12.6.3.2.4","Gotova smrznuta jela"]
["12.6.4","Konzerve",{"$f":"C655+C662+C666+C669+C670","v":0},{"$f":"D655+D662+D666+D669+D670","v":0},0,0,0,0,{"$f":"I655+I662+I666+I669+I670","v":0},0,0,0,0,0,0,0,0,0,0,0,0,0,0,0,0,0,0,0,{"$f":"AC655+AC662+AC666+AC669+AC670","v":0},{"$f":"AD655+AD662+AD666+AD669+AD670","v":0},{"$f":"AE655+AE662+AE666+AE669+AE670","v":0},{"$f":"AF655+AF662+AF666+AF669+AF670","v":0},0,0,0,0]
["12.6.4.1","Konzerve od mesa u komadima",{"$f":"C656+C657+C658+C659+C660+C661","v":0},0,0,0,0,0,{"$f":"I656+I657+I658+I659+I660+I661","v":0},0,0,0,0,0,0,0,0,0,0,0,0,0,0,0,0,0,0,0,{"$f":"AC656+AC657+AC658+AC659+AC660+AC661","v":0},{"$f":"AD656+AD657+AD658+AD659+AD660+AD661","v":0},{"$f":"AE656+AE657+AE658+AE659+AE660+AE661","v":0},{"$f":"AF656+AF657+AF658+AF659+AF660+AF661","v":0},0,0,0,0]
["12.6.4.1.1","Kuhana šunka"]
["12.6.4.1.2","Kuhana plećka"]
["12.6.4.1.3","Kuhani kare"]
["12.6.4.1.4","Kuhana prsa"]
["12.6.4.1.5","Oblikovani proizvodi od manjih komada i različitih vrsta mesa"]
["12.6.4.1.6","Srodni proizvodi"]
["12.6.4.2","Konzerve od mesa u vlastitom soku",{"$f":"C663+C664+C665","v":0},{"$f":"D663+D664+D665","v":0},0,0,0,0,{"$f":"I663+I664+I665","v":0},0,0,0,0,0,0,0,0,0,0,0,0,0,0,0,0,0,0,0,{"$f":"AC663+AC664+AC665","v":0},{"$f":"AD663+AD664+AD665","v":0},{"$f":"AE663+AE664+AE665","v":0},{"$f":"AF663+AF664+AF665","v":0},0,0,0,0]
["12.6.4.2.1","Govedina u vlastitom soku"]
["12.6.4.2.2","Svinjetina u vlastitom soku"]
["12.6.4.2.3","Srodni proizvodi"]
["12.6.4.3","Konzerve od usitnjenog mesa",{"$f":"C667+C668","v":0},0,0,0,0,0,{"$f":"I667+I668","v":0},0,0,0,0,0,0,0,0,0,0,0,0,0,0,0,0,0,0,0,{"$f":"AC667+AC668","v":0},{"$f":"AD667+AD668","v":0},{"$f":"AE667+AE668","v":0},{"$f":"AF667+AF668","v":0},0,0,0,0]
["12.6.4.3.1","Mesni doručak/mesni narezak"]
["12.6.4.3.2","Srodni proizvodi"]
["12.6.4.4","Kobasice, paštete i namazi u konzervi"]
["12.6.4.5","Jela od mesa u konzervi",{"$f":"C671+C672+C673+C674","v":0},0,0,0,0,0,{"$f":"I671+I672+I673+I674","v":0},0,0,0,0,0,0,0,0,0,0,0,0,0,0,0,0,0,0,0,{"$f":"AC671+AC672+AC673+AC674","v":0},{"$f":"AD671+AD672+AD673+AD674","v":0},{"$f":"AE671+AE672+AE673+AE674","v":0},{"$f":"AF671+AF672+AF673+AF674","v":0},0,0,0,0]
["12.6.4.5.1","Gulaš"]
["12.6.4.5.2","Srodni proizvodi, jela od mesa, iznutrica i proizvoda od mesa u umaku"]
["12.6.4.5.3","Srodni proizvodi, jela od mesa, iznutrica, proizvoda od mesa s povrćem i drugim namirnicama"]
["12.6.4.5.4","Srodni proizvodi, jela od povrća ili drugih namirnica s mesom, iznutricama ili proizvodima od mesa"]
["12.6.5","Topljena životinjska mast",{"$f":"C676+C677","v":0},{"$f":"D676+D677","v":0},0,0,0,0,{"$f":"I676+I677","v":0},0,0,0,0,0,0,0,0,0,0,0,0,0,0,0,0,0,0,0,{"$f":"AC676+AC677","v":0},{"$f":"AD676+AD677","v":0},{"$f":"AE676+AE677","v":0},{"$f":"AF676+AF677","v":0},0,0,0,0]
["12.6.5.1","Čvarci"]
["12.6.5.2","Srodni proizvodi od masti i čvaraka proizvode se od masti, čvaraka i dodatnih sastojaka"]
["13","RIBE I PROIZVODI OD RIBE                                         ",{"$f":"C679+C691+C695","v":0},{"$f":"D679+D691+D695","v":0},0,0,0,0,{"$f":"I679+I691+I695","v":0},0,0,0,0,0,0,0,0,0,0,0,0,0,0,0,0,0,0,0,{"$f":"AC679+AC691+AC695","v":0},{"$f":"AD679+AD691+AD695","v":0},{"$f":"AE679+AE691+AE695","v":0},{"$f":"AF679+AF691+AF695","v":0},0,0,0,0]
["13.1","Riba (meso)",{"$f":"C680+C684+C690","v":0},{"$f":"D680+D684+D690","v":0},0,0,0,0,{"$f":"I680+I684+I690","v":0},0,0,0,0,0,0,0,0,0,0,0,0,0,0,0,0,0,0,0,{"$f":"AC680+AC684+AC690","v":0},{"$f":"AD680+AD684+AD690","v":0},{"$f":"AE680+AE684+AE690","v":0},{"$f":"AF680+AF684+AF690","v":0},0,0,0,0]
["13.1.1","Slatkovodna riba",{"$f":"C681+C682+C683","v":0},{"$f":"D681+D682+D683","v":0},0,0,0,0,{"$f":"I681+I682+I683","v":0},0,0,0,0,0,0,0,0,0,0,0,0,0,0,0,0,0,0,0,{"$f":"AC681+AC682+AC683","v":0},{"$f":"AD681+AD682+AD683","v":0},{"$f":"AE681+AE682+AE683","v":0},{"$f":"AF681+AF682+AF683","v":0},0,0,0,0]
["13.1.1.1","Šaran, mrene i drugi ciprinidi"]
["13.1.1.2","Tilapija i drugi ciklidi"]
["13.1.1.3","Razne slatkovodne ribe"]
["13.1.2","Diadromna riba",{"$f":"C685+C686+C687+C688+C689","v":0},{"$f":"D685+D686+D687+D688+D689","v":0},0,0,0,0,{"$f":"I685+I686+I687+I688+I689","v":0},0,0,0,0,0,0,0,0,0,0,0,0,0,0,0,0,0,0,0,{"$f":"AC685+AC686+AC687+AC688+AC689","v":0},{"$f":"AD685+AD686+AD687+AD688+AD689","v":0},{"$f":"AE685+AE686+AE687+AE688+AE689","v":0},{"$f":"AF685+AF686+AF687+AF688+AF689","v":0},0,0,0,0]
["13.1.2.1","Jesetra"]
["13.1.2.2","Riječna jegulja"]
["13.1.2.3","Losos, pastrve, gavuni"]
["13.1.2.4","Lojka atlanska (Alosa alosa)"]
["13.1.2.5","Ostale diadromne ribe"]
["13.1.3","Morska riba"]
["13.2","Riblje iznutrice",{"$f":"C692+C693+C694","v":0},{"$f":"D692+D693+D694","v":0},0,0,0,{"$f":"H692+H693+H694","v":0},{"$f":"I692+I693+I694","v":0},0,0,0,0,0,0,0,0,0,0,0,0,0,0,0,0,0,0,0,{"$f":"AC692+AC693+AC694","v":0},{"$f":"AD692+AD693+AD694","v":0},{"$f":"AE692+AE693+AE694","v":0},{"$f":"AF692+AF693+AF694","v":0},0,0,0,0]
["13.2.1","Riblja jetra"]
["13.2.2","Riblja ikra"]
["13.2.3","Ostale riblje iznutrice"]
["13.3","Prerađena i konzervirana riba",{"$f":"C696+C700+C701+C702+C703","v":0},{"$f":"D696+D700+D701+D702+D703","v":0},0,0,0,{"$f":"H696+H700+H701+H702+H703","v":0},{"$f":"I696+I700+I701+I702+I703","v":0},0,0,0,0,0,0,0,0,0,0,0,0,0,0,0,0,0,0,0,{"$f":"AC696+AC700+AC701+AC702+AC703","v":0},{"$f":"AD696+AD700+AD701+AD702+AD703","v":0},{"$f":"AE696+AE700+AE701+AE702+AE703","v":0},{"$f":"AF696+AF700+AF701+AF702+AF703","v":0},0,0,0,0]
["13.3.1","Strukturirano meso ribe i riblje paste",{"$f":"C697+C698+C699","v":0},{"$f":"D697+D698+D699","v":0},0,0,0,{"$f":"H697+H698+H699","v":0},{"$f":"I697+I698+I699","v":0},0,0,0,0,0,0,0,0,0,0,0,0,0,0,0,0,0,0,0,{"$f":"AC697+AC698+AC699","v":0},{"$f":"AD697+AD698+AD699","v":0},{"$f":"AE697+AE698+AE699","v":0},{"$f":"AF697+AF698+AF699","v":0},0,0,0,0]
["13.3.1.1","Riblji štapići, panirani"]
["13.3.1.2","Riblje kuglice"]
["13.3.1.3","Riblja pasta ili surimi"]
["13.3.2","Marinirana riba i riba u salamuri"]
["13.3.3","Sušena riba"]
["13.3.4","Konzervirana riba"]
["13.3.5","Dimljena riba"]
["14","MORSKI PLODOVI I PROIZVODI OD MORSKIH PLODOVA",{"$f":"C705+C706+C707+C708+C709+C710","v":0},{"$f":"D705+D706+D707+D708+D709+D710","v":0},0,0,0,0,{"$f":"I705+I706+I707+I708+I709+I710","v":0},0,0,0,0,0,0,0,0,0,0,0,0,0,0,0,0,0,0,0,{"$f":"AC705+AC706+AC707+AC708+AC709+AC710","v":0},{"$f":"AD705+AD706+AD707+AD708+AD709+AD710","v":0},{"$f":"AE705+AE706+AE707+AE708+AE709+AE710","v":0},{"$f":"AF705+AF706+AF707+AF708+AF709+AF710","v":0},0,0,0,0]
["14.1","Rakovi"]
["14.2","Mekušci"]
["14.3","Plaštaši"]
["14.4","Morski ježevi"]
["14.5","Meduze i slični proizvodi"]
["14.6","Prerađeni i konzervirani plodovi mora"]
["15","PUŽEVI, INSEKTI i GLISTE",{"$f":"C712+C713+C714","v":0},{"$f":"D712+D713+D714","v":0},0,0,0,0,{"$f":"I712+I713+I714","v":0},0,0,0,0,0,0,0,0,0,0,0,0,0,0,0,0,0,0,0,{"$f":"AC712+AC713+AC714","v":0},{"$f":"AD712+AD713+AD714","v":0},{"$f":"AE712+AE713+AE714","v":0},{"$f":"AF712+AF713+AF714","v":0},0,0,0,0]
["15.1","Puževi"]
["15.2","Insekti"]
["15.3","Gliste"]
["16","MLIJEKO I MLIJEČNI PROIZVODI",{"$f":"C716+C732+C735+C742+C743+C744+C745+C746+C747+C761+C762","v":0},{"$f":"D716+D732+D735+D742+D743+D744+D745+D746+D747+D761+D762","v":0},0,0,0,0,{"$f":"I716+I732+I735+I742+I743+I744+I745+I746+I747+I761+I762","v":0},0,0,0,0,0,0,0,0,0,0,0,0,0,0,0,0,0,0,0,{"$f":"AC716+AC732+AC735+AC742+AC743+AC744+AC745+AC746+AC747+AC761+AC762","v":0},{"$f":"AD716+AD732+AD735+AD742+AD743+AD744+AD745+AD746+AD747+AD761+AD762","v":0},{"$f":"AE716+AE732+AE735+AE742+AE743+AE744+AE745+AE746+AE747+AE761+AE762","v":0},{"$f":"AF716+AF732+AF735+AF742+AF743+AF744+AF745+AF746+AF747+AF761+AF762","v":0},0,0,0,0]
["16.1","Svježe mlijeko",{"$f":"C717+C722+C727","v":0},{"$f":"D717+D722+D727","v":0},0,0,0,{"$f":"H717+H722+H727","v":0},{"$f":"I717+I722+I727","v":0},0,0,0,0,0,0,0,0,0,0,0,0,0,0,0,0,0,0,0,{"$f":"AC717+AC722+AC727","v":0},{"$f":"AD717+AD722+AD727","v":0},{"$f":"AE717+AE722+AE727","v":0},{"$f":"AF717+AF722+AF727","v":0},0,0,0,0]
["16.1.1","Kravlje mlijeko",{"$f":"C718+C719+C720+C721","v":0},{"$f":"D718+D719+D720+D721","v":0},0,0,0,0,{"$f":"I718+I719+I720+I721","v":0},0,0,0,0,0,0,0,0,0,0,0,0,0,0,0,0,0,0,0,{"$f":"AC718+AC719+AC720+AC721","v":0},{"$f":"AD718+AD719+AD720+AD721","v":0},{"$f":"AE718+AE719+AE720+AE721","v":0},{"$f":"AF718+AF719+AF720+AF721","v":0},0,0,0,0]
["16.1.1.1","Sirovo mlijeko i proizvodi od sirovog mlijeka"]
["16.1.1.2","Punomasno mlijeko"]
["16.1.1.3","Djelimično obrano mlijeko"]
["16.1.1.4","Obrano mlijeko"]
["16.1.2","Ovčije mlijeko",{"$f":"C723+C724+C725+C726","v":0},0,0,0,0,0,{"$f":"I723+I724+I725+I726","v":0},0,0,0,0,0,0,0,0,0,0,0,0,0,0,0,0,0,0,0,{"$f":"AC723+AC724+AC725+AC726","v":0},{"$f":"AD723+AD724+AD725+AD726","v":0},{"$f":"AE723+AE724+AE725+AE726","v":0},{"$f":"AF723+AF724+AF725+AF726","v":0},0,0,0,0]
["16.1.2.1","Sirovo mlijeko i proizvodi od sirovog mlijeka"]
["16.1.2.2","Punomasno mlijeko"]
["16.1.2.3","Djelimično obrano mlijeko"]
["16.1.2.4","Obrano mlijeko"]
["16.1.3","Kozje mlijeko",{"$f":"C728+C729+C730+C731","v":0},{"$f":"D728+D729+D730+D731","v":0},0,0,0,0,{"$f":"I728+I729+I730+I731","v":0},0,0,0,0,0,0,0,0,0,0,0,0,0,0,0,0,0,0,0,{"$f":"AC728+AC729+AC730+AC731","v":0},{"$f":"AD728+AD729+AD730+AD731","v":0},{"$f":"AE728+AE729+AE730+AE731","v":0},{"$f":"AF728+AF729+AF730+AF731","v":0},0,0,0,0]
["16.1.3.1","Sirovo mlijeko i proizvodi od sirovog mlijeka"]
["16.1.3.2","Punomasno mlijeko"]
["16.1.3.3","Djelimično obrano mlijeko"]
["16.1.3.4","Obrano mlijeko"]
["16.2","Dehidrirano mlijeko i mlijeko u prahu",{"$f":"C733+C734","v":0},{"$f":"D733+D734","v":0},0,0,0,0,{"$f":"I733+I734","v":0},0,0,0,0,0,0,0,0,0,0,0,0,0,0,0,0,0,0,0,{"$f":"AC733+AC734","v":0},{"$f":"AD733+AD734","v":0},{"$f":"AE733+AE734","v":0},{"$f":"AF733+AF734","v":0},0,0,0,0]
["16.2.1","Zgusnuto (kondenzovano) mlijeko"]
["16.2.2","Mlijeko u prahu"]
["16.3","Fermentisani mliječni proizvodi",{"$f":"C736+C737+C738+C739+C740+C741","v":0},{"$f":"D736+D737+D738+D739+D740+D741","v":0},0,0,0,{"$f":"H736+H737+H738+H739+H740+H741","v":0},{"$f":"I736+I737+I738+I739+I740+I741","v":0},0,0,0,0,0,0,0,0,0,0,0,0,0,0,0,0,0,0,0,{"$f":"AC736+AC737+AC738+AC739+AC740+AC741","v":0},{"$f":"AD736+AD737+AD738+AD739+AD740+AD741","v":0},{"$f":"AE736+AE737+AE738+AE739+AE740+AE741","v":0},{"$f":"AF736+AF737+AF738+AF739+AF740+AF741","v":0},0,0,0,0]
["16.3.1","Jogurt"]
["16.3.2","Jogurt, zaslađeni i/ili aromatizovani"]
["16.3.3","Acidofilno mlijeko"]
["16.3.4","Kiselo mlijeko"]
["16.3.5","Kefir"]
["16.3.6","Ostala fermentisana mlijeka"]
["16.4","Vrhnje"]
["16.5","Maslo"]
["16.6","Proizvodi od mliječne masti - Maslac "]
["16.7","Mlaćenica"]
["16.8","Kajmak"]
["16.9","Sir, proizvodi od sira i albuminski sir",{"$f":"C748+C749+C750+C751+C752+C753+C757","v":0},{"$f":"D748+D749+D750+D751+D752+D753+D757","v":0},0,0,0,0,{"$f":"I748+I749+I750+I751+I752+I753+I757","v":0},0,0,0,0,0,0,0,0,0,0,0,0,0,0,0,0,0,0,0,{"$f":"AC748+AC749+AC750+AC751+AC752+AC753+AC757","v":0},{"$f":"AD748+AD749+AD750+AD751+AD752+AD753+AD757","v":0},{"$f":"AE748+AE749+AE750+AE751+AE752+AE753+AE757","v":0},{"$f":"AF748+AF749+AF750+AF751+AF752+AF753+AF757","v":0},0,0,0,0]
["16.9.1","Ekstra tvrdi sir"]
["16.9.2","Tvrdi sir"]
["16.9.3","Polutvrdi sir"]
["16.9.4","Meki sir"]
["16.9.5","Svježi sir"]
["16.9.6","Proizvodi od sira",{"$f":"C754+C755+C756","v":0},{"$f":"D754+D755+D756","v":0},0,0,0,{"$f":"H754+H755+H756","v":0},{"$f":"I754+I755+I756","v":0},0,0,0,0,0,0,0,0,0,0,0,0,0,0,0,0,0,0,0,{"$f":"AC754+AC755+AC756","v":0},{"$f":"AD754+AD755+AD756","v":0},{"$f":"AE754+AE755+AE756","v":0},{"$f":"AF754+AF755+AF756","v":0},0,0,0,0]
["16.9.6.1","Sirni proizvod"]
["16.9.6.2","Topljeni sir"]
["16.9.6.3","Proizvodi od topljenog sira"]
["16.9.7","Albuminski sir ",{"$f":"C758+C759+C760","v":0},{"$f":"D758+D759+D760","v":0},0,0,0,{"$f":"H758+H759+H760","v":0},{"$f":"I758+I759+I760","v":0},0,0,0,0,0,0,0,0,0,0,0,0,0,0,0,0,0,0,0,{"$f":"AC758+AC759+AC760","v":0},{"$f":"AD758+AD759+AD760","v":0},{"$f":"AE758+AE759+AE760","v":0},{"$f":"AF758+AF759+AF760","v":0},0,0,0,0]
["16.9.7.1","Tvrdi albuminski sir"]
["16.9.7.2","Polutvrdi albuminski sir"]
["16.9.7.3","Meki albuminski sir"]
["16.10","Surutka i proizvodi od surutke"]
["16.11","Mliječni sneck proizvodi "]
["17","JAJA I PROIZVODI OD JAJA",{"$f":"C764+C770+C774+C779+C783+C784+C785","v":0},{"$f":"D764+D770+D774+D779+D783+D784+D785","v":0},0,0,0,0,{"$f":"I764+I770+I774+I779+I783+I784+I785","v":0},0,0,0,0,0,0,0,0,0,0,0,0,0,0,0,0,0,0,0,{"$f":"AC764+AC770+AC774+AC779+AC783+AC784+AC785","v":0},{"$f":"AD764+AD770+AD774+AD779+AD783+AD784+AD785","v":0},{"$f":"AE764+AE770+AE774+AE779+AE783+AE784+AE785","v":0},{"$f":"AF764+AF770+AF774+AF779+AF783+AF784+AF785","v":0},0,0,0,0]
["17.1","Cijela jaja",{"$f":"C765+C766+C767+C768+C769","v":0},{"$f":"D765+D766+D767+D768+D769","v":0},0,0,0,0,{"$f":"I765+I766+I767+I768+I769","v":0},0,0,0,0,0,0,0,0,0,0,0,0,0,0,0,0,0,0,0,{"$f":"AC765+AC766+AC767+AC768+AC769","v":0},{"$f":"AD765+AD766+AD767+AD768+AD769","v":0},{"$f":"AE765+AE766+AE767+AE768+AE769","v":0},{"$f":"AF765+AF766+AF767+AF768+AF769","v":0},0,0,0,0]
["17.1.1","Kokošija jaja"]
["17.1.2","Guščija jaja"]
["17.1.3","Pačija jaja"]
["17.1.4","Prepeličija jaja"]
["17.1.5","Ostala"]
["17.2","Tečni hlađeni proizvodi od jaja",{"$f":"C771+C772+C773","v":0},{"$f":"D771+D772+D773","v":0},0,0,0,{"$f":"H771+H772+H773","v":0},{"$f":"I771+I772+I773","v":0},0,0,0,0,0,0,0,0,0,0,0,0,0,0,0,0,0,0,0,{"$f":"AC771+AC772+AC773","v":0},{"$f":"AD771+AD772+AD773","v":0},{"$f":"AE771+AE772+AE773","v":0},{"$f":"AF771+AF772+AF773","v":0},0,0,0,0]
["17.2.1","Tečni hlađeni melanž"]
["17.2.2","Tečno hlađeno žumance"]
["17.2.3","Tečno hlađeno bjelance"]
["17.3","Smrznuti proizvodi od jaja",{"$f":"C775+C776+C777+C778","v":0},{"$f":"D775+D776+D777+D778","v":0},0,0,0,0,{"$f":"I775+I776+I777+I778","v":0},0,0,0,0,0,0,0,0,0,0,0,0,0,0,0,0,0,0,0,{"$f":"AC775+AC776+AC777+AC778","v":0},{"$f":"AD775+AD776+AD777+AD778","v":0},{"$f":"AE775+AE776+AE777+AE778","v":0},{"$f":"AF775+AF776+AF777+AF778","v":0},0,0,0,0]
["17.3.1","Smrznuti melanž"]
["17.3.2","Smrznuto žumance"]
["17.3.3","Smrznuto bjelance "]
["17.3.4","Smrznuti nepasterizoavni melanž"]
["17.4","Sušeni proizvodi od jaja",{"$f":"C780+C781+C782","v":0},{"$f":"D780+D781+D782","v":0},0,0,0,0,{"$f":"I780+I781+I782","v":0},0,0,0,0,0,0,0,0,0,0,0,0,0,0,0,0,0,0,0,{"$f":"AC780+AC781+AC782","v":0},{"$f":"AD780+AD781+AD782","v":0},{"$f":"AE780+AE781+AE782","v":0},{"$f":"AF780+AF781+AF782","v":0},0,0,0,0]
["17.4.1","Jaja u prahu"]
["17.4.2","Žumance u prahu"]
["17.4.3","Bjelance u prahu"]
["17.5","Kuhani proizvodi od jaja"]
["17.6","Termički obrađena (kuhana) jaja u ljusci"]
["17.7","Ostali proizvodi od jaja"]
["18","PROIZVODI KOJI SU IMITACIJA MESA I MLIJEKA",{"$f":"C787+C801","v":0},{"$f":"D787+D801","v":0},0,0,0,{"$f":"H787+H801","v":0},{"$f":"I787+I801","v":0},0,0,0,0,0,0,0,0,0,0,0,0,0,0,0,0,0,0,0,{"$f":"AC787+AC801","v":0},{"$f":"AD787+AD801","v":0},{"$f":"AE787+AE801","v":0},{"$f":"AF787+AF801","v":0},0,0,0,0]
["18.1","Proizvodi koji su imitacija mlijeka",{"$f":"C788+C794","v":0},{"$f":"D788+D794","v":0},0,0,0,{"$f":"H788+H794","v":0},{"$f":"I788+I794","v":0},0,0,0,0,0,0,0,0,0,0,0,0,0,0,0,0,0,0,0,{"$f":"AC788+AC794","v":0},{"$f":"AD788+AD794","v":0},{"$f":"AE788+AE794","v":0},{"$f":"AF788+AF794","v":0},0,0,0,0]
["18.1.1","Zamjena za mlijeko",{"$f":"C789+C790+C791+C792+C793","v":0},{"$f":"D789+D790+D791+D792+D793","v":0},0,0,0,{"$f":"H789+H790+H791+H792+H793","v":0},{"$f":"I789+I790+I791+I792+I793","v":0},0,0,0,0,0,0,0,0,0,0,0,0,0,0,0,0,0,0,0,{"$f":"AC789+AC790+AC791+AC792+AC793","v":0},{"$f":"AD789+AD790+AD791+AD792+AD793","v":0},{"$f":"AE789+AE790+AE791+AE792+AE793","v":0},{"$f":"AF789+AF790+AF791+AF792+AF793","v":0},0,0,0,0]
["18.1.1.1","Sojino mlijeko"]
["18.1.1.2","Bademovo piće"]
["18.1.1.3","Zobeno piće"]
["18.1.1.4","Rižino piće"]
["18.1.1.5","Ražovo piće"]
["18.1.2","Imitacija mliječnih proizvoda osim mlijeka",{"$f":"C795+C796+C797+C798+C799+C800","v":0},{"$f":"D795+D796+D797+D798+D799+D800","v":0},0,0,0,{"$f":"H795+H796+H797+H798+H799+H800","v":0},{"$f":"I795+I796+I797+I798+I799+I800","v":0},0,0,0,0,0,0,0,0,0,0,0,0,0,0,0,0,0,0,0,{"$f":"AC795+AC796+AC797+AC798+AC799+AC800","v":0},{"$f":"AD795+AD796+AD797+AD798+AD799+AD800","v":0},{"$f":"AE795+AE796+AE797+AE798+AE799+AE800","v":0},{"$f":"AF795+AF796+AF797+AF798+AF799+AF800","v":0},0,0,0,0]
["18.1.2.1","Imitacija krema"]
["18.1.2.2","Ne mliječno vrhnje za kafu"]
["18.1.2.3","Tofu"]
["18.1.2.4","Soja jogurt"]
["18.1.2.5","Imitacija sira"]
["18.1.2.6","Imitacija jogurta bez soje"]
["18.2","Proizvodi koji su imitacija mesa",{"$f":"C802+C803","v":0},{"$f":"D802+D803","v":0},0,0,0,{"$f":"H802+H803","v":0},{"$f":"I802+I803","v":0},0,0,0,0,0,0,0,0,0,0,0,0,0,0,0,0,0,0,0,{"$f":"AC802+AC803","v":0},{"$f":"AD802+AD803","v":0},{"$f":"AE802+AE803","v":0},{"$f":"AF802+AF803","v":0},0,0,0,0]
["18.2.1","Teksturni proteini soje"]
["18.2.2","Teksturni proteini glijva"]
["19","AROMATIZOVANA VODA, PIĆA NA BAZI VODE I SLIČNI PROIZVODI",{"$f":"C805+C807+C810+C811+C814","v":0},{"$f":"D805+D807+D810+D811+D814","v":0},0,0,0,{"$f":"H805+H807+H810+H811+H814","v":0},{"$f":"I805+I807+I810+I811+I814","v":0},0,0,0,0,0,0,0,0,0,0,0,0,0,0,0,0,0,0,0,{"$f":"AC805+AC807+AC810+AC811+AC814","v":0},{"$f":"AD805+AD807+AD810+AD811+AD814","v":0},{"$f":"AE805+AE807+AE810+AE811+AE814","v":0},{"$f":"AF805+AF807+AF810+AF811+AF814","v":0},0,0,0,0]
["19.1","Voda za piće",{"$f":"C806","v":0},{"$f":"D806","v":0},0,0,0,0,{"$f":"I806","v":0},0,0,0,0,0,0,0,0,0,0,0,0,0,0,0,0,0,0,0,{"$f":"AC806","v":0},{"$f":"AD806","v":0},{"$f":"AE806","v":0},{"$f":"AF806","v":0},0,0,0,0]
["19.1.1","Flaširana voda sa aromom"]
["19.2","Osvježavajuća pića sa malom količinom voća ili aroma",{"$f":"C808+C809","v":0},{"$f":"D808+D809","v":0},0,0,0,{"$f":"H808+H809","v":0},{"$f":"I808+I809","v":0},0,0,0,0,0,0,0,0,0,0,0,0,0,0,0,0,0,0,0,{"$f":"AC808+AC809","v":0},{"$f":"AD808+AD809","v":0},{"$f":"AE808+AE809","v":0},{"$f":"AF808+AF809","v":0},0,0,0,0]
["19.2.1","Osvježavajuća pića sa voćnim sokom (sadržaj voća je ispod minimuma propisanog za voćne nektare)"]
["19.2.2","Osvježavajuća pića, aromatizovana, bez voća"]
["19.3","Kola tip pića"]
["19.4","Funkcionalna pića",{"$f":"C812+C813","v":0},0,0,0,0,{"$f":"H812+H813","v":0},{"$f":"I812+I813","v":0},0,0,0,0,0,0,0,0,0,0,0,0,0,0,0,0,0,0,0,{"$f":"AC812+AC813","v":0},{"$f":"AD812+AD813","v":0},{"$f":"AE812+AE813","v":0},{"$f":"AF812+AF813","v":0},0,0,0,0]
["19.4.1","Energetska pića"]
["19.4.2","Isotonic  pića i pića za sportiste"]
["19.5","Miks pića",{"$f":"C815","v":0},0,0,0,0,0,{"$f":"I815","v":0},0,0,0,0,0,0,0,0,0,0,0,0,0,0,0,0,0,0,0,{"$f":"AC815","v":0},{"$f":"AD815","v":0},{"$f":"AE815","v":0},{"$f":"AF815","v":0},0,0,0,0]
["19.5.1","Prah za pravljenje napitaka"]
["20","SASTOJCI ZA TOPLE NAPITKE I INFUZIJE",{"$f":"C817+C825+C832+C835+C839+C842","v":0},{"$f":"D817+D825+D832+D835+D839+D842","v":0},0,0,0,0,{"$f":"I817+I825+I832+I835+I839+I842","v":0},0,0,0,0,0,0,0,0,0,0,0,0,0,0,0,0,0,0,0,{"$f":"AC817+AC825+AC832+AC835+AC839+AC842","v":0},{"$f":"AD817+AD825+AD832+AD835+AD839+AD842","v":0},{"$f":"AE817+AE825+AE832+AE835+AE839+AE842","v":0},{"$f":"AF817+AF825+AF832+AF835+AF839+AF842","v":0},0,0,0,0]
["20.1","Listovi korišteni za tople napitke i infuzije",{"$f":"C818+C820","v":0},0,0,0,0,{"$f":"H818+H820","v":0},{"$f":"I818+I820","v":0},0,0,0,0,0,0,0,0,0,0,0,0,0,0,0,0,0,0,0,{"$f":"AC818+AC820","v":0},{"$f":"AD818+AD820","v":0},{"$f":"AE818+AE820","v":0},{"$f":"AF818+AF820","v":0},0,0,0,0]
["20.1.1","Čaj i slično",{"$f":"C819","v":0},{"$f":"D819","v":0},0,0,0,0,{"$f":"I819","v":0},0,0,0,0,0,0,0,0,0,0,0,0,0,0,0,0,0,0,0,{"$f":"AC819","v":0},{"$f":"AD819","v":0},{"$f":"AE819","v":0},{"$f":"AF819","v":0},0,0,0,0]
["20.1.1.1","Zeleni čaj (listovi)"]
["20.1.2","Biljne infuzije od listova i biljki",{"$f":"C821+C822+C823+C824","v":0},{"$f":"D821+D822+D823+D824","v":0},0,0,0,{"$f":"H821+H822+H823+H824","v":0},{"$f":"I821+I822+I823+I824","v":0},0,0,0,0,0,0,0,0,0,0,0,0,0,0,0,0,0,0,0,{"$f":"AC821+AC822+AC823+AC824","v":0},{"$f":"AD821+AD822+AD823+AD824","v":0},{"$f":"AE821+AE822+AE823+AE824","v":0},{"$f":"AF821+AF822+AF823+AF824","v":0},0,0,0,0]
["20.1.2.1","Listovi jagode"]
["20.1.2.2","Rooibos listovi (Lišće ginka)"]
["20.1.2.3","Maté"]
["20.1.2.4","Ostalo"]
["20.2","Cvjetovi koji se koriste za infuzije ili tople napitke",{"$f":"C826+C827+C828+C829+C830+C831","v":0},{"$f":"D826+D827+D828+D829+D830+D831","v":0},0,0,0,{"$f":"H826+H827+H828+H829+H830+H831","v":0},{"$f":"I826+I827+I828+I829+I830+I831","v":0},0,0,0,0,0,0,0,0,0,0,0,0,0,0,0,0,0,0,0,{"$f":"AC826+AC827+AC828+AC829+AC830+AC831","v":0},{"$f":"AD826+AD827+AD828+AD829+AD830+AD831","v":0},{"$f":"AE826+AE827+AE828+AE829+AE830+AE831","v":0},{"$f":"AF826+AF827+AF828+AF829+AF830+AF831","v":0},0,0,0,0]
["20.2.1","Cvjetovi kamilice"]
["20.2.2","Cvjetovi hibiskusa"]
["20.2.3","Ružine latice"]
["20.2.4","Cvjetovi jasmina (Cvjetovi bazge (Sambucus nigra))"]
["20.2.5","Lipa"]
["20.2.6","Cvjetovi ostalog bilja koje se koristi za biljne infuzije"]
["20.3","Sjeme (kafe, kakaoa i slično) koje se koristi za infuzije ili tople napitke",{"$f":"C833+C834","v":0},0,0,0,0,{"$f":"H833+H834","v":0},{"$f":"I833+I834","v":0},0,0,0,0,0,0,0,0,0,0,0,0,0,0,0,0,0,0,0,{"$f":"AC833+AC834","v":0},{"$f":"AD833+AD834","v":0},{"$f":"AE833+AE834","v":0},{"$f":"AF833+AF834","v":0},0,0,0,0]
["20.3.1","Kakao u zrnu"]
["20.3.2","Kafa u zrnu"]
["20.4","Korijenje koje se koristi za infuzije ili tople napitke",{"$f":"C836+C837+C838","v":0},{"$f":"D836+D837+D838","v":0},0,0,0,{"$f":"H836+H837+H838","v":0},{"$f":"I836+I837+I838","v":0},0,0,0,0,0,0,0,0,0,0,0,0,0,0,0,0,0,0,0,{"$f":"AC836+AC837+AC838","v":0},{"$f":"AD836+AD837+AD838","v":0},{"$f":"AE836+AE837+AE838","v":0},{"$f":"AF836+AF837+AF838","v":0},0,0,0,0]
["20.4.1","Korijen valerijane"]
["20.4.2","Korijen ginsenga"]
["20.4.3","Ostalo"]
["20.5","Ostalo bilje koje se koristi za biljne infuzije ili tople napitke",{"$f":"C840+C841","v":0},{"$f":"D840+D841","v":0},0,0,0,{"$f":"H840+H841","v":0},{"$f":"I840+I841","v":0},0,0,0,0,0,0,0,0,0,0,0,0,0,0,0,0,0,0,0,{"$f":"AC840+AC841","v":0},{"$f":"AD840+AD841","v":0},{"$f":"AE840+AE841","v":0},{"$f":"AF840+AF841","v":0},0,0,0,0]
["20.5.1","Rogač"]
["20.5.2","Biljne infuzije od ostalih djelova biljke"]
["20.6","Proizvodi od kafe kakaoa, čaja i slični primarni proizvodi od sirovina",{"$f":"C843+C851+C856+C859","v":0},{"$f":"D843+D851+D856+D859","v":0},0,0,0,{"$f":"H843+H851+H856+H859","v":0},{"$f":"I843+I851+I856+I859","v":0},0,0,0,0,0,0,0,0,0,0,0,0,0,0,0,0,0,0,0,{"$f":"AC843+AC851+AC856+AC859","v":0},{"$f":"AD843+AD851+AD856+AD859","v":0},{"$f":"AE843+AE851+AE856+AE859","v":0},{"$f":"AF843+AF851+AF856+AF859","v":0},0,0,0,0]
["20.6.1","Primarni proizvodi od kafe",{"$f":"C844+C845+C846+C847+C848+C849+C850","v":0},{"$f":"D844+D845+D846+D847+D848+D849+D850","v":0},0,0,0,{"$f":"H844+H845+H846+H847+H848+H849+H850","v":0},{"$f":"I844+I845+I846+I847+I848+I849+I850","v":0},0,0,0,0,0,0,0,0,0,0,0,0,0,0,0,0,0,0,0,{"$f":"AC844+AC845+AC846+AC847+AC848+AC849+AC850","v":0},{"$f":"AD844+AD845+AD846+AD847+AD848+AD849+AD850","v":0},{"$f":"AE844+AE845+AE846+AE847+AE848+AE849+AE850","v":0},{"$f":"AF844+AF845+AF846+AF847+AF848+AF849+AF850","v":0},0,0,0,0]
["20.6.1.1","Zrno kafe, prženo"]
["20.6.1.2","Zrno kafe, prženo bez kofeina"]
["20.6.1.3","Mljevena kafa, pržena"]
["20.6.1.4","Pržena mljevena kafa, bez kofeina "]
["20.6.1.5","Tečni koncentrat kafe"]
["20.6.1.6","Instant kafa"]
["20.6.1.7","Instant kafa bez kofeina"]
["20.6.2","Imitacija kafe",{"$f":"C852+C853+C854+C855","v":0},{"$f":"D852+D853+D854+D855","v":0},0,0,0,{"$f":"H852+H853+H854+H855","v":0},{"$f":"I852+I853+I854+I855","v":0},0,0,0,0,0,0,0,0,0,0,0,0,0,0,0,0,0,0,0,{"$f":"AC852+AC853+AC854+AC855","v":0},{"$f":"AD852+AD853+AD854+AD855","v":0},{"$f":"AE852+AE853+AE854+AE855","v":0},{"$f":"AF852+AF853+AF854+AF855","v":0},0,0,0,0]
["20.6.2.1","Mješavina imitata kafe"]
["20.6.2.2","Sastojci kafe od slada"]
["20.6.2.3","Sastojci kafe od cikorije"]
["20.6.2.4","Ostali imitati sastojaka od kafe"]
["20.6.3","Sastojci od kakaoa (Sirovi primarni proizvodi)",{"$f":"C857+C858","v":0},{"$f":"D857+D858","v":0},0,0,0,{"$f":"H857+H858","v":0},{"$f":"I857+I858","v":0},0,0,0,0,0,0,0,0,0,0,0,0,0,0,0,0,0,0,0,{"$f":"AC857+AC858","v":0},{"$f":"AD857+AD858","v":0},{"$f":"AE857+AE858","v":0},{"$f":"AF857+AF858","v":0},0,0,0,0]
["20.6.3.1","Kakao prah"]
["20.6.3.2","Kakao maslac"]
["20.6.4","Primarni proizvodi od čaja",{"$f":"C860+C861+C862+C863","v":0},{"$f":"D860+D861+D862+D863","v":0},0,0,0,{"$f":"H860+H861+H862+H863","v":0},{"$f":"I860+I861+I862+I863","v":0},0,0,0,0,0,0,0,0,0,0,0,0,0,0,0,0,0,0,0,{"$f":"AC860+AC861+AC862+AC863","v":0},{"$f":"AD860+AD861+AD862+AD863","v":0},{"$f":"AE860+AE861+AE862+AE863","v":0},{"$f":"AF860+AF861+AF862+AF863","v":0},0,0,0,0]
["20.6.4.1","Lišće i stabiljke od čaja, fermentisani "]
["20.6.4.2","Lišće i stabiljke od čaja, aromatizovani i/ili sa voćem"]
["20.6.4.3","Instant čaj"]
["20.6.4.4","Instant čaj, dekofeniziran"]
["21","TOPLI NAPICI I SLIČNO",{"$f":"C865+C872+C875+C878","v":0},{"$f":"D865+D872+D875+D878","v":0},0,0,0,{"$f":"H865+H872+H875+H878","v":0},{"$f":"I865+I872+I875+I878","v":0},0,0,0,0,0,0,0,0,0,0,0,0,0,0,0,0,0,0,0,{"$f":"AC865+AC872+AC875+AC878","v":0},{"$f":"AD865+AD872+AD875+AD878","v":0},{"$f":"AE865+AE872+AE875+AE878","v":0},{"$f":"AF865+AF872+AF875+AF878","v":0},0,0,0,0]
["21.1","Napici od kafe",{"$f":"C866+C867+C868+C869+C870+C871","v":0},{"$f":"D866+D867+D868+D869+D870+D871","v":0},0,0,0,{"$f":"H866+H867+H868+H869+H870+H871","v":0},{"$f":"I866+I867+I868+I869+I870+I871","v":0},0,0,0,0,0,0,0,0,0,0,0,0,0,0,0,0,0,0,0,{"$f":"AC866+AC867+AC868+AC869+AC870+AC871","v":0},{"$f":"AD866+AD867+AD868+AD869+AD870+AD871","v":0},{"$f":"AE866+AE867+AE868+AE869+AE870+AE871","v":0},{"$f":"AF866+AF867+AF868+AF869+AF870+AF871","v":0},0,0,0,0]
["21.1.1","Espresso kafa (napitak)"]
["21.1.2","Kafa (napitak)"]
["21.1.3","Instant kafa (napitak)"]
["21.1.4","Dekafenizirana kafa (napitak)"]
["21.1.5","Kafa sa mlijekom ili vrhnjem (napitak)"]
["21.1.6","Ledena (Ice) kafa (napitak)"]
["21.2","Napici od imitata za kafu",{"$f":"C873+C874","v":0},{"$f":"D873+D874","v":0},0,0,0,{"$f":"H873+H874","v":0},{"$f":"I873+I874","v":0},0,0,0,0,0,0,0,0,0,0,0,0,0,0,0,0,0,0,0,{"$f":"AC873+AC874","v":0},{"$f":"AD873+AD874","v":0},{"$f":"AE873+AE874","v":0},{"$f":"AF873+AF874","v":0},0,0,0,0]
["21.2.1","Napitak od cikorije "]
["21.2.2","Napici od ostalih imitata kafe"]
["21.3","Napitak od kakaoa",{"$f":"C876+C877","v":0},{"$f":"D876+D877","v":0},0,0,0,{"$f":"H876+H877","v":0},{"$f":"I876+I877","v":0},0,0,0,0,0,0,0,0,0,0,0,0,0,0,0,0,0,0,0,{"$f":"AC876+AC877","v":0},{"$f":"AD876+AD877","v":0},{"$f":"AE876+AE877","v":0},{"$f":"AF876+AF877","v":0},0,0,0,0]
["21.3.1","Topla čokolada"]
["21.3.2","Topla čokolada sa dodatim sastojcima"]
["21.4","Napitak od čaja",{"$f":"C879+C880","v":0},{"$f":"D879+D880","v":0},0,0,0,{"$f":"H879+H880","v":0},{"$f":"I879+I880","v":0},0,0,0,0,0,0,0,0,0,0,0,0,0,0,0,0,0,0,0,{"$f":"AC879+AC880","v":0},{"$f":"AD879+AD880","v":0},{"$f":"AE879+AE880","v":0},{"$f":"AF879+AF880","v":0},0,0,0,0]
["21.4.1","Čajna infuzija"]
["21.4.2","Infuzija od biljnog čaja"]
["22","ALKOHOLNA PIĆA",{"$f":"C882+C885+C889+C893+C904+C906","v":0},{"$f":"D882+D885+D889+D893+D904+D906","v":0},0,0,0,{"$f":"H882+H885+H889+H893+H904+H906","v":0},{"$f":"I882+I885+I889+I893+I904+I906","v":0},0,0,0,0,0,0,0,0,0,0,0,0,0,0,0,0,0,0,0,{"$f":"AC882+AC885+AC889+AC893+AC904+AC906","v":0},{"$f":"AD882+AD885+AD889+AD893+AD904+AD906","v":0},{"$f":"AE882+AE885+AE889+AE893+AE904+AE906","v":0},{"$f":"AF882+AF885+AF889+AF893+AF904+AF906","v":0},0,0,0,0]
["22.1","Pivo i pivu slični proizvodi",{"$f":"C883+C884","v":0},{"$f":"D883+D884","v":0},0,0,0,{"$f":"H883+H884","v":0},{"$f":"I883+I884","v":0},0,0,0,0,0,0,0,0,0,0,0,0,0,0,0,0,0,0,0,{"$f":"AC883+AC884","v":0},{"$f":"AD883+AD884","v":0},{"$f":"AE883+AE884","v":0},{"$f":"AF883+AF884","v":0},0,0,0,0]
["22.1.1","Pivo "]
["22.1.2","Pivu slični proizvodi"]
["22.2","Vino i vinu slični proizvodi",{"$f":"C886+C887+C888","v":0},{"$f":"D886+D887+D888","v":0},0,0,0,{"$f":"H886+H887+H888","v":0},{"$f":"I886+I887+I888","v":0},0,0,0,0,0,0,0,0,0,0,0,0,0,0,0,0,0,0,0,{"$f":"AC886+AC887+AC888","v":0},{"$f":"AD886+AD887+AD888","v":0},{"$f":"AE886+AE887+AE888","v":0},{"$f":"AF886+AF887+AF888","v":0},0,0,0,0]
["22.2.1","Vino"]
["22.2.2","Desertna vina"]
["22.2.3","Vinu slični proizvodi"]
["22.3","Likeri",{"$f":"C890+C891+C892","v":0},{"$f":"D890+D891+D892","v":0},0,0,0,{"$f":"H890+H891+H892","v":0},{"$f":"I890+I891+I892","v":0},0,0,0,0,0,0,0,0,0,0,0,0,0,0,0,0,0,0,0,{"$f":"AC890+AC891+AC892","v":0},{"$f":"AD890+AD891+AD892","v":0},{"$f":"AE890+AE891+AE892","v":0},{"$f":"AF890+AF891+AF892","v":0},0,0,0,0]
["22.3.1","Voćni likeri"]
["22.3.2","Biljni likeri"]
["22.3.3","Ostali likeri"]
["22.4","Jaka alkoholna pića (osim likera)",{"$f":"C894+C899","v":0},{"$f":"D894+D899","v":0},0,0,0,{"$f":"H894+H899","v":0},{"$f":"I894+I899","v":0},0,0,0,0,0,0,0,0,0,0,0,0,0,0,0,0,0,0,0,{"$f":"AC894+AC899","v":0},{"$f":"AD894+AD899","v":0},{"$f":"AE894+AE899","v":0},{"$f":"AF894+AF899","v":0},0,0,0,0]
["22.4.1","Jaka alkoholna pića koja nisu od voća",{"$f":"C895+C896+C897+C898","v":0},{"$f":"D895+D896+D897+D898","v":0},0,0,0,{"$f":"H895+H896+H897+H898","v":0},{"$f":"I895+I896+I897+I898","v":0},0,0,0,0,0,0,0,0,0,0,0,0,0,0,0,0,0,0,0,{"$f":"AC895+AC896+AC897+AC898","v":0},{"$f":"AD895+AD896+AD897+AD898","v":0},{"$f":"AE895+AE896+AE897+AE898","v":0},{"$f":"AF895+AF896+AF897+AF898","v":0},0,0,0,0]
["22.4.1.1","Tekila"]
["22.4.1.2","Whisky"]
["22.4.1.3","Rum"]
["22.4.1.4","Votka"]
["22.4.2","Jaka lakoholna pića od voća",{"$f":"C900+C902","v":0},{"$f":"D900+D902","v":0},0,0,0,{"$f":"H900+H902","v":0},{"$f":"I900+I902","v":0},0,0,0,0,0,0,0,0,0,0,0,0,0,0,0,0,0,0,0,{"$f":"AC900+AC902","v":0},{"$f":"AD900+AD902","v":0},{"$f":"AE900+AE902","v":0},{"$f":"AF900+AF902","v":0},0,0,0,0]
["22.4.2.1","Jaka alkoholna pića koja nisu od koštićavog voća",{"$f":"C901","v":0},0,0,0,0,0,{"$f":"I901","v":0},0,0,0,0,0,0,0,0,0,0,0,0,0,0,0,0,0,0,0,{"$f":"AC901","v":0},{"$f":"AD901","v":0},{"$f":"AE901","v":0},{"$f":"AF901","v":0},0,0,0,0]
["22.4.2.1.1","Konjak"]
["22.4.2.2","Jaka alkoholna pića od koštićavog voća",{"$f":"C903","v":0},0,0,0,0,0,{"$f":"I903","v":0},0,0,0,0,0,0,0,0,0,0,0,0,0,0,0,0,0,0,0,{"$f":"AC903","v":0},{"$f":"AD903","v":0},{"$f":"AE903","v":0},{"$f":"AF903","v":0},0,0,0,0]
["22.4.2.2.1","Rakija"]
["22.5","Jaka alkoholna pića, aromatizovana",{"$f":"C905","v":0},0,0,0,0,0,{"$f":"I905","v":0},0,0,0,0,0,0,0,0,0,0,0,0,0,0,0,0,0,0,0,{"$f":"AC905","v":0},{"$f":"AD905","v":0},{"$f":"AE905","v":0},{"$f":"AF905","v":0},0,0,0,0]
["22.5.1","Džin"]
["22.6","Mješana alkoholna pića (kokteli i sl.)",{"$f":"C907+C908+C909+C910+C911","v":0},{"$f":"D907+D908+D909+D910+D911","v":0},0,0,0,0,{"$f":"I907+I908+I909+I910+I911","v":0},0,0,0,0,0,0,0,0,0,0,0,0,0,0,0,0,0,0,0,{"$f":"AC907+AC908+AC909+AC910+AC911","v":0},{"$f":"AD907+AD908+AD909+AD910+AD911","v":0},{"$f":"AE907+AE908+AE909+AE910+AE911","v":0},{"$f":"AF907+AF908+AF909+AF910+AF911","v":0},0,0,0,0]
["22.6.1","Kokteli"]
["22.6.2","Alcopop"]
["22.6.3","Punch"]
["22.6.4","Sangria"]
["22.6.5","Ostala mješana alkoholna pića"]
["23","KONDITORSKI PROIZVODI UKLJUČUJUĆI ČOKOLADU",{"$f":"C913+C921+C927","v":0},{"$f":"D913+D921+D927","v":0},0,0,0,{"$f":"H913+H921+H927","v":0},{"$f":"I913+I921+I927","v":0},0,0,0,0,0,0,0,0,0,0,0,0,0,0,0,0,0,0,0,{"$f":"AC913+AC921+AC927","v":0},{"$f":"AD913+AD921+AD927","v":0},{"$f":"AE913+AE921+AE927","v":0},{"$f":"AF913+AF921+AF927","v":0},0,0,0,0]
["23.1","Čokolada i slično",{"$f":"C914+C915+C916+C917+C918+C919+C920","v":0},{"$f":"D914+D915+D916+D917+D918+D919+D920","v":0},0,0,0,{"$f":"H914+H915+H916+H917+H918+H919+H920","v":0},{"$f":"I914+I915+I916+I917+I918+I919+I920","v":0},0,0,0,0,0,0,0,0,0,0,0,0,0,0,0,0,0,0,0,{"$f":"AC914+AC915+AC916+AC917+AC918+AC919+AC920","v":0},{"$f":"AD914+AD915+AD916+AD917+AD918+AD919+AD920","v":0},{"$f":"AE914+AE915+AE916+AE917+AE918+AE919+AE920","v":0},{"$f":"AF914+AF915+AF916+AF917+AF918+AF919+AF920","v":0},0,0,0,0]
["23.1.1","Čokolada"]
["23.1.2","Mliječna čokolada"]
["23.1.3","Porodična mliječna čokolada"]
["23.1.4","Bijela čokolada"]
["23.1.5","Punjena čokolada"]
["23.1.6","Čokolada  \"a la taza\""]
["23.1.7","Praliné"]
["23.2","Proizvodi na bazi kakaoa i čokolade",{"$f":"C922+C923+C924+C925+C926","v":0},{"$f":"D922+D923+D924+D925+D926","v":0},0,0,0,{"$f":"H922+H923+H924+H925+H926","v":0},{"$f":"I922+I923+I924+I925+I926","v":0},0,0,0,0,0,0,0,0,0,0,0,0,0,0,0,0,0,0,0,{"$f":"AC922+AC923+AC924+AC925+AC926","v":0},{"$f":"AD922+AD923+AD924+AD925+AD926","v":0},{"$f":"AE922+AE923+AE924+AE925+AE926","v":0},{"$f":"AF922+AF923+AF924+AF925+AF926","v":0},0,0,0,0]
["23.2.1","Kakao tabla"]
["23.2.2","Mliječna kakao tabla"]
["23.2.3","Kakao preliv"]
["23.2.4","Mliječni kakao preliv"]
["23.2.5","Mliječni preliv"]
["23.3","Bomboni",{"$f":"C928+C929+C930+C931+C932+C933+C934+C935+C936+C937+C938+C939+C940+C941+C942+C943+C944+C945+C946+C947","v":0},{"$f":"D928+D929+D930+D931+D932+D933+D934+D935+D936+D937+D938+D939+D940+D941+D942+D943+D944+D945+D946+D947","v":0},0,0,0,{"$f":"H928+H929+H930+H931+H932+H933+H934+H935+H936+H937+H938+H939+H940+H941+H942+H943+H944+H945+H946+H947","v":0},{"$f":"I928+I929+I930+I931+I932+I933+I934+I935+I936+I937+I938+I939+I940+I941+I942+I943+I944+I945+I946+I947","v":0},0,0,0,0,0,0,0,0,0,0,0,0,0,0,0,0,0,0,0,{"$f":"AC928+AC929+AC930+AC931+AC932+AC933+AC934+AC935+AC936+AC937+AC938+AC939+AC940+AC941+AC942+AC943+AC944+AC945+AC946+AC947","v":0},{"$f":"AD928+AD929+AD930+AD931+AD932+AD933+AD934+AD935+AD936+AD937+AD938+AD939+AD940+AD941+AD942+AD943+AD944+AD945+AD946+AD947","v":0},{"$f":"AE928+AE929+AE930+AE931+AE932+AE933+AE934+AE935+AE936+AE937+AE938+AE939+AE940+AE941+AE942+AE943+AE944+AE945+AE946+AE947","v":0},{"$f":"AF928+AF929+AF930+AF931+AF932+AF933+AF934+AF935+AF936+AF937+AF938+AF939+AF940+AF941+AF942+AF943+AF944+AF945+AF946+AF947","v":0},0,0,0,0]
["23.3.1","Tvrdi bomboni"]
["23.3.2","Tvrdi svileni bombon"]
["23.3.3","Karamela"]
["23.3.4","Draže proizvod"]
["23.3.5","Fondan proizvod"]
["23.3.6","Žele proizvod"]
["23.3.7","Gumeni bombon"]
["23.3.8","Pjenasti proizvod"]
["23.3.9","lakric proizvod"]
["23.3.10","Likerni bombon"]
["23.3.11","Presovani bombon"]
["23.3.12","Marcipan proizvod"]
["23.3.13","Persipan proizvod"]
["23.3.14","Nougat proizvod"]
["23.3.15","Bijeli nougat proizvod"]
["23.3.16","Grilaž (krokant) proizvod"]
["23.3.17","Halva"]
["23.3.18","Rahatlokum"]
["23.3.19","Guma za žvakanje"]
["23.3.20","Preliv za slastice"]
["24","PREHRAMBENI PROIZVODI ZA MLADU POPULACIJU",{"$f":"C949+C953","v":0},{"$f":"D949+D953","v":0},0,0,0,{"$f":"H949+H953","v":0},{"$f":"I949+I953","v":0},0,0,0,0,0,0,0,0,0,0,0,0,0,0,0,0,0,0,0,{"$f":"AC949+AC953","v":0},{"$f":"AD949+AD953","v":0},{"$f":"AE949+AE953","v":0},{"$f":"AF949+AF953","v":0},0,0,0,0]
["24.1","Hrana za dojenčad i malu djecu",{"$f":"C950+C951+C952","v":0},{"$f":"D950+D951+D952","v":0},0,0,0,{"$f":"H950+H951+H952","v":0},{"$f":"I950+I951+I952","v":0},0,0,0,0,0,0,0,0,0,0,0,0,0,0,0,0,0,0,0,{"$f":"AC950+AC951+AC952","v":0},{"$f":"AD950+AD951+AD952","v":0},{"$f":"AE950+AE951+AE952","v":0},{"$f":"AF950+AF951+AF952","v":0},0,0,0,0]
["24.1.1","Formulu za dojenčad i formule nakon dojenja"]
["24.1.2","Gotova hrana za dojenčad i malu djecu"]
["24.1.3","Hrana na bazi žitarica za dojenčad i malu djecu"]
["24.2","Ostali proizvodi za dojenčad i mladu djecu",{"$f":"C954+C955+C956","v":0},{"$f":"D954+D955+D956","v":0},0,0,0,{"$f":"H954+H955+H956","v":0},{"$f":"I954+I955+I956","v":0},0,0,0,0,0,0,0,0,0,0,0,0,0,0,0,0,0,0,0,{"$f":"AC954+AC955+AC956","v":0},{"$f":"AD954+AD955+AD956","v":0},{"$f":"AE954+AE955+AE956","v":0},{"$f":"AF954+AF955+AF956","v":0},0,0,0,0]
["24.2.1","Čajevi infuzije namjenjene za dojenčad i mladu djecu"]
["24.2.2","Voćni i povrtni sokovi i nektari namjenjeni za dojenčad i mladu djecu"]
["24.2.3","Posebna hrana za razvoj djece"]
["25","PROIZVODI ZA POSEBNE PREHRAMBENE POTREBE",{"$f":"C958+C959+C960+C961","v":0},{"$f":"D958+D959+D960+D961","v":0},0,0,0,{"$f":"H958+H959+H960+H961","v":0},{"$f":"I958+I959+I960+I961","v":0},0,0,0,0,0,0,0,0,0,0,0,0,0,0,0,0,0,0,0,{"$f":"AC958+AC959+AC960+AC961","v":0},{"$f":"AD958+AD959+AD960+AD961","v":0},{"$f":"AE958+AE959+AE960+AE961","v":0},{"$f":"AF958+AF959+AF960+AF961","v":0},0,0,0,0]
["25.1","Hrana za redukovanje tjelesne težine"]
["25.2","Hrana za sportiste"]
["25.3","Dijetalna hrana za posebne medicinske potrebe"]
["25.4","Dodaci ishrani i slični proizvodi"]
["26","SLOŽENA JELA/GOTOVA JELA",{"$f":"C963+C979+C984+C997","v":0},{"$f":"D963+D979+D984+D997","v":0},0,0,0,{"$f":"H963+H979+H984+H997","v":0},{"$f":"I963+I979+I984+I997","v":0},0,0,0,0,0,0,0,0,0,0,0,0,0,0,0,0,0,0,0,{"$f":"AC963+AC979+AC984+AC997","v":0},{"$f":"AD963+AD979+AD984+AD997","v":0},{"$f":"AE963+AE979+AE984+AE997","v":0},{"$f":"AF963+AF979+AF984+AF997","v":0},0,0,0,0]
["26.1","Jela, uključ. Ready to eat jela (osim supa i salata)",{"$f":"C964+C968+C971","v":0},{"$f":"D964+D968+D971","v":0},0,0,0,{"$f":"H964+H968+H971","v":0},{"$f":"I964+I968+I971","v":0},0,0,0,0,0,0,0,0,0,0,0,0,0,0,0,0,0,0,0,{"$f":"AC964+AC968+AC971","v":0},{"$f":"AD964+AD968+AD971","v":0},{"$f":"AE964+AE968+AE971","v":0},{"$f":"AF964+AF968+AF971","v":0},0,0,0,0]
["26.1.1","Sendviči, pizze i ostala punjeni u pecivu proizvodi",{"$f":"C965+C966+C967","v":0},{"$f":"D965+D966+D967","v":0},0,0,0,{"$f":"H965+H966+H967","v":0},{"$f":"I965+I966+I967","v":0},0,0,0,0,0,0,0,0,0,0,0,0,0,0,0,0,0,0,0,{"$f":"AC965+AC966+AC967","v":0},{"$f":"AD965+AD966+AD967","v":0},{"$f":"AE965+AE966+AE967","v":0},{"$f":"AF965+AF966+AF967","v":0},0,0,0,0]
["26.1.1.1","Sendviči i sendvičima slični proizvodi"]
["26.1.1.2","Pizze i slični proizvodi"]
["26.1.1.3","Ostali proizvodi na bazi sendviča, pizza"]
["26.1.2","Jela na bazi paste, riže (ili drugih žitarica)",{"$f":"C969+C970","v":0},{"$f":"D969+D970","v":0},0,0,0,{"$f":"H969+H970","v":0},{"$f":"I969+I970","v":0},0,0,0,0,0,0,0,0,0,0,0,0,0,0,0,0,0,0,0,{"$f":"AC969+AC970","v":0},{"$f":"AD969+AD970","v":0},{"$f":"AE969+AE970","v":0},{"$f":"AF969+AF970","v":0},0,0,0,0]
["26.1.2.1","Jela na bazi paste"]
["26.1.2.2","Jela na bazi riže"]
["26.1.3","Ostala jela osim sendviča, pizze, paste i riže",{"$f":"C972+C973+C974+C975+C976+C977+C978","v":0},{"$f":"D972+D973+D974+D975+D976+D977+D978","v":0},0,0,0,{"$f":"H972+H973+H974+H975+H976+H977+H978","v":0},{"$f":"I972+I973+I974+I975+I976+I977+I978","v":0},0,0,0,0,0,0,0,0,0,0,0,0,0,0,0,0,0,0,0,{"$f":"AC972+AC973+AC974+AC975+AC976+AC977+AC978","v":0},{"$f":"AD972+AD973+AD974+AD975+AD976+AD977+AD978","v":0},{"$f":"AE972+AE973+AE974+AE975+AE976+AE977+AE978","v":0},{"$f":"AF972+AF973+AF974+AF975+AF976+AF977+AF978","v":0},0,0,0,0]
["26.1.3.1","Jela od mesa"]
["26.1.3.2","Jela od ribe i morskih plodova"]
["26.1.3.3","Jela od jaja"]
["26.1.3.4","Jela od leguminoza"]
["26.1.3.5","Jela od krompira"]
["26.1.3.6","Jela od gljiva"]
["26.1.3.7","Jela od povrća"]
["26.2","Supe i salate",{"$f":"C980+C983","v":0},{"$f":"D980+D983","v":0},0,0,0,0,{"$f":"I980+I983","v":0},0,0,0,0,0,0,0,0,0,0,0,0,0,0,0,0,0,0,0,{"$f":"AC980+AC983","v":0},{"$f":"AD980+AD983","v":0},{"$f":"AE980+AE983","v":0},{"$f":"AF980+AF983","v":0},0,0,0,0]
["26.2.1","Supe i čorbe",{"$f":"C981+C982","v":0},{"$f":"D981+D982","v":0},0,0,0,{"$f":"H981+H982","v":0},{"$f":"I981+I982","v":0},0,0,0,0,0,0,0,0,0,0,0,0,0,0,0,0,0,0,0,{"$f":"AC981+AC982","v":0},{"$f":"AD981+AD982","v":0},{"$f":"AE981+AE982","v":0},{"$f":"AF981+AF982","v":0},0,0,0,0]
["26.2.1.1","Supe (mješana dehidregovana nekuhana)"]
["26.2.1.2","Supe i čorbe (spremna za jelo)"]
["26.2.2","Salate"]
["26.3","Deserti i sladoledi",{"$f":"C985+C988","v":0},{"$f":"D985+D988","v":0},0,0,0,0,{"$f":"I985+I988","v":0},0,0,0,0,0,0,0,0,0,0,0,0,0,{"$f":"W985+W988","v":0},0,0,0,0,0,{"$f":"AC985+AC988","v":0},{"$f":"AD985+AD988","v":0},{"$f":"AE985+AE988","v":0},{"$f":"AF985+AF988","v":0},0,0,0,0]
["26.3.1","Slatki deserti na bazi vode",{"$f":"C986+C987","v":0},{"$f":"D986+D987","v":0},0,0,0,{"$f":"H986+H987","v":0},{"$f":"I986+I987","v":0},0,0,0,0,0,0,0,0,0,0,0,0,0,0,0,0,0,0,0,{"$f":"AC986+AC987","v":0},{"$f":"AD986+AD987","v":0},{"$f":"AE986+AE987","v":0},{"$f":"AF986+AF987","v":0},0,0,0,0]
["26.3.1.1","Desert na bazi vode koji se jede kašikom"]
["26.3.1.2","Sladoled na bazi vode"]
["26.3.2","Mliječni deserti i slični proizvodi",{"$f":"C989+C992","v":0},0,0,0,0,{"$f":"H989+H992","v":0},{"$f":"I989+I992","v":0},0,0,0,0,0,0,0,0,0,0,0,0,0,0,0,0,0,0,0,{"$f":"AC989+AC992","v":0},{"$f":"AD989+AD992","v":0},{"$f":"AE989+AE992","v":0},{"$f":"AF989+AF992","v":0},0,0,0,0]
["26.3.2.1","Mliječni deserti koji se jedu kašikom",{"$f":"C990+C991","v":0},{"$f":"D990+D991","v":0},0,0,0,{"$f":"H990+H991","v":0},{"$f":"I990+I991","v":0},0,0,0,0,0,0,0,0,0,0,0,0,0,0,0,0,0,0,0,{"$f":"AC990+AC991","v":0},{"$f":"AD990+AD991","v":0},{"$f":"AE990+AE991","v":0},{"$f":"AF990+AF991","v":0},0,0,0,0]
["26.3.2.1.1","Mliječni desert koji se jedu kašikom"]
["26.3.2.1.2","Smrznuti deserti"]
["26.3.2.2","Mliječni sladoledi ",{"$f":"C993+C994+C995+C996","v":0},{"$f":"D993+D994+D995+D996","v":0},0,0,0,{"$f":"H993+H994+H995+H996","v":0},{"$f":"I993+I994+I995+I996","v":0},0,0,0,0,0,0,0,0,0,0,0,0,0,0,0,0,0,0,0,{"$f":"AC993+AC994+AC995+AC996","v":0},{"$f":"AD993+AD994+AD995+AD996","v":0},{"$f":"AE993+AE994+AE995+AE996","v":0},{"$f":"AF993+AF994+AF995+AF996","v":0},0,0,0,0]
["26.3.2.2.1","Krem sladoled"]
["26.3.2.2.2","Sladoled"]
["26.3.2.2.3","Smrznuti aromatizovani desert"]
["26.3.2.2.4","Smrznuti voćni desert"]
["26.4","Pržene ili estrudirane žitarice ili proizvodi na bazi korjena ",{"$f":"C998+C999","v":0},{"$f":"D998+D999","v":0},0,0,0,0,{"$f":"I998+I999","v":0},0,0,0,0,0,0,0,0,0,0,0,0,0,0,0,0,0,0,0,{"$f":"AC998+AC999","v":0},{"$f":"AD998+AD999","v":0},{"$f":"AE998+AE999","v":0},{"$f":"AF998+AF999","v":0},0,0,0,0]
["26.4.1","Čips, krips, pomfrit i analozi na bazi tjesta"]
["26.4.2","Flips, snek proizvodi osim čipsa "]
["27","SO, SOSOVI, ZAČINI I OSTALI DODACI HRANI",{"$f":"C1001+C1004+C1011","v":0},{"$f":"D1001+D1004+D1011","v":0},0,0,0,{"$f":"H1001+H1004+H1011","v":0},{"$f":"I1001+I1004+I1011","v":0},0,0,0,0,0,0,0,0,0,0,0,0,0,0,0,0,0,0,0,{"$f":"AC1001+AC1004+AC1011","v":0},{"$f":"AD1001+AD1004+AD1011","v":0},{"$f":"AE1001+AE1004+AE1011","v":0},{"$f":"AF1001+AF1004+AF1011","v":0},0,0,0,0]
["27.1","So",{"$f":"C1002+C1003","v":0},{"$f":"D1002+D1003","v":0},0,0,0,{"$f":"H1002+H1003","v":0},{"$f":"I1002+I1003","v":0},0,0,0,0,0,0,0,0,0,0,0,0,0,0,0,0,0,0,0,{"$f":"AC1002+AC1003","v":0},{"$f":"AD1002+AD1003","v":0},{"$f":"AE1002+AE1003","v":0},{"$f":"AF1002+AF1003","v":0},0,0,0,0]
["27.1.1","So"]
["27.1.2","Morska so"]
["27.2","Začinske mješavine",{"$f":"C1005+C1006+C1007+C1008+C1009+C1010","v":0},{"$f":"D1005+D1006+D1007+D1008+D1009+D1010","v":0},0,0,0,{"$f":"H1005+H1006+H1007+H1008+H1009+H1010","v":0},{"$f":"I1005+I1006+I1007+I1008+I1009+I1010","v":0},0,0,0,0,0,0,0,0,0,0,0,0,0,0,0,0,0,0,0,{"$f":"AC1005+AC1006+AC1007+AC1008+AC1009+AC1010","v":0},{"$f":"AD1005+AD1006+AD1007+AD1008+AD1009+AD1010","v":0},{"$f":"AE1005+AE1006+AE1007+AE1008+AE1009+AE1010","v":0},{"$f":"AF1005+AF1006+AF1007+AF1008+AF1009+AF1010","v":0},0,0,0,0]
["27.2.1","Mješavine začina "]
["27.2.2","Kari u prahu"]
["27.2.3","Začinski buket"]
["27.2.4","Garam masala"]
["27.2.5","Mješavine začina i aditiva"]
["27.2.6","Ekstrakti začina"]
["27.3","Sočni ekstrakti i sastojci umaka",{"$f":"C1012+C1013+C1021+C1022+C1035","v":0},{"$f":"D1012+D1013+D1021+D1022+D1035","v":0},0,0,0,{"$f":"H1012+H1013+H1021+H1022+H1035","v":0},{"$f":"I1012+I1013+I1021+I1022+I1035","v":0},0,0,0,0,0,0,0,0,0,0,0,0,0,0,0,0,0,0,0,{"$f":"AC1012+AC1013+AC1021+AC1022+AC1035","v":0},{"$f":"AD1012+AD1013+AD1021+AD1022+AD1035","v":0},{"$f":"AE1012+AE1013+AE1021+AE1022+AE1035","v":0},{"$f":"AF1012+AF1013+AF1021+AF1022+AF1035","v":0},0,0,0,0]
["27.3.1","Sastojci umaka"]
["27.3.2","Dodaci hrani (condiments)",{"$f":"C1014+C1015+C1016+C1017+C1018+C1019+C1020","v":0},{"$f":"D1014+D1015+D1016+D1017+D1018+D1019+D1020","v":0},0,0,0,{"$f":"H1014+H1015+H1016+H1017+H1018+H1019+H1020","v":0},{"$f":"I1014+I1015+I1016+I1017+I1018+I1019+I1020","v":0},0,0,0,0,0,0,0,0,0,0,0,0,0,0,0,0,0,0,0,{"$f":"AC1014+AC1015+AC1016+AC1017+AC1018+AC1019+AC1020","v":0},{"$f":"AD1014+AD1015+AD1016+AD1017+AD1018+AD1019+AD1020","v":0},{"$f":"AE1014+AE1015+AE1016+AE1017+AE1018+AE1019+AE1020","v":0},{"$f":"AF1014+AF1015+AF1016+AF1017+AF1018+AF1019+AF1020","v":0},0,0,0,0]
["27.3.2.1","Sirće vinsko"]
["27.3.2.2","Vinsko sirće  "]
["27.3.2.3","Voćno sirće  "]
["27.3.2.4","Miješano voćno sirće  "]
["27.3.2.5","Alkoholno sirće  "]
["27.3.2.6","Aromatizovano sirće  "]
["27.3.2.7","Ostale vrste sirćeta "]
["27.3.3","Preljevi za salatu"]
["27.3.4","Sočni umaci",{"$f":"C1023+C1024+C1025+C1026+C1027+C1028+C1029+C1030+C1031+C1032+C1033+C1034","v":0},0,0,0,0,{"$f":"H1023+H1024+H1025+H1026+H1027+H1028+H1029+H1030+H1031+H1032+H1033+H1034","v":0},{"$f":"I1023+I1024+I1025+I1026+I1027+I1028+I1029+I1030+I1031+I1032+I1033+I1034","v":0},0,0,0,0,0,0,0,0,0,0,0,0,0,0,0,0,0,0,0,{"$f":"AC1023+AC1024+AC1025+AC1026+AC1027+AC1028+AC1029+AC1030+AC1031+AC1032+AC1033+AC1034","v":0},{"$f":"AD1023+AD1024+AD1025+AD1026+AD1027+AD1028+AD1029+AD1030+AD1031+AD1032+AD1033+AD1034","v":0},{"$f":"AE1023+AE1024+AE1025+AE1026+AE1027+AE1028+AE1029+AE1030+AE1031+AE1032+AE1033+AE1034","v":0},{"$f":"AF1023+AF1024+AF1025+AF1026+AF1027+AF1028+AF1029+AF1030+AF1031+AF1032+AF1033+AF1034","v":0},0,0,0,0]
["27.3.4.1","Majoneza"]
["27.3.4.2","Kečap"]
["27.3.4.3","Senf i srodni umaci"]
["27.3.4.4","Čisti umaci (kao soja umak, riblji umak)  "]
["27.3.4.5","Paradajz pire"]
["27.3.4.6","Tabasco umak"]
["27.3.4.7","Aioli umak"]
["27.3.4.8","Pesto umak"]
["27.3.4.9","Hren"]
["27.3.4.10","Šalša umak"]
["27.3.4.11","Ostali umaci"]
["27.3.4.12","Ajvar"]
["27.3.5","Desertni sosovi"]
["28","ŽIVOTINJSKE I BILJNE MASTI I ULJA I NJIHOVI PRIMARNI PROIZVODI",{"$f":"C1037+C1062+C1068","v":0},{"$f":"D1037+D1062+D1068","v":0},0,0,0,{"$f":"H1037+H1062+H1068","v":0},{"$f":"I1037+I1062+I1068","v":0},0,0,0,0,0,0,0,0,0,0,0,0,0,0,0,0,0,0,0,{"$f":"AC1037+AC1062+AC1068","v":0},{"$f":"AD1037+AD1062+AD1068","v":0},{"$f":"AE1037+AE1062+AE1068","v":0},{"$f":"AF1037+AF1062+AF1068","v":0},0,0,0,0]
["28.1","Biljna ulja i masti  ",{"$f":"C1038+C1051+C1058","v":0},{"$f":"D1038+D1051+D1058","v":0},0,0,0,{"$f":"H1038+H1051+H1058","v":0},{"$f":"I1038+I1051+I1058","v":0},0,0,0,0,0,0,0,0,0,0,0,0,0,0,0,0,0,0,0,{"$f":"AC1038+AC1051+AC1058","v":0},{"$f":"AD1038+AD1051+AD1058","v":0},{"$f":"AE1038+AE1051+AE1058","v":0},{"$f":"AF1038+AF1051+AF1058","v":0},0,0,0,0]
["28.1.1","Biljna ulja (hladno prešana, nerafinisana i rafinisana)  ",{"$f":"C1039+C1040+C1041+C1042+C1043+C1044+C1045+C1046+C1047+C1048+C1049+C1050","v":0},{"$f":"D1039+D1040+D1041+D1042+D1043+D1044+D1045+D1046+D1047+D1048+D1049+D1050","v":0},0,0,0,{"$f":"H1039+H1040+H1041+H1042+H1043+H1044+H1045+H1046+H1047+H1048+H1049+H1050","v":0},{"$f":"I1039+I1040+I1041+I1042+I1043+I1044+I1045+I1046+I1047+I1048+I1049+I1050","v":0},0,0,0,0,0,0,0,0,0,0,0,0,0,0,0,0,0,0,0,{"$f":"AC1039+AC1040+AC1041+AC1042+AC1043+AC1044+AC1045+AC1046+AC1047+AC1048+AC1049+AC1050","v":0},{"$f":"AD1039+AD1040+AD1041+AD1042+AD1043+AD1044+AD1045+AD1046+AD1047+AD1048+AD1049+AD1050","v":0},{"$f":"AE1039+AE1040+AE1041+AE1042+AE1043+AE1044+AE1045+AE1046+AE1047+AE1048+AE1049+AE1050","v":0},{"$f":"AF1039+AF1040+AF1041+AF1042+AF1043+AF1044+AF1045+AF1046+AF1047+AF1048+AF1049+AF1050","v":0},0,0,0,0]
["28.1.1.1","Arašidovo ulje: ulje dobiveno od plodova arašida (Arachis hypogaea L.)"]
["28.1.1.2","Tikvino ulje"]
["28.1.1.3","Sojino ulje"]
["28.1.1.4","Kukuruzno ulje"]
["28.1.1.5","Jestivo pamukovo ulje"]
["28.1.1.6","Ulje šafranike"]
["28.1.1.7","Sezamovo ulje"]
["28.1.1.8","Suncokretovo ulje"]
["28.1.1.9","Ulje iz grožđanih koštica"]
["28.1.1.10","Laneno ulje"]
["28.1.1.11","Ulje od uljane repice"]
["28.1.1.12","Druga ulja dobijena od sjemenki"]
["28.1.2","Maslinovo ulje  ",{"$f":"C1052+C1053+C1054+C1055+C1056+C1057","v":0},{"$f":"D1052+D1053+D1054+D1055+D1056+D1057","v":0},0,0,0,{"$f":"H1052+H1053+H1054+H1055+H1056+H1057","v":0},{"$f":"I1052+I1053+I1054+I1055+I1056+I1057","v":0},0,0,0,0,0,0,0,0,0,0,0,0,0,0,0,0,0,0,0,{"$f":"AC1052+AC1053+AC1054+AC1055+AC1056+AC1057","v":0},{"$f":"AD1052+AD1053+AD1054+AD1055+AD1056+AD1057","v":0},{"$f":"AE1052+AE1053+AE1054+AE1055+AE1056+AE1057","v":0},{"$f":"AF1052+AF1053+AF1054+AF1055+AF1056+AF1057","v":0},0,0,0,0]
["28.1.2.1","Djevičansko maslinovo ulje"]
["28.1.2.2","Rafinisano maslinovo ulje  "]
["28.1.2.3","Maslinovo ulje sastavljeno od rafiniranih maslinovih ulja i djevičanskih maslinovih ulja"]
["28.1.2.4","Sirovo ulje komine maslina"]
["28.1.2.5","Rafinisano ulje komine maslina"]
["28.1.2.6","Ulje komine maslina"]
["28.1.3","Ulja dobijena od ostalih biljki",{"$f":"C1059+C1060+C1061","v":0},{"$f":"D1059+D1060+D1061","v":0},0,0,0,{"$f":"H1059+H1060+H1061","v":0},{"$f":"I1059+I1060+I1061","v":0},0,0,0,0,0,0,0,0,0,0,0,0,0,0,0,0,0,0,0,{"$f":"AC1059+AC1060+AC1061","v":0},{"$f":"AD1059+AD1060+AD1061","v":0},{"$f":"AE1059+AE1060+AE1061","v":0},{"$f":"AF1059+AF1060+AF1061","v":0},0,0,0,0]
["28.1.3.1","Kokosovo ulje/masti"]
["28.1.3.2","Palmino ulje/masti"]
["28.1.3.3","Ulje palminih koštica"]
["28.2","Životinjska ulja i masti",{"$f":"C1063+C1064+C1065+C1066+C1067","v":0},{"$f":"D1063+D1064+D1065+D1066+D1067","v":0},0,0,0,{"$f":"H1063+H1064+H1065+H1066+H1067","v":0},{"$f":"I1063+I1064+I1065+I1066+I1067","v":0},0,0,0,0,0,0,0,0,0,0,0,0,0,0,0,0,0,0,0,{"$f":"AC1063+AC1064+AC1065+AC1066+AC1067","v":0},{"$f":"AD1063+AD1064+AD1065+AD1066+AD1067","v":0},{"$f":"AE1063+AE1064+AE1065+AE1066+AE1067","v":0},{"$f":"AF1063+AF1064+AF1065+AF1066+AF1067","v":0},0,0,0,0]
["28.2.1","Svinjska mast"]
["28.2.2","Loj preživara"]
["28.2.3","Masti peradi"]
["28.2.4","Masti i ulja od morskih životinja"]
["28.2.5","Emulzije masti i ulja"]
["28.3","Emulzije masti i mješane masti  ",{"$f":"C1069+C1071+C1076","v":0},{"$f":"D1069+D1071+D1076","v":0},0,0,0,{"$f":"H1069+H1071+H1076","v":0},{"$f":"I1069+I1071+I1076","v":0},0,0,0,0,0,0,0,0,0,0,0,0,0,0,0,0,0,0,0,{"$f":"AC1069+AC1071+AC1076","v":0},{"$f":"AD1069+AD1071+AD1076","v":0},{"$f":"AE1069+AE1071+AE1076","v":0},{"$f":"AF1069+AF1071+AF1076","v":0},0,0,0,0]
["28.3.1","Mliječne masti",{"$f":"C1070","v":0},{"$f":"D1070","v":0},0,0,0,0,{"$f":"I1070","v":0},0,0,0,0,0,0,0,0,0,0,0,0,0,0,0,0,0,0,0,{"$f":"AC1070","v":0},{"$f":"AD1070","v":0},{"$f":"AE1070","v":0},{"$f":"AF1070","v":0},0,0,0,0]
["28.3.1.1","Maslac kao namaz"]
["28.3.2","Masti",{"$f":"C1072+C1073+C1074+C1075","v":0},{"$f":"D1072+D1073+D1074+D1075","v":0},0,0,0,{"$f":"H1072+H1073+H1074+H1075","v":0},{"$f":"I1072+I1073+I1074+I1075","v":0},0,0,0,0,0,0,0,0,0,0,0,0,0,0,0,0,0,0,0,{"$f":"AC1072+AC1073+AC1074+AC1075","v":0},{"$f":"AD1072+AD1073+AD1074+AD1075","v":0},{"$f":"AE1072+AE1073+AE1074+AE1075","v":0},{"$f":"AF1072+AF1073+AF1074+AF1075","v":0},0,0,0,0]
["28.3.2.1","Margarin i slično"]
["28.3.2.2","Stolni margarin"]
["28.3.2.3","Mliječni margarin"]
["28.3.2.4","Obogaćeni margarin"]
["28.3.3","Masti sastavljene od biljnih i/ili životinjskih proizvoda",{"$f":"C1077","v":0},{"$f":"D1077","v":0},0,0,0,0,{"$f":"I1077","v":0},0,0,0,0,0,0,0,0,0,0,0,0,0,0,0,0,0,0,0,{"$f":"AC1077","v":0},{"$f":"AD1077","v":0},{"$f":"AE1077","v":0},{"$f":"AF1077","v":0},0,0,0,0]
["28.3.3.1","Mješani namaz"]
["29","ŠEĆERI I SLIČNI PROIZVODI ",{"$f":"C1079+C1090","v":0},{"$f":"D1079+D1090","v":0},0,0,0,{"$f":"H1079+H1090","v":0},{"$f":"I1079+I1090","v":0},0,0,0,0,0,0,0,0,0,0,0,0,0,0,0,0,0,0,0,{"$f":"AC1079+AC1090","v":0},{"$f":"AD1079+AD1090","v":0},{"$f":"AE1079+AE1090","v":0},{"$f":"AF1079+AF1090","v":0},0,0,0,0]
["29.1","Šećeri (mono i di-saharidi)",{"$f":"C1080+C1085","v":0},{"$f":"D1080+D1085","v":0},0,0,0,{"$f":"H1080+H1085","v":0},{"$f":"I1080+I1085","v":0},0,0,0,0,0,0,0,0,0,0,0,0,0,0,0,0,0,0,0,{"$f":"AC1080+AC1085","v":0},{"$f":"AD1080+AD1085","v":0},{"$f":"AE1080+AE1085","v":0},{"$f":"AF1080+AF1085","v":0},0,0,0,0]
["29.1.1","Saharoza",{"$f":"C1081+C1082+C1083+C1084","v":0},{"$f":"D1081+D1082+D1083+D1084","v":0},0,0,0,{"$f":"H1081+H1082+H1083+H1084","v":0},{"$f":"I1081+I1082+I1083+I1084","v":0},0,0,0,0,0,0,0,0,0,0,0,0,0,0,0,0,0,0,0,{"$f":"AC1081+AC1082+AC1083+AC1084","v":0},{"$f":"AD1081+AD1082+AD1083+AD1084","v":0},{"$f":"AE1081+AE1082+AE1083+AE1084","v":0},{"$f":"AF1081+AF1082+AF1083+AF1084","v":0},0,0,0,0]
["29.1.1.1","Šećer ili bijeli šećer"]
["29.1.1.2","Žuti šećer"]
["29.1.1.3","Smeđi šećer"]
["29.1.1.4","Šećer u prahu"]
["29.1.2","Mono i di-saharidi osim saharoze",{"$f":"C1086+C1087+C1088+C1089","v":0},{"$f":"D1086+D1087+D1088+D1089","v":0},0,0,0,{"$f":"H1086+H1087+H1088+H1089","v":0},{"$f":"I1086+I1087+I1088+I1089","v":0},0,0,0,0,0,0,0,0,0,0,0,0,0,0,0,0,0,0,0,{"$f":"AC1086+AC1087+AC1088+AC1089","v":0},{"$f":"AD1086+AD1087+AD1088+AD1089","v":0},{"$f":"AE1086+AE1087+AE1088+AE1089","v":0},{"$f":"AF1086+AF1087+AF1088+AF1089","v":0},0,0,0,0]
["29.1.2.1","Glukozni sirup"]
["29.1.2.2","Laktoza"]
["29.1.2.3","Dekstroza"]
["29.1.2.4","Maltoza"]
["29.2","Rastvor šećera i sirupa, takođe djelimično invertisani, uključujući i njihove sirupe i melase"]
["30","MED I OSTALI PČELINJI PROIZVODI",{"$f":"C1092+C1093+C1094+C1095+C1096","v":0},{"$f":"D1092+D1093+D1094+D1095+D1096","v":0},0,0,0,{"$f":"H1092+H1093+H1094+H1095+H1096","v":0},{"$f":"I1092+I1093+I1094+I1095+I1096","v":0},0,0,0,0,0,0,0,0,0,0,0,0,0,0,0,0,0,0,0,{"$f":"AC1092+AC1093+AC1094+AC1095+AC1096","v":0},{"$f":"AD1092+AD1093+AD1094+AD1095+AD1096","v":0},{"$f":"AE1092+AE1093+AE1094+AE1095+AE1096","v":0},{"$f":"AF1092+AF1093+AF1094+AF1095+AF1096","v":0},0,0,0,0]
["30.1","Monoflorni med"]
["30.2","Poliflorni med"]
["30.3","Medljikovac"]
["30.4","Mješani med"]
["30.5","Med u saću"]
["31","OSTALI IZOLOVANI PROČIŠĆENI PROIZVODI (aditivi, stoni zaslađivači, proteini, arome, enzimi, supstance za fortifikaciju)",{"$f":"C1098+C1102+C1106+C1111+C1136+C1155","v":0},{"$f":"D1098+D1102+D1106+D1111+D1136+D1155","v":0},0,0,{"$f":"G1098+G1102+G1106+G1111+G1136+G1155","v":0},{"$f":"H1098+H1102+H1106+H1111+H1136+H1155","v":0},{"$f":"I1098+I1102+I1106+I1111+I1136+I1155","v":0},0,0,0,0,0,0,0,0,0,0,0,0,0,0,0,0,0,0,0,{"$f":"AC1098+AC1102+AC1106+AC1111+AC1136+AC1155","v":0},{"$f":"AD1098+AD1102+AD1106+AD1111+AD1136+AD1155","v":0},{"$f":"AE1098+AE1102+AE1106+AE1111+AE1136+AE1155","v":0},{"$f":"AF1098+AF1102+AF1106+AF1111+AF1136+AF1155","v":0},0,0,0,0]
["31.1","STONI ZASLAĐIVAČI",{"$f":"C1099+C1100+C1101","v":0},{"$f":"D1099+D1100+D1101","v":0},0,0,0,0,{"$f":"I1099+I1100+I1101","v":0},0,0,0,0,0,0,0,0,0,0,0,0,0,0,0,0,0,0,0,{"$f":"AC1099+AC1100+AC1101","v":0},{"$f":"AD1099+AD1100+AD1101","v":0},{"$f":"AE1099+AE1100+AE1101","v":0},{"$f":"AF1099+AF1100+AF1101","v":0},0,0,0,0]
["31.1.1","Stoni zaslađivači u tečnoj formulaciji"]
["31.1.2","Stoni zaslađivači u obliku tableta"]
["31.1.3","Stoni zaslađivači u obliku praha"]
["31.2","SKROBOVI",{"$f":"C1103+C1104+C1105","v":0},{"$f":"D1103+D1104+D1105","v":0},0,0,{"$f":"G1103+G1104+G1105","v":0},0,{"$f":"I1103+I1104+I1105","v":0},0,0,0,0,0,0,0,0,0,0,0,0,0,0,0,0,0,0,0,{"$f":"AC1103+AC1104+AC1105","v":0},{"$f":"AD1103+AD1104+AD1105","v":0},{"$f":"AE1103+AE1104+AE1105","v":0},{"$f":"AF1103+AF1104+AF1105","v":0},0,0,0,0]
["31.2.1","Kukuruzni skrob"]
["31.2.2","Krompirov skrob"]
["31.2.3","Pšenični skrob"]
["31.3","IZOLOVANI PROTEINI I OSTALI PROTEINSKI PROIZVODI",{"$f":"C1107+C1108+C1109+C1110","v":0},{"$f":"D1107+D1108+D1109+D1110","v":0},0,0,{"$f":"G1107+G1108+G1109+G1110","v":0},0,{"$f":"I1107+I1108+I1109+I1110","v":0},0,0,0,0,0,0,0,0,0,0,0,0,0,0,0,0,0,0,0,{"$f":"AC1107+AC1108+AC1109+AC1110","v":0},{"$f":"AD1107+AD1108+AD1109+AD1110","v":0},{"$f":"AE1107+AE1108+AE1109+AE1110","v":0},{"$f":"AF1107+AF1108+AF1109+AF1110","v":0},0,0,0,0]
["31.3.1","Protein iz mlijeka"]
["31.3.2","Protein iz surutke"]
["31.3.3","Sojin protein"]
["31.3.4","Želatin"]
["31.4","PREHRAMBENI ADITIVI I AROME ",{"$f":"C1112+C1113+C1114+C1135","v":0},0,0,0,{"$f":"G1112+G1113+G1114+G1135","v":0},0,{"$f":"I1112+I1113+I1114+I1135","v":0},0,0,0,0,0,0,0,0,0,0,0,0,0,0,0,0,0,0,0,{"$f":"AC1112+AC1113+AC1114+AC1135","v":0},{"$f":"AD1112+AD1113+AD1114+AD1135","v":0},{"$f":"AE1112+AE1113+AE1114+AE1135","v":0},{"$f":"AF1112+AF1113+AF1114+AF1135","v":0},0,0,0,0]
["31.4.1","Prehrambene boje"]
["31.4.2","Zaslađivači"]
["31.4.3","Prehrambeni aditivi osim boja i zaslađivača",{"$f":"C1115+C1116+C1117+C1118+C1119+C1120+C1121+C1122+C1123+C1124+C1125+C1126+C1127+C1128+C1129+C1130+C1131+C1132+C1133+C1134","v":0},{"$f":"D1115+D1116+D1117+D1118+D1119+D1120+D1121+D1122+D1123+D1124+D1125+D1126+D1127+D1128+D1129+D1130+D1131+D1132+D1133+D1134","v":0},0,0,{"$f":"G1115+G1116+G1117+G1118+G1119+G1120+G1121+G1122+G1123+G1124+G1125+G1126+G1127+G1128+G1129+G1130+G1131+G1132+G1133+G1134","v":0},0,{"$f":"I1115+I1116+I1117+I1118+I1119+I1120+I1121+I1122+I1123+I1124+I1125+I1126+I1127+I1128+I1129+I1130+I1131+I1132+I1133+I1134","v":0},0,0,0,0,0,0,0,0,0,0,0,0,0,0,0,0,0,0,0,{"$f":"AC1115+AC1116+AC1117+AC1118+AC1119+AC1120+AC1121+AC1122+AC1123+AC1124+AC1125+AC1126+AC1127+AC1128+AC1129+AC1130+AC1131+AC1132+AC1133+AC1134","v":0},{"$f":"AD1115+AD1116+AD1117+AD1118+AD1119+AD1120+AD1121+AD1122+AD1123+AD1124+AD1125+AD1126+AD1127+AD1128+AD1129+AD1130+AD1131+AD1132+AD1133+AD1134","v":0},{"$f":"AE1115+AE1116+AE1117+AE1118+AE1119+AE1120+AE1121+AE1122+AE1123+AE1124+AE1125+AE1126+AE1127+AE1128+AE1129+AE1130+AE1131+AE1132+AE1133+AE1134","v":0},{"$f":"AF1115+AF1116+AF1117+AF1118+AF1119+AF1120+AF1121+AF1122+AF1123+AF1124+AF1125+AF1126+AF1127+AF1128+AF1129+AF1130+AF1131+AF1132+AF1133+AF1134","v":0},0,0,0,0]
["31.4.3.1","Konzervansi  "]
["31.4.3.2","Antioksidansi  "]
["31.4.3.3","Emulgatori i emulgatorske soli  "]
["31.4.3.4","Učvršćivači"]
["31.4.3.5","Zgušnjivači  "]
["31.4.3.6","Sredstva za želiranje"]
["31.4.3.7","Kiseline "]
["31.4.3.8","Regulatori kiselosti"]
["31.4.3.9","Sredstva protiv zgrudnjavanja"]
["31.4.3.10","Pojačivači arome  "]
["31.4.3.11","Sredstva za povećanje zapremine"]
["31.4.3.12","Sredstva protiv stvaranja pjene"]
["31.4.3.13","Sredstva za poliranje"]
["31.4.3.14","Sredstva za tretiranje brašna"]
["31.4.3.15","Učvršćivači  "]
["31.4.3.16","Propelenti"]
["31.4.3.17","Povečivaći zapremine  "]
["31.4.3.18","Sredstva za regulisanje vlažnosti"]
["31.4.3.19","Sredstva za dizanje tjesta"]
["31.4.3.20","Modifikovani skrobovi"]
["31.4.4","Arome  "]
["31.5","SUPSTANCE ZA FORTIFIKACIJU/OBOGAĆIVANJE HRANE",{"$f":"C1137+C1138+C1139+C1142+C1143+C1147+C1148+C1149+C1154","v":0},{"$f":"D1137+D1138+D1139+D1142+D1143+D1147+D1148+D1149+D1154","v":0},0,0,0,0,{"$f":"I1137+I1138+I1139+I1142+I1143+I1147+I1148+I1149+I1154","v":0},0,0,0,0,0,0,0,0,0,0,0,0,0,0,0,0,0,0,0,{"$f":"AC1137+AC1138+AC1139+AC1142+AC1143+AC1147+AC1148+AC1149+AC1154","v":0},{"$f":"AD1137+AD1138+AD1139+AD1142+AD1143+AD1147+AD1148+AD1149+AD1154","v":0},{"$f":"AE1137+AE1138+AE1139+AE1142+AE1143+AE1147+AE1148+AE1149+AE1154","v":0},{"$f":"AF1137+AF1138+AF1139+AF1142+AF1143+AF1147+AF1148+AF1149+AF1154","v":0},0,0,0,0]
["31.5.1","Vitamini"]
["31.5.2","Hemijski elementi"]
["31.5.3","Specijalne masne kiseline",{"$f":"C1140+C1141","v":0},{"$f":"D1140+D1141","v":0},0,0,0,0,{"$f":"I1140+I1141","v":0},0,0,0,0,0,0,0,0,0,0,0,0,0,0,0,0,0,0,0,{"$f":"AC1140+AC1141","v":0},{"$f":"AD1140+AD1141","v":0},{"$f":"AE1140+AE1141","v":0},{"$f":"AF1140+AF1141","v":0},0,0,0,0]
["31.5.3.1","Omega 3-masna kiselina"]
["31.5.3.2","Omega 6-masna kiselina"]
["31.5.4","Dijetalna vlakna"]
["31.5.5","Fitohemikalije",{"$f":"C1144+C1145+C1146","v":0},0,0,0,0,0,{"$f":"I1144+I1145+I1146","v":0},0,0,0,0,0,0,0,0,0,0,0,0,0,0,0,0,0,0,0,{"$f":"AC1144+AC1145+AC1146","v":0},{"$f":"AD1144+AD1145+AD1146","v":0},{"$f":"AE1144+AE1145+AE1146","v":0},{"$f":"AF1144+AF1145+AF1146","v":0},0,0,0,0]
["31.5.5.1","Fitosteroli"]
["31.5.5.2","Polifenoli"]
["31.5.5.3","Karetinoidi"]
["31.5.6","Supstance na bazi algi za fortifikaciju/obogaćivanje hrane"]
["31.5.7","Kafein"]
["31.5.8","Pčelinji proizvodi koji se koriste za obogaćivanje hrane",{"$f":"C1150+C1151+C1152+C1153","v":0},0,0,0,0,0,{"$f":"I1150+I1151+I1152+I1153","v":0},0,0,0,0,0,0,0,0,0,0,0,0,0,0,0,0,0,0,0,{"$f":"AC1150+AC1151+AC1152+AC1153","v":0},{"$f":"AD1150+AD1151+AD1152+AD1153","v":0},{"$f":"AE1150+AE1151+AE1152+AE1153","v":0},{"$f":"AF1150+AF1151+AF1152+AF1153","v":0},0,0,0,0]
["31.5.8.1","Polen"]
["31.5.8.2","Matična mliječ"]
["31.5.8.3","Propolis"]
["31.5.8.4","Ostali jestivi proizvodi pčela"]
["31.5.9","Ko-faktori metabolizma"]
["31.6","MIKROBIOLOŠKI ILI ENZIMSKI PREPARATI",{"$f":"C1156+C1160","v":0},0,0,0,0,0,{"$f":"I1156+I1160","v":0},0,0,0,0,0,0,0,0,0,0,0,0,0,0,0,0,0,0,0,{"$f":"AC1156+AC1160","v":0},{"$f":"AD1156+AD1160","v":0},{"$f":"AE1156+AE1160","v":0},{"$f":"AF1156+AF1160","v":0},0,0,0,0]
["31.6.1","Živi mikroorganizmi za proizvodnju hrane",{"$f":"C1157+C1158+C1159","v":0},0,0,0,0,0,{"$f":"I1157+I1158+I1159","v":0},0,0,0,0,0,0,0,0,0,0,0,0,0,0,0,0,0,0,0,{"$f":"AC1157+AC1158+AC1159","v":0},{"$f":"AD1157+AD1158+AD1159","v":0},{"$f":"AE1157+AE1158+AE1159","v":0},{"$f":"AF1157+AF1158+AF1159","v":0},0,0,0,0]
["31.6.1.1","Starter kulture"]
["31.6.1.2","Kvasci"]
["31.6.1.3","Kulture gljiva"]
["31.6.2","Enzimi koji se koriste u proizvodnji hrane"]
[null,null,{"$f":"C3+C33+C74+C186+C203+C299+C320+C347+C354+C366+C439+C516+C678+C704+C711+C715+C763+C786+C804+C816+C864+C881+C912+C948+C957+C962+C1000+C1036+C1078+C1091+C1097","v":0},{"$f":"D3+D33+D74+D186+D203+D299+D320+D347+D354+D366+D439+D516+D678+D704+D711+D715+D763+D786+D804+D816+D864+D881+D912+D948+D957+D962+D1000+D1036+D1078+D1091+D1097","v":0},{"$f":"E3+E33+E74+E186+E203+E299+E320+E347+E354+E366+E439+E516+E678+E704+E711+E715+E763+E786+E804+E816+E864+E881+E912+E948+E957+E962+E1000+E1036+E1078+E1091+E1097","v":0},{"$f":"F3+F33+F74+F186+F203+F299+F320+F347+F354+F366+F439+F516+F678+F704+F711+F715+F763+F786+F804+F816+F864+F881+F912+F948+F957+F962+F1000+F1036+F1078+F1091+F1097","v":0},0,0,{"$f":"I3+I33+I74+I186+I203+I299+I320+I347+I354+I366+I439+I516+I678+I704+I711+I715+I763+I786+I804+I816+I864+I881+I912+I948+I957+I962+I1000+I1036+I1078+I1091+I1097","v":0},0,0,0,0,0,0,0,0,0,0,0,0,0,0,0,0,0,0,0,{"$f":"AC3+AC33+AC74+AC186+AC203+AC299+AC320+AC347+AC354+AC366+AC439+AC516+AC678+AC704+AC711+AC715+AC763+AC786+AC804+AC816+AC864+AC881+AC912+AC948+AC957+AC962+AC1000+AC1036+AC1078+AC1091+AC1097","v":0},{"$f":"AD3+AD33+AD74+AD186+AD203+AD299+AD320+AD347+AD354+AD366+AD439+AD516+AD678+AD704+AD711+AD715+AD763+AD786+AD804+AD816+AD864+AD881+AD912+AD948+AD957+AD962+AD1000+AD1036+AD1078+AD1091+AD1097","v":0},{"$f":"AE3+AE33+AE74+AE186+AE203+AE299+AE320+AE347+AE354+AE366+AE439+AE516+AE678+AE704+AE711+AE715+AE763+AE786+AE804+AE816+AE864+AE881+AE912+AE948+AE957+AE962+AE1000+AE1036+AE1078+AE1091+AE1097","v":0},{"$f":"AF3+AF33+AF74+AF186+AF203+AF299+AF320+AF347+AF354+AF366+AF439+AF516+AF678+AF704+AF711+AF715+AF763+AF786+AF804+AF816+AF864+AF881+AF912+AF948+AF957+AF962+AF1000+AF1036+AF1078+AF1091+AF1097","v":0},0,0,0,0]

{"sheet":"REZIME","index":3,"n_rows":14,"n_cols":4,"rows_kept":14,"cut":false,"hidden":false,"merged":[]}
[null,{"$f":"POCETAK!B1","v":"Vrsta analiza"},{"$f":"POCETAK!C1","v":0}]
[null,{"$f":"POCETAK!B2","v":"Godina Izvještavanja"},{"$f":"POCETAK!C2","v":0}]
[null,{"$f":"POCETAK!B3","v":"Vrsta uzorka"},{"$f":"POCETAK!C3","v":0}]
[null,{"$f":"POCETAK!B4","v":"Laboratorija"},{"$f":"POCETAK!C4","v":0}]
[null,{"$f":"POCETAK!B5","v":"Vrsta izvještaja"},{"$f":"POCETAK!C5","v":0}]
[null,{"$f":"POCETAK!B6","v":"Izvještajni period"},{"$f":"POCETAK!C6","v":0}]
[]
[null,"Ukupan broj uzoraka:",0]
[null,"Ukupan broj neodgovarajucih:",0]
[null,"Ukupan broj analiza:",0]
[null,"Ukupan broj neodgovarajucih:",0]
[]
[]
[null,"Naziv kategorije","Ukupno analiza","Neodgovarajuci"]

{"sheet":"GODINA","index":4,"n_rows":11,"n_cols":2,"rows_kept":11,"cut":false,"hidden":true,"merged":[]}
[]
[null,2026]
[null,2027]
[null,2028]
[null,2029]
[null,2030]
[null,2031]
[null,2032]
[null,2033]
[null,2034]
[null,2035]

{"sheet":"Program kontrole","index":5,"n_rows":3,"n_cols":2,"rows_kept":3,"cut":false,"hidden":true,"merged":[]}
[]
[null,"SLUŽBENA KONTROLA"]
[null,"OSTALO"]

{"sheet":"Laboratorije","index":6,"n_rows":38,"n_cols":2,"rows_kept":38,"cut":false,"hidden":true,"merged":[]}
[]
[1,"Control-H d.o.o. Mostar"]
[2,"Euro Inspekt, d.o.o Osječani Doboj"]
[3,"Euro Inspekt, d.o.o Sarajevo"]
[4,"Federalni agromediteranski zavod, Mostar "]
[5,"Federalni zavod za javno zdravstvo OJ Mostar"]
[6,"Federalni zavod za javno zdravstvo OJ Sarajevo"]
[7,"Federalni zavod za poljoprivredu Sarajevo"]
[8,"Herkon d.o.o. Mostar"]
[9,"Inspekt RGH d.o.o. Sarajevo"]
[10,"Institut za vode d.o.o. Bijeljina"]
[11,"JU Poljoprivredni institut Republike Srpske, Banja Luka"]
[12,"JU \"Veterinarski zavod HNK/Ž\" Mostar"]
[13,"JU \"Veterinarski zavod Tuzlanskog kantona\" Tuzla"]
[14,"JU \"Veterinarski zavod\" Bihać"]
[15,"JU Institut za zdravlje i sigurnost hrane Zenica"]
[16,"JZU\"Institut za javno zdravstvo RS\" Banja Luka"]
[17,"Odjel za Javno zdravstvo Brčko distrikta BiH "]
[18,"KJP \"Kantonalna veterinarska stanica\" Sarajevo"]
[19,"Pharmammed d.o.o. Travnik"]
[20,"Poljoprivredni zavod Unsko-sanskog kantona, Bihać"]
[21,"PU Institut za biomedicinsku dijagnostiku i istraživanja \"GENOM\", Travnika"]
[22,"Sistem Qualitas d.o.o. Pale"]
[23,"Slaven d.o.o. Veterinarski zavod"]
[24,"Veterinarski institut RS \"dr. Vaso Butozan\" Banja  Luka"]
[25,"Veterinarski laboratorij “MULTI LAB” d.o.o. Tuzla"]
[26,"Veterinarski zavod \"TEOLAB\" Dvorovi Bijeljina"]
[27,"Veterinarski fakultet Univerziteta u Sarajevu"]
[28,"Zagreb inspekt d.o.o. Mostar "]
[29,"Zavod za hranu i veterinarstvo Hercegbosanske županije"]
[30,"Zavod za javno zdravstvo Bosansko-podrinjskog kantona, Goražde"]
[31,"Zavod za javno zdravstvo HNK, Mostar"]
[32,"Zavod za javno zdravstvo Kantona Sarajevo"]
[33,"Zavod za javno zdravstvo SBK/KSB Travnik"]
[34,"Zavod za javno zdravstvo Tuzlanskog kantona, Tuzla"]
[35,"Zavod za javno zdravstvo Unsko-sanskog kantona, Bihać"]
[36,"Zavod za javno zdravstvo Posavskog kantona, Orašje"]
[37,"Zavod za javno zdravstvo Zapadno-hercegovačke županije, Grude"]

{"sheet":"Vrijeme","index":7,"n_rows":14,"n_cols":4,"rows_kept":14,"cut":false,"hidden":true,"merged":[]}
[]
["Mjesečni","Mjesec","Kvartal","Godišnji"]
["Kvartalni","Januar","I kvartal",2026]
["Godišnji","Februar","II Kvartal",2027]
[null,"Mart","III kvartal",2028]
[null,"April","IV Kvartal",2029]
[null,"Maj",null,2030]
[null,"Jun",null,2031]
[null,"Jul",null,2032]
[null,"Avgust",null,2033]
[null,"Septembar",null,2034]
[null,"Oktobar",null,2035]
[null,"Novembar"]
[null,"Decembar"]